BEGIN:VCALENDAR
VERSION:2.0
PRODID:-//koelner-stadtteilliebe - ECPv6.15.20//NONSGML v1.0//EN
CALSCALE:GREGORIAN
METHOD:PUBLISH
X-ORIGINAL-URL:https://koelner-stadtteilliebe.de
X-WR-CALDESC:Veranstaltungen für koelner-stadtteilliebe
REFRESH-INTERVAL;VALUE=DURATION:PT1H
X-Robots-Tag:noindex
X-PUBLISHED-TTL:PT1H
BEGIN:VTIMEZONE
TZID:Europe/Berlin
BEGIN:DAYLIGHT
TZOFFSETFROM:+0100
TZOFFSETTO:+0200
TZNAME:CEST
DTSTART:20250330T010000
END:DAYLIGHT
BEGIN:STANDARD
TZOFFSETFROM:+0200
TZOFFSETTO:+0100
TZNAME:CET
DTSTART:20251026T010000
END:STANDARD
BEGIN:DAYLIGHT
TZOFFSETFROM:+0100
TZOFFSETTO:+0200
TZNAME:CEST
DTSTART:20260329T010000
END:DAYLIGHT
BEGIN:STANDARD
TZOFFSETFROM:+0200
TZOFFSETTO:+0100
TZNAME:CET
DTSTART:20261025T010000
END:STANDARD
BEGIN:DAYLIGHT
TZOFFSETFROM:+0100
TZOFFSETTO:+0200
TZNAME:CEST
DTSTART:20270328T010000
END:DAYLIGHT
BEGIN:STANDARD
TZOFFSETFROM:+0200
TZOFFSETTO:+0100
TZNAME:CET
DTSTART:20271031T010000
END:STANDARD
END:VTIMEZONE
BEGIN:VEVENT
DTSTART;TZID=Europe/Berlin:20260126T133000
DTEND;TZID=Europe/Berlin:20260126T153000
DTSTAMP:20260424T173540
CREATED:20251221T123828Z
LAST-MODIFIED:20251221T123828Z
UID:112639-1769434200-1769441400@koelner-stadtteilliebe.de
SUMMARY:Komm lass uns spielen
DESCRIPTION:Ob jung oder alt\, Brettspiel-Fan oder Kartenspiel-König – Geselligkeit\, Spaß und ein bisschen Denksport\, beim wöchentlichen Spielenachmittag in der Villa AWO Köln-Rodenkirchen (Walther-Rathenau-Str. 9) sind vom Kind bis zum ältesten Senior alle herzlich willkommen! Immer montags von 13:30 bis 15:30 Uhr treffen sich Spielbegeisterte in jedem Alter in entspannter Atmosphäre in der Walther-Rathenau-Straße 9\, um gemeinsam zu lachen\, zu spielen und um Kontakte zu knüpfen. Egal ob Klassiker wie Memory\, Mensch ärgere dich nicht\, Mühle\, Karten- oder Brettspiele – alles kann gespielt und mitgebracht werden. Der Spielenachmittag ist ideal für alle\, die Gemeinschaft lieben und im gemütlichen Ambiente netten Menschen aus dem Stadtteil treffen wollen.
URL:https://koelner-stadtteilliebe.de/veranstaltungen-events/komm-lass-uns-spielen-5/
LOCATION:Villa AWO\, Walter-Rathenau-Str. 9\, Köln-Rodenkirchen\, 50996
ATTACH;FMTTYPE=image/png:https://koelner-stadtteilliebe.de/wp-content/uploads/2026/03/Hintergrund-Fruehling-2026.png
END:VEVENT
BEGIN:VEVENT
DTSTART;TZID=Europe/Berlin:20260126T140000
DTEND;TZID=Europe/Berlin:20260126T153000
DTSTAMP:20260424T173540
CREATED:20260111T121653Z
LAST-MODIFIED:20260111T121653Z
UID:115146-1769436000-1769441400@koelner-stadtteilliebe.de
SUMMARY:Montagstreff für Senioren im Zollstocker Bürgerhaus
DESCRIPTION:Der Montagstreff für Seniorinnen und Senioren im Zollstocker Bürgerhaus\, Rosenzweigweg 1\, lädt herzlich zu gemütlichen und abwechslungsreichen Treffen ein. In angenehmer Atmosphäre gibt es bei jedem Termin ein schönes Thema\, das zum Austausch und Miteinander einlädt. Die Treffen finden am 12.1.\, 26.1.\, 09.2.\, 23.2. und 9.3. jeweils um 14 Uhr statt. Eine Ausnahme bildet der Termin am 23.03.\, der bereits um 13 Uhr beginnt. Eine Anmeldung ist nicht erforderlich\, die Teilnahme ist kostenfrei und sowohl allein als auch in Begleitung möglich. Einfach vorbeikommen und gemeinsam eine schöne Zeit verbringen – alle sind herzlich willkommen. 
URL:https://koelner-stadtteilliebe.de/veranstaltungen-events/montagstreff-fuer-senioren-im-zollstocker-buergerhaus-2/
LOCATION:Zollstocker Bürgerhaus\, Rosezweigweg 1\, Köln\, 50969
ATTACH;FMTTYPE=image/png:https://koelner-stadtteilliebe.de/wp-content/uploads/2026/03/Hintergrund-Fruehling-2026.png
END:VEVENT
BEGIN:VEVENT
DTSTART;TZID=Europe/Berlin:20260126T153000
DTEND;TZID=Europe/Berlin:20260126T170000
DTSTAMP:20260424T173540
CREATED:20251202T075134Z
LAST-MODIFIED:20251202T075134Z
UID:110790-1769441400-1769446800@koelner-stadtteilliebe.de
SUMMARY:Spielen und Basteln für Kinder von 6 bis 8 Jahren
DESCRIPTION:Jeden Montag (außer in den Ferien) um 15:30 Uhr findet im Clubraum des Pfarrheims St. Remigius in Sürth ein liebevoll gestaltetes Spielen und Basteln für Kinder von 6 bis 8 Jahren statt. Die Kinder können dabei in einer kreativen Umgebung gemeinsam gestalten\, malen\, schneiden\, kleben und ihrer Fantasie freien Lauf lassen. Das Angebot fördert nicht nur die Kreativität\, sondern auch soziale Fähigkeiten und die Freude am gemeinsamen Entdecken. \nDie Teilnahme ist ideal für Familien\, die eine abwechslungsreiche und pädagogisch wertvolle Freizeitaktivität in Sürth und Umgebung suchen. \nAnmeldung unter:Allemiteinanderremigius@rheinbogen-kirche.de
URL:https://koelner-stadtteilliebe.de/veranstaltungen-events/spielen-und-basteln-fuer-kinder-von-6-bis-8-jahren-6/
LOCATION:Pfarrheim St. Remigius\, Sürther Hauptstr. 130a\, Köln-Sürth\, 50999
ATTACH;FMTTYPE=image/png:https://koelner-stadtteilliebe.de/wp-content/uploads/2026/03/Hintergrund-Fruehling-2026.png
END:VEVENT
BEGIN:VEVENT
DTSTART;TZID=Europe/Berlin:20260126T190000
DTEND;TZID=Europe/Berlin:20260126T210000
DTSTAMP:20260424T173540
CREATED:20260109T164535Z
LAST-MODIFIED:20260109T164535Z
UID:114973-1769454000-1769461200@koelner-stadtteilliebe.de
SUMMARY:Literatur in Rondorf
DESCRIPTION:
URL:https://koelner-stadtteilliebe.de/veranstaltungen-events/literatur-in-rondorf/
LOCATION:Kath. Kirchengemeinde Heilige Drei Könige\, Hahnenstr. 21\, Köln\, 50997
ATTACH;FMTTYPE=image/png:https://koelner-stadtteilliebe.de/wp-content/uploads/2026/03/Hintergrund-Fruehling-2026.png
END:VEVENT
END:VCALENDAR