BEGIN:VCALENDAR
VERSION:2.0
PRODID:-//koelner-stadtteilliebe - ECPv6.15.20//NONSGML v1.0//EN
CALSCALE:GREGORIAN
METHOD:PUBLISH
X-ORIGINAL-URL:https://koelner-stadtteilliebe.de
X-WR-CALDESC:Veranstaltungen für koelner-stadtteilliebe
REFRESH-INTERVAL;VALUE=DURATION:PT1H
X-Robots-Tag:noindex
X-PUBLISHED-TTL:PT1H
BEGIN:VTIMEZONE
TZID:Europe/Berlin
BEGIN:DAYLIGHT
TZOFFSETFROM:+0100
TZOFFSETTO:+0200
TZNAME:CEST
DTSTART:20250330T010000
END:DAYLIGHT
BEGIN:STANDARD
TZOFFSETFROM:+0200
TZOFFSETTO:+0100
TZNAME:CET
DTSTART:20251026T010000
END:STANDARD
BEGIN:DAYLIGHT
TZOFFSETFROM:+0100
TZOFFSETTO:+0200
TZNAME:CEST
DTSTART:20260329T010000
END:DAYLIGHT
BEGIN:STANDARD
TZOFFSETFROM:+0200
TZOFFSETTO:+0100
TZNAME:CET
DTSTART:20261025T010000
END:STANDARD
BEGIN:DAYLIGHT
TZOFFSETFROM:+0100
TZOFFSETTO:+0200
TZNAME:CEST
DTSTART:20270328T010000
END:DAYLIGHT
BEGIN:STANDARD
TZOFFSETFROM:+0200
TZOFFSETTO:+0100
TZNAME:CET
DTSTART:20271031T010000
END:STANDARD
END:VTIMEZONE
BEGIN:VEVENT
DTSTART;TZID=Europe/Berlin:20260128T090000
DTEND;TZID=Europe/Berlin:20260128T120000
DTSTAMP:20260424T110739
CREATED:20251221T212645Z
LAST-MODIFIED:20251221T212645Z
UID:113918-1769590800-1769601600@koelner-stadtteilliebe.de
SUMMARY:Nähkurs in Meschenich – Mit Herz\, Freude und Kreativität
DESCRIPTION:Nähkurs in Meschenich – Mit Herz\, Freude und Kreativität \nDu hast Lust\, mit Nadel und Faden kreativ zu werden – und das in entspannter\, herzlicher Gesellschaft? Dann bist Du herzlich eingeladen zum Nähkurs in der Thomas Begegnungsstätte in Meschenich! Jeden Mittwoch und Freitag von 9 bis 12 Uhr treffen sich hier Menschen\, die die Freude am Nähen teilen – ganz egal\, ob Anfängerin oder Fortgeschrittener. In der gemütlichen Runde in der Raiffeisenstraße 7\, 50997 Köln\, entstehen mit viel Liebe zum Detail die unterschiedlichsten Projekte: von individuellen Kleidungsstücken über fantasievolle Karnevalskostüme bis zu dekorativen Wohnaccessoires. Dabei wird nicht nur genäht\, sondern auch gelacht\, geplaudert und Wissen geteilt. Tipps und Tricks werden weitergegeben\, Ideen wachsen gemeinsam – und manchmal entstehen dabei auch neue Freundschaften. Der Kurs bietet die perfekte Gelegenheit\, in die Welt des Nähens einzutauchen oder vorhandene Kenntnisse zu vertiefen – ganz ohne Druck\, aber mit umso mehr Freude. Komm vorbei\, mach mit und entdecke\, wie viel Spaß gemeinsames Nähen machen kann! Ein ähnliches Angebot gibt es auch in der Stadtbibliothek Rodenkirchen auf der Schillingsrotter Str. 38. und in Köln- Weiß bei der Kirche.
URL:https://koelner-stadtteilliebe.de/veranstaltungen-events/naehkurs-in-meschenich-mit-herz-freude-und-kreativitaet-7/
LOCATION:Begegnungsstätte Thomas\, Raiffeisenstr. 7\, Köln-Meschenich\, 50997
ATTACH;FMTTYPE=image/png:https://koelner-stadtteilliebe.de/wp-content/uploads/2026/03/Hintergrund-Fruehling-2026.png
END:VEVENT
BEGIN:VEVENT
DTSTART;TZID=Europe/Berlin:20260128T170000
DTEND;TZID=Europe/Berlin:20260128T170000
DTSTAMP:20260424T110739
CREATED:20251027T065236Z
LAST-MODIFIED:20251027T065236Z
UID:108699-1769619600-1769619600@koelner-stadtteilliebe.de
SUMMARY:Kneipenkonzert in der Quetsch
DESCRIPTION:
URL:https://koelner-stadtteilliebe.de/veranstaltungen-events/kneipenkonzert-in-der-quetsch/
LOCATION:Brauhaus Quetsch\, Hauptstraße 7\, Köln\, 50996
ATTACH;FMTTYPE=image/png:https://koelner-stadtteilliebe.de/wp-content/uploads/2026/03/Hintergrund-Fruehling-2026.png
END:VEVENT
BEGIN:VEVENT
DTSTART;TZID=Europe/Berlin:20260128T183000
DTEND;TZID=Europe/Berlin:20260128T233000
DTSTAMP:20260424T110739
CREATED:20251203T100118Z
LAST-MODIFIED:20251203T100118Z
UID:110909-1769625000-1769643000@koelner-stadtteilliebe.de
SUMMARY:Böcherjecke fiere
DESCRIPTION:
URL:https://koelner-stadtteilliebe.de/veranstaltungen-events/boecherjecke-fiere/
LOCATION:Stadtteilbibliothek Rodenkirchen\, Schillingsrotter Str. 38\, Köln-Rodenkirchen\, 50996
ATTACH;FMTTYPE=image/png:https://koelner-stadtteilliebe.de/wp-content/uploads/2026/03/Hintergrund-Fruehling-2026.png
END:VEVENT
END:VCALENDAR