BEGIN:VCALENDAR
VERSION:2.0
PRODID:-//koelner-stadtteilliebe - ECPv6.15.20//NONSGML v1.0//EN
CALSCALE:GREGORIAN
METHOD:PUBLISH
X-ORIGINAL-URL:https://koelner-stadtteilliebe.de
X-WR-CALDESC:Veranstaltungen für koelner-stadtteilliebe
REFRESH-INTERVAL;VALUE=DURATION:PT1H
X-Robots-Tag:noindex
X-PUBLISHED-TTL:PT1H
BEGIN:VTIMEZONE
TZID:Europe/Berlin
BEGIN:DAYLIGHT
TZOFFSETFROM:+0100
TZOFFSETTO:+0200
TZNAME:CEST
DTSTART:20250330T010000
END:DAYLIGHT
BEGIN:STANDARD
TZOFFSETFROM:+0200
TZOFFSETTO:+0100
TZNAME:CET
DTSTART:20251026T010000
END:STANDARD
BEGIN:DAYLIGHT
TZOFFSETFROM:+0100
TZOFFSETTO:+0200
TZNAME:CEST
DTSTART:20260329T010000
END:DAYLIGHT
BEGIN:STANDARD
TZOFFSETFROM:+0200
TZOFFSETTO:+0100
TZNAME:CET
DTSTART:20261025T010000
END:STANDARD
BEGIN:DAYLIGHT
TZOFFSETFROM:+0100
TZOFFSETTO:+0200
TZNAME:CEST
DTSTART:20270328T010000
END:DAYLIGHT
BEGIN:STANDARD
TZOFFSETFROM:+0200
TZOFFSETTO:+0100
TZNAME:CET
DTSTART:20271031T010000
END:STANDARD
END:VTIMEZONE
BEGIN:VEVENT
DTSTART;VALUE=DATE:20260204
DTEND;VALUE=DATE:20260208
DTSTAMP:20260424T105220
CREATED:20260108T082119Z
LAST-MODIFIED:20260108T082119Z
UID:114819-1770163200-1770508799@koelner-stadtteilliebe.de
SUMMARY:Salon de Jazz und sein Programm
DESCRIPTION:Salon de Jazz und sein Programm \nJanuar \n9.1.2026 origina1nerd 20h\n13.1.2026 Clemens Orth Trio 20h\n14.1.2026 Thimo Niesterok Quartett 20h\n15.1.2026 Organ Smarties 20h\n22.1.2026 Nils Tegen Trio 20h\n30.1.2026 Poetry Jam 20h \nFebruar (Greek Music Festival*) \n4.2.2026 George Xylouris Tag 1 20h *\n5.2.2026 George Xylouris Tag 2 20h *\n6.2.2026 The Ben Fitzpatrick Quartet 20h\n7.2.2026 Créme Brüllèe 20h\n11.2.2026 The Coke Bop Heroes 20h\n18.2.2026 Vitaliy Zolotov Quartett „live recording“ 20h\n19.2.2026 ROUZBEH ASGARIAN TRIO 20h\n21.2.2026 Fevronia 20h *\n26.2.2026 ORGANIC UNIVERSE 20h\n27.2.2026 Poetry Jam 20h \nwww.salondejazz.de \nSeverinskloster 3a\, 50678 Köln
URL:https://koelner-stadtteilliebe.de/veranstaltungen-events/salon-de-jazz-und-sein-programm-5/
LOCATION:Salon de Jazz\, Severinskloster 3a\, Köln
ATTACH;FMTTYPE=image/png:https://koelner-stadtteilliebe.de/wp-content/uploads/2026/03/Hintergrund-Fruehling-2026.png
END:VEVENT
BEGIN:VEVENT
DTSTART;TZID=Europe/Berlin:20260206T090000
DTEND;TZID=Europe/Berlin:20260206T120000
DTSTAMP:20260424T105220
CREATED:20251221T212809Z
LAST-MODIFIED:20251221T212809Z
UID:113927-1770368400-1770379200@koelner-stadtteilliebe.de
SUMMARY:Nähkurs in Meschenich – Mit Herz\, Freude und Kreativität
DESCRIPTION:Nähkurs in Meschenich – Mit Herz\, Freude und Kreativität \nDu hast Lust\, mit Nadel und Faden kreativ zu werden – und das in entspannter\, herzlicher Gesellschaft? Dann bist Du herzlich eingeladen zum Nähkurs in der Thomas Begegnungsstätte in Meschenich! Jeden Mittwoch und Freitag von 9 bis 12 Uhr treffen sich hier Menschen\, die die Freude am Nähen teilen – ganz egal\, ob Anfängerin oder Fortgeschrittener. In der gemütlichen Runde in der Raiffeisenstraße 7\, 50997 Köln\, entstehen mit viel Liebe zum Detail die unterschiedlichsten Projekte: von individuellen Kleidungsstücken über fantasievolle Karnevalskostüme bis zu dekorativen Wohnaccessoires. Dabei wird nicht nur genäht\, sondern auch gelacht\, geplaudert und Wissen geteilt. Tipps und Tricks werden weitergegeben\, Ideen wachsen gemeinsam – und manchmal entstehen dabei auch neue Freundschaften. Der Kurs bietet die perfekte Gelegenheit\, in die Welt des Nähens einzutauchen oder vorhandene Kenntnisse zu vertiefen – ganz ohne Druck\, aber mit umso mehr Freude. Komm vorbei\, mach mit und entdecke\, wie viel Spaß gemeinsames Nähen machen kann! Ein ähnliches Angebot gibt es auch in der Stadtbibliothek Rodenkirchen auf der Schillingsrotter Str. 38. und in Köln- Weiß bei der Kirche.
URL:https://koelner-stadtteilliebe.de/veranstaltungen-events/naehkurs-in-meschenich-mit-herz-freude-und-kreativitaet-10/
LOCATION:Begegnungsstätte Thomas\, Raiffeisenstr. 7\, Köln-Meschenich\, 50997
ATTACH;FMTTYPE=image/png:https://koelner-stadtteilliebe.de/wp-content/uploads/2026/03/Hintergrund-Fruehling-2026.png
END:VEVENT
BEGIN:VEVENT
DTSTART;TZID=Europe/Berlin:20260206T150000
DTEND;TZID=Europe/Berlin:20260206T170000
DTSTAMP:20260424T105220
CREATED:20251104T213841Z
LAST-MODIFIED:20251104T213841Z
UID:109269-1770390000-1770397200@koelner-stadtteilliebe.de
SUMMARY:Begegnungscafé - das Café Fuga
DESCRIPTION:Begegnungscafé – das Café Fuga \nIn unserem Café Fuga am ‚offenen Freitag‘ treffen sich Menschen von 15.00 bis 17.00 Uhr\, die Kontakt und gemeinsamen Austausch schätzen\, in lockerer\, entspannter Runde bei Kaffee und Kuchen. Die einen kommen regelmäßig\, die anderen\, wenn sie Zeit und Lust haben\, die nächsten\, weil sie einfach neugierig auf diesen Ort sind. Jeder neue Mensch wird herzlich aufgenommen.\nJe nach Bedarf besteht auch die Möglichkeit für Einzelgespräche\, Unterstützung und Hilfe bei ganz individuellen Fragen und Lebenssituationen.\nIm BürgerTreff X (Eygelshovener Str. 33\, 50999 Köln) gibt es darüber hinaus noch viele weitere Angebote. Sie reichen von Handarbeiten\, Malen\, Hilfe beim Gebrauch vom Handy\, gemeinsamen Singen\, Schülerhilfe\, wenn es in der Schule hakt bis hin zur Radstation\, wo Fahrräder (auch selbst) repariert werden können.\nAlle Angebote unter www.wisue.de oder auch als Flyer im BürgerTreff X \n 
URL:https://koelner-stadtteilliebe.de/veranstaltungen-events/begegnungscafe-das-cafe-fuga-13/
LOCATION:WiSü „X“\, Eygelshovenerstr.33\, Köln\, 50997
ATTACH;FMTTYPE=image/png:https://koelner-stadtteilliebe.de/wp-content/uploads/2026/03/Hintergrund-Fruehling-2026.png
END:VEVENT
BEGIN:VEVENT
DTSTART;TZID=Europe/Berlin:20260206T180000
DTEND;TZID=Europe/Berlin:20260206T223000
DTSTAMP:20260424T105220
CREATED:20260109T170523Z
LAST-MODIFIED:20260109T170647Z
UID:115005-1770400800-1770417000@koelner-stadtteilliebe.de
SUMMARY:Karneval im Haus Schmitz
DESCRIPTION:
URL:https://koelner-stadtteilliebe.de/veranstaltungen-events/karneval-im-haus-schmitz/
LOCATION:Haus Schmitz\, Rheinstraße 6\, Köln\, 50996\, Germany
ATTACH;FMTTYPE=image/png:https://koelner-stadtteilliebe.de/wp-content/uploads/2026/03/Hintergrund-Fruehling-2026.png
END:VEVENT
BEGIN:VEVENT
DTSTART;TZID=Europe/Berlin:20260206T180000
DTEND;TZID=Europe/Berlin:20260206T230000
DTSTAMP:20260424T105220
CREATED:20251114T101716Z
LAST-MODIFIED:20251114T101716Z
UID:109871-1770400800-1770418800@koelner-stadtteilliebe.de
SUMMARY:Karnevalsveranstaltungen Melanchthon 2026
DESCRIPTION:
URL:https://koelner-stadtteilliebe.de/veranstaltungen-events/karnevalsveranstaltungen-melanchthon-2026-2/
LOCATION:Evangelische Kirchengemeinde Köln-Zollstock Melanchthonkirche\,\, Evangelische Kirchengemeinde Köln-Zollstock Melanchthonkirche\, Breniger Straße 18\, Köln\, 50969
ATTACH;FMTTYPE=image/png:https://koelner-stadtteilliebe.de/wp-content/uploads/2026/03/Hintergrund-Fruehling-2026.png
END:VEVENT
BEGIN:VEVENT
DTSTART;TZID=Europe/Berlin:20260206T190000
DTEND;TZID=Europe/Berlin:20260206T210000
DTSTAMP:20260424T105220
CREATED:20260120T101625Z
LAST-MODIFIED:20260120T101625Z
UID:115459-1770404400-1770411600@koelner-stadtteilliebe.de
SUMMARY:Loss mer singe Brauhaus Quetsch
DESCRIPTION:
URL:https://koelner-stadtteilliebe.de/veranstaltungen-events/loss-mer-singe-brauhaus-quetsch/
LOCATION:Brauhaus Quetsch\, Hauptstraße 7\, Köln\, 50996
ATTACH;FMTTYPE=image/png:https://koelner-stadtteilliebe.de/wp-content/uploads/2026/03/Hintergrund-Fruehling-2026.png
END:VEVENT
BEGIN:VEVENT
DTSTART;TZID=Europe/Berlin:20260206T190000
DTEND;TZID=Europe/Berlin:20260206T213000
DTSTAMP:20260424T105220
CREATED:20260109T171412Z
LAST-MODIFIED:20260109T171412Z
UID:115028-1770404400-1770413400@koelner-stadtteilliebe.de
SUMMARY:Kumm loss mer SINGE!
DESCRIPTION:
URL:https://koelner-stadtteilliebe.de/veranstaltungen-events/kumm-loss-mer-singe/
LOCATION:St Georg und das Pfarrheim\, Kirchplatz 3\, Köln\, 50999
ATTACH;FMTTYPE=image/png:https://koelner-stadtteilliebe.de/wp-content/uploads/2026/03/Hintergrund-Fruehling-2026.png
END:VEVENT
BEGIN:VEVENT
DTSTART;TZID=Europe/Berlin:20260206T190000
DTEND;TZID=Europe/Berlin:20260206T213000
DTSTAMP:20260424T105220
CREATED:20260125T091712Z
LAST-MODIFIED:20260125T091712Z
UID:115673-1770404400-1770413400@koelner-stadtteilliebe.de
SUMMARY:Der nächste Stammtisch der Dorfgemeinschaft Sürth steht an!
DESCRIPTION:Der nächste Stammtisch der Dorfgemeinschaft Sürth steht vor der Tür!Am Freitag\, den 06. Februar 2026\, treffen sie sich ab 19:00 Uhr in der Restauration „Zur Krone“ (Sürther Hauptstraße 75\, 50999 Köln). Freut euch auf einen entspannten Abend in geselliger Runde – mit guten Gesprächen\, netten Begegnungen und vielen Stadtteilthemen. Ob langjährige Weggefährten oder neue Gesichter: Alle sind herzlich willkommen!
URL:https://koelner-stadtteilliebe.de/veranstaltungen-events/der-naechste-stammtisch-der-dorfgemeinschaft-suerth-steht-an/
ATTACH;FMTTYPE=image/png:https://koelner-stadtteilliebe.de/wp-content/uploads/2026/03/Hintergrund-Fruehling-2026.png
END:VEVENT
BEGIN:VEVENT
DTSTART;TZID=Europe/Berlin:20260206T193000
DTEND;TZID=Europe/Berlin:20260206T233000
DTSTAMP:20260424T105220
CREATED:20260204T101950Z
LAST-MODIFIED:20260204T101950Z
UID:116220-1770406200-1770420600@koelner-stadtteilliebe.de
SUMMARY:Brauhaus Quetsch "Loss mer singe"
DESCRIPTION:
URL:https://koelner-stadtteilliebe.de/veranstaltungen-events/brauhaus-quetsch-loss-mer-singe/
LOCATION:Brauhaus Quetsch\, Hauptstraße 7\, Köln\, 50996
ATTACH;FMTTYPE=image/png:https://koelner-stadtteilliebe.de/wp-content/uploads/2026/03/Hintergrund-Fruehling-2026.png
END:VEVENT
END:VCALENDAR