BEGIN:VCALENDAR
VERSION:2.0
PRODID:-//koelner-stadtteilliebe - ECPv6.15.20//NONSGML v1.0//EN
CALSCALE:GREGORIAN
METHOD:PUBLISH
X-WR-CALNAME:koelner-stadtteilliebe
X-ORIGINAL-URL:https://koelner-stadtteilliebe.de
X-WR-CALDESC:Veranstaltungen für koelner-stadtteilliebe
REFRESH-INTERVAL;VALUE=DURATION:PT1H
X-Robots-Tag:noindex
X-PUBLISHED-TTL:PT1H
BEGIN:VTIMEZONE
TZID:Europe/Berlin
BEGIN:DAYLIGHT
TZOFFSETFROM:+0100
TZOFFSETTO:+0200
TZNAME:CEST
DTSTART:20250330T010000
END:DAYLIGHT
BEGIN:STANDARD
TZOFFSETFROM:+0200
TZOFFSETTO:+0100
TZNAME:CET
DTSTART:20251026T010000
END:STANDARD
BEGIN:DAYLIGHT
TZOFFSETFROM:+0100
TZOFFSETTO:+0200
TZNAME:CEST
DTSTART:20260329T010000
END:DAYLIGHT
BEGIN:STANDARD
TZOFFSETFROM:+0200
TZOFFSETTO:+0100
TZNAME:CET
DTSTART:20261025T010000
END:STANDARD
BEGIN:DAYLIGHT
TZOFFSETFROM:+0100
TZOFFSETTO:+0200
TZNAME:CEST
DTSTART:20270328T010000
END:DAYLIGHT
BEGIN:STANDARD
TZOFFSETFROM:+0200
TZOFFSETTO:+0100
TZNAME:CET
DTSTART:20271031T010000
END:STANDARD
END:VTIMEZONE
BEGIN:VEVENT
DTSTART;VALUE=DATE:20260204
DTEND;VALUE=DATE:20260208
DTSTAMP:20260424T172354
CREATED:20260108T082119Z
LAST-MODIFIED:20260108T082119Z
UID:114819-1770163200-1770508799@koelner-stadtteilliebe.de
SUMMARY:Salon de Jazz und sein Programm
DESCRIPTION:Salon de Jazz und sein Programm \nJanuar \n9.1.2026 origina1nerd 20h\n13.1.2026 Clemens Orth Trio 20h\n14.1.2026 Thimo Niesterok Quartett 20h\n15.1.2026 Organ Smarties 20h\n22.1.2026 Nils Tegen Trio 20h\n30.1.2026 Poetry Jam 20h \nFebruar (Greek Music Festival*) \n4.2.2026 George Xylouris Tag 1 20h *\n5.2.2026 George Xylouris Tag 2 20h *\n6.2.2026 The Ben Fitzpatrick Quartet 20h\n7.2.2026 Créme Brüllèe 20h\n11.2.2026 The Coke Bop Heroes 20h\n18.2.2026 Vitaliy Zolotov Quartett „live recording“ 20h\n19.2.2026 ROUZBEH ASGARIAN TRIO 20h\n21.2.2026 Fevronia 20h *\n26.2.2026 ORGANIC UNIVERSE 20h\n27.2.2026 Poetry Jam 20h \nwww.salondejazz.de \nSeverinskloster 3a\, 50678 Köln
URL:https://koelner-stadtteilliebe.de/veranstaltungen-events/salon-de-jazz-und-sein-programm-5/
LOCATION:Salon de Jazz\, Severinskloster 3a\, Köln
ATTACH;FMTTYPE=image/png:https://koelner-stadtteilliebe.de/wp-content/uploads/2026/03/Hintergrund-Fruehling-2026.png
END:VEVENT
BEGIN:VEVENT
DTSTART;TZID=Europe/Berlin:20260207T100000
DTEND;TZID=Europe/Berlin:20260207T123000
DTSTAMP:20260424T172354
CREATED:20260107T141755Z
LAST-MODIFIED:20260107T141755Z
UID:114753-1770458400-1770467400@koelner-stadtteilliebe.de
SUMMARY:Rudekirche Alaaf .....
DESCRIPTION:
URL:https://koelner-stadtteilliebe.de/veranstaltungen-events/rudekirche-alaaf/
LOCATION:Maternusplatz Rodenkirchen
ATTACH;FMTTYPE=image/png:https://koelner-stadtteilliebe.de/wp-content/uploads/2026/03/Hintergrund-Fruehling-2026.png
END:VEVENT
BEGIN:VEVENT
DTSTART;TZID=Europe/Berlin:20260207T120000
DTEND;TZID=Europe/Berlin:20260207T173000
DTSTAMP:20260424T172354
CREATED:20251114T101826Z
LAST-MODIFIED:20251114T101826Z
UID:109874-1770465600-1770485400@koelner-stadtteilliebe.de
SUMMARY:Karnevalsveranstaltungen Melanchthon 2026
DESCRIPTION:
URL:https://koelner-stadtteilliebe.de/veranstaltungen-events/karnevalsveranstaltungen-melanchthon-2026-3/
LOCATION:Evangelische Kirchengemeinde Köln-Zollstock Melanchthonkirche\,\, Evangelische Kirchengemeinde Köln-Zollstock Melanchthonkirche\, Breniger Straße 18\, Köln\, 50969
ATTACH;FMTTYPE=image/png:https://koelner-stadtteilliebe.de/wp-content/uploads/2026/03/Hintergrund-Fruehling-2026.png
END:VEVENT
BEGIN:VEVENT
DTSTART;TZID=Europe/Berlin:20260207T160000
DTEND;TZID=Europe/Berlin:20260207T210000
DTSTAMP:20260424T172354
CREATED:20260120T101928Z
LAST-MODIFIED:20260120T102141Z
UID:115463-1770480000-1770498000@koelner-stadtteilliebe.de
SUMMARY:Traumpänzparty Brauhaus Quetsch
DESCRIPTION:
URL:https://koelner-stadtteilliebe.de/veranstaltungen-events/traumpaenzparty-brauhaus-quetsch/
LOCATION:Brauhaus Quetsch\, Hauptstraße 7\, Köln\, 50996
ATTACH;FMTTYPE=image/png:https://koelner-stadtteilliebe.de/wp-content/uploads/2026/03/Hintergrund-Fruehling-2026.png
END:VEVENT
BEGIN:VEVENT
DTSTART;TZID=Europe/Berlin:20260207T173000
DTEND;TZID=Europe/Berlin:20260207T233000
DTSTAMP:20260424T172354
CREATED:20251223T164045Z
LAST-MODIFIED:20251223T164045Z
UID:114070-1770485400-1770507000@koelner-stadtteilliebe.de
SUMMARY:Räuberball 2026
DESCRIPTION:
URL:https://koelner-stadtteilliebe.de/veranstaltungen-events/raeuberball-2026/
LOCATION:Grossrotter Hof\, Grossrotter Weg 1\, Köln\, 50997
ATTACH;FMTTYPE=image/png:https://koelner-stadtteilliebe.de/wp-content/uploads/2026/03/Hintergrund-Fruehling-2026.png
END:VEVENT
BEGIN:VEVENT
DTSTART;TZID=Europe/Berlin:20260207T180000
DTEND;TZID=Europe/Berlin:20260207T233000
DTSTAMP:20260424T172354
CREATED:20260121T124143Z
LAST-MODIFIED:20260121T124143Z
UID:115569-1770487200-1770507000@koelner-stadtteilliebe.de
SUMMARY:Karnevalssingen in Immendorf
DESCRIPTION:
URL:https://koelner-stadtteilliebe.de/veranstaltungen-events/karnevalssingen-in-immendorf/
LOCATION:Alte Schule Immendorf\, Godorfer Str. 2.\, Köln-Immendorf\, 50997
ATTACH;FMTTYPE=image/png:https://koelner-stadtteilliebe.de/wp-content/uploads/2026/03/Hintergrund-Fruehling-2026.png
END:VEVENT
BEGIN:VEVENT
DTSTART;TZID=Europe/Berlin:20260207T190000
DTEND;TZID=Europe/Berlin:20260207T223000
DTSTAMP:20260424T172354
CREATED:20260120T104404Z
LAST-MODIFIED:20260120T104404Z
UID:115498-1770490800-1770503400@koelner-stadtteilliebe.de
SUMMARY:Sürth singt 2026 mit Nadja Schubert
DESCRIPTION:
URL:https://koelner-stadtteilliebe.de/veranstaltungen-events/suerth-singt-2026-mit-nadja-schubert/
LOCATION:Diakonie Michaelshoven\, Sürther Str. 169\, Köln-Michaelshoven\, 50999
ATTACH;FMTTYPE=image/png:https://koelner-stadtteilliebe.de/wp-content/uploads/2026/03/Hintergrund-Fruehling-2026.png
END:VEVENT
BEGIN:VEVENT
DTSTART;TZID=Europe/Berlin:20260207T191100
DTEND;TZID=Europe/Berlin:20260207T220000
DTSTAMP:20260424T172354
CREATED:20260125T093244Z
LAST-MODIFIED:20260125T093244Z
UID:115687-1770491460-1770501600@koelner-stadtteilliebe.de
SUMMARY:Raderberg & Thal singt ....
DESCRIPTION:Seit vielen Jahren ist es immer wieder ein ganz besonderes Erlebnis: Gemeinsam Kölner Karnevalslieder zu singen. Es geht um alte Klassiker und neue Hits\, die jeder mitsingen kann – laut\, schief\, herzlich und mit ganz viel Jeföhl. Raderberg und Thal.de laden dazu jedes Jahr ein und es wird immer ein toller Abend voller kölscher Tön\, guter Laune und echter Veedels-Atmosphäre. \nAm 07. Februar ab 19:11 Uhr feiern sie im Haus Schäffer am Südfriedhof zusammen den Karneval\, wie er sein soll: singend\, lachend und mittendrin statt nur dabei. Höhepunkt des Abends ist natürlich wieder die Wahl des Veedels-Siegers – Spannung und Spaß garantiert! \nDein Ticket kannst Du ganz unkompliert per Mail an karneval@raderbergundthal.de für 8\,99 EUR bestellen.\nOder Du sicherst Dir Dein Ticket online bei rausgegangen.de und druckst es bequem selbst aus (zzgl. 1\,14 EUR Vorverkaufsgebühr). \nKumm vorbei\, sing met\, feier met uns – denn Karneval ohne Singen es wie Kölsch ohne Schaum!
URL:https://koelner-stadtteilliebe.de/veranstaltungen-events/raderberg-thal-singt/
ATTACH;FMTTYPE=image/png:https://koelner-stadtteilliebe.de/wp-content/uploads/2026/03/Hintergrund-Fruehling-2026.png
END:VEVENT
END:VCALENDAR