BEGIN:VCALENDAR
VERSION:2.0
PRODID:-//koelner-stadtteilliebe - ECPv6.15.20//NONSGML v1.0//EN
CALSCALE:GREGORIAN
METHOD:PUBLISH
X-ORIGINAL-URL:https://koelner-stadtteilliebe.de
X-WR-CALDESC:Veranstaltungen für koelner-stadtteilliebe
REFRESH-INTERVAL;VALUE=DURATION:PT1H
X-Robots-Tag:noindex
X-PUBLISHED-TTL:PT1H
BEGIN:VTIMEZONE
TZID:Europe/Berlin
BEGIN:DAYLIGHT
TZOFFSETFROM:+0100
TZOFFSETTO:+0200
TZNAME:CEST
DTSTART:20250330T010000
END:DAYLIGHT
BEGIN:STANDARD
TZOFFSETFROM:+0200
TZOFFSETTO:+0100
TZNAME:CET
DTSTART:20251026T010000
END:STANDARD
BEGIN:DAYLIGHT
TZOFFSETFROM:+0100
TZOFFSETTO:+0200
TZNAME:CEST
DTSTART:20260329T010000
END:DAYLIGHT
BEGIN:STANDARD
TZOFFSETFROM:+0200
TZOFFSETTO:+0100
TZNAME:CET
DTSTART:20261025T010000
END:STANDARD
BEGIN:DAYLIGHT
TZOFFSETFROM:+0100
TZOFFSETTO:+0200
TZNAME:CEST
DTSTART:20270328T010000
END:DAYLIGHT
BEGIN:STANDARD
TZOFFSETFROM:+0200
TZOFFSETTO:+0100
TZNAME:CET
DTSTART:20271031T010000
END:STANDARD
END:VTIMEZONE
BEGIN:VEVENT
DTSTART;TZID=Europe/Berlin:20260210T200000
DTEND;TZID=Europe/Berlin:20260210T223000
DTSTAMP:20260424T155100
CREATED:20250930T185628Z
LAST-MODIFIED:20250930T185628Z
UID:107221-1770753600-1770762600@koelner-stadtteilliebe.de
SUMMARY:5. Raderbergkonzert– Flötenvirtuose Fabian Egger und Freunde
DESCRIPTION:5. Raderbergkonzert am 10. Februar 2026 – Flötenvirtuose Fabian Egger und Freunde im Deutschlandfunk Kammermusiksaal Köln \nAm Dienstag\, den 10. Februar 2026\, um 20:00 Uhr\, lädt das 5. Raderbergkonzert im Kammermusiksaal des Deutschlandfunks in Köln-Raderberg zu einem besonderen Abend voller Klangfarben und musikalischer Begegnungen ein. Im Mittelpunkt steht der junge Flötist Fabian Egger\, der mit erst 17 Jahren den renommierten Aeolus-Bläserwettbewerb 2024 in Düsseldorf gewann – und seitdem als aufsteigender Stern der Klassikszene gilt. \n🎶 Fabian Egger – jung\, preisgekrönt\, kreativ\nEgger überzeugt nicht nur als Virtuose an der Flöte\, sondern auch als Komponist. In diesem Konzert bringt er Werke von Wolfgang Amadeus Mozart\, Claude Debussy\, Heitor Villa-Lobos und André Jolivet in spannenden Besetzungen auf die Bühne – und stellt zudem eine eigene neue Komposition vor. \nBegleitet wird er von der Harfenistin Louise Grandjean sowie dem HANA Streichtrio – gemeinsam präsentieren sie ein abwechslungsreiches Programm\, das über 200 Jahre Musikgeschichte umfasst und klassische Kammermusik in neuer Frische erlebbar macht. \nProgramm: \nW. A. Mozart – Flötenquartett D-Dur\, KV 285 \nFabian Egger – Eigenkomposition (Uraufführung) \nClaude Debussy – Trio für Flöte\, Viola und Harfe \nHeitor Villa-Lobos – Assobio a jato für Flöte und Violoncello \nAndré Jolivet – Chant de Linos für Flöte und Ensemble\n(Änderungen vorbehalten) \n🕡 Konzerteinführung: Um 18:45 Uhr gibt es spannende Einblicke in Werke\, Hintergründe und Interpretationen.\n🕢 Abendkasse geöffnet ab 18:30 Uhr \nTickets:\n15 € zzgl. Gebühren\nErhältlich im Vorverkauf über KölnTicket\noder telefonisch unter 0221 – 280 288. Restkarten an der Abendkasse. \nVeranstaltungsort:\nKammermusiksaal des Deutschlandfunks\, Raderberggürtel 40\, 50968 Köln \nTipp: Dieses Konzert ist besonders empfehlenswert für Liebhaber feiner Kammermusik\, für Freunde virtuoser Flötenliteratur – und für alle\, die junge Talente auf ihrem Weg begleiten möchten. Ein inspirierender Konzertabend mit Emotion\, Vielfalt und Tiefgang. \nDer Deutschlandfunk Kammermusiksaal ist barrierefrei zu erreichen.\nKonzertbesucher haben die Möglichkeit auf dem Gelände des Funkhauses während des Konzertbesuchs kostenlos zu parken. \n 
URL:https://koelner-stadtteilliebe.de/veranstaltungen-events/5-raderbergkonzert-floetenvirtuose-fabian-egger-und-freunde/
ATTACH;FMTTYPE=image/png:https://koelner-stadtteilliebe.de/wp-content/uploads/2026/03/Hintergrund-Fruehling-2026.png
END:VEVENT
END:VCALENDAR