BEGIN:VCALENDAR
VERSION:2.0
PRODID:-//koelner-stadtteilliebe - ECPv6.15.20//NONSGML v1.0//EN
CALSCALE:GREGORIAN
METHOD:PUBLISH
X-WR-CALNAME:koelner-stadtteilliebe
X-ORIGINAL-URL:https://koelner-stadtteilliebe.de
X-WR-CALDESC:Veranstaltungen für koelner-stadtteilliebe
REFRESH-INTERVAL;VALUE=DURATION:PT1H
X-Robots-Tag:noindex
X-PUBLISHED-TTL:PT1H
BEGIN:VTIMEZONE
TZID:Europe/Berlin
BEGIN:DAYLIGHT
TZOFFSETFROM:+0100
TZOFFSETTO:+0200
TZNAME:CEST
DTSTART:20250330T010000
END:DAYLIGHT
BEGIN:STANDARD
TZOFFSETFROM:+0200
TZOFFSETTO:+0100
TZNAME:CET
DTSTART:20251026T010000
END:STANDARD
BEGIN:DAYLIGHT
TZOFFSETFROM:+0100
TZOFFSETTO:+0200
TZNAME:CEST
DTSTART:20260329T010000
END:DAYLIGHT
BEGIN:STANDARD
TZOFFSETFROM:+0200
TZOFFSETTO:+0100
TZNAME:CET
DTSTART:20261025T010000
END:STANDARD
BEGIN:DAYLIGHT
TZOFFSETFROM:+0100
TZOFFSETTO:+0200
TZNAME:CEST
DTSTART:20270328T010000
END:DAYLIGHT
BEGIN:STANDARD
TZOFFSETFROM:+0200
TZOFFSETTO:+0100
TZNAME:CET
DTSTART:20271031T010000
END:STANDARD
END:VTIMEZONE
BEGIN:VEVENT
DTSTART;VALUE=DATE:20260212
DTEND;VALUE=DATE:20260216
DTSTAMP:20260424T154257
CREATED:20260109T170811Z
LAST-MODIFIED:20260109T170811Z
UID:115011-1770854400-1771199999@koelner-stadtteilliebe.de
SUMMARY:Karneval im Haus Schmitz
DESCRIPTION:
URL:https://koelner-stadtteilliebe.de/veranstaltungen-events/karneval-im-haus-schmitz-2/
LOCATION:Haus Schmitz\, Rheinstraße 6\, Köln\, 50996\, Germany
ATTACH;FMTTYPE=image/png:https://koelner-stadtteilliebe.de/wp-content/uploads/2026/03/Hintergrund-Fruehling-2026.png
END:VEVENT
BEGIN:VEVENT
DTSTART;TZID=Europe/Berlin:20260213T090000
DTEND;TZID=Europe/Berlin:20260213T120000
DTSTAMP:20260424T154257
CREATED:20251221T212912Z
LAST-MODIFIED:20251221T212912Z
UID:113933-1770973200-1770984000@koelner-stadtteilliebe.de
SUMMARY:Nähkurs in Meschenich – Mit Herz\, Freude und Kreativität
DESCRIPTION:Nähkurs in Meschenich – Mit Herz\, Freude und Kreativität \nDu hast Lust\, mit Nadel und Faden kreativ zu werden – und das in entspannter\, herzlicher Gesellschaft? Dann bist Du herzlich eingeladen zum Nähkurs in der Thomas Begegnungsstätte in Meschenich! Jeden Mittwoch und Freitag von 9 bis 12 Uhr treffen sich hier Menschen\, die die Freude am Nähen teilen – ganz egal\, ob Anfängerin oder Fortgeschrittener. In der gemütlichen Runde in der Raiffeisenstraße 7\, 50997 Köln\, entstehen mit viel Liebe zum Detail die unterschiedlichsten Projekte: von individuellen Kleidungsstücken über fantasievolle Karnevalskostüme bis zu dekorativen Wohnaccessoires. Dabei wird nicht nur genäht\, sondern auch gelacht\, geplaudert und Wissen geteilt. Tipps und Tricks werden weitergegeben\, Ideen wachsen gemeinsam – und manchmal entstehen dabei auch neue Freundschaften. Der Kurs bietet die perfekte Gelegenheit\, in die Welt des Nähens einzutauchen oder vorhandene Kenntnisse zu vertiefen – ganz ohne Druck\, aber mit umso mehr Freude. Komm vorbei\, mach mit und entdecke\, wie viel Spaß gemeinsames Nähen machen kann! Ein ähnliches Angebot gibt es auch in der Stadtbibliothek Rodenkirchen auf der Schillingsrotter Str. 38. und in Köln- Weiß bei der Kirche.
URL:https://koelner-stadtteilliebe.de/veranstaltungen-events/naehkurs-in-meschenich-mit-herz-freude-und-kreativitaet-12/
LOCATION:Begegnungsstätte Thomas\, Raiffeisenstr. 7\, Köln-Meschenich\, 50997
ATTACH;FMTTYPE=image/png:https://koelner-stadtteilliebe.de/wp-content/uploads/2026/03/Hintergrund-Fruehling-2026.png
END:VEVENT
BEGIN:VEVENT
DTSTART;TZID=Europe/Berlin:20260213T150000
DTEND;TZID=Europe/Berlin:20260213T220000
DTSTAMP:20260424T154257
CREATED:20260125T090111Z
LAST-MODIFIED:20260125T090111Z
UID:115661-1770994800-1771020000@koelner-stadtteilliebe.de
SUMMARY:Karneval im Bürgertreff ....
DESCRIPTION:
URL:https://koelner-stadtteilliebe.de/veranstaltungen-events/karneval-im-buergertreff/
LOCATION:Wisü
ATTACH;FMTTYPE=image/png:https://koelner-stadtteilliebe.de/wp-content/uploads/2026/03/Hintergrund-Fruehling-2026.png
END:VEVENT
BEGIN:VEVENT
DTSTART;TZID=Europe/Berlin:20260213T190000
DTEND;TZID=Europe/Berlin:20260213T233000
DTSTAMP:20260424T154257
CREATED:20260120T102743Z
LAST-MODIFIED:20260120T102743Z
UID:115482-1771009200-1771025400@koelner-stadtteilliebe.de
SUMMARY:Karnevalsparty in der Rodenkirchener Hofburg
DESCRIPTION:
URL:https://koelner-stadtteilliebe.de/veranstaltungen-events/karnevalsparty-in-der-rodenkirchener-hofburg/
LOCATION:Hinger d’r Heck\, Wilhelmstraße 58\, Köln\, 50996
ATTACH;FMTTYPE=image/png:https://koelner-stadtteilliebe.de/wp-content/uploads/2026/03/Hintergrund-Fruehling-2026.png
END:VEVENT
END:VCALENDAR