BEGIN:VCALENDAR
VERSION:2.0
PRODID:-//koelner-stadtteilliebe - ECPv6.15.20//NONSGML v1.0//EN
CALSCALE:GREGORIAN
METHOD:PUBLISH
X-ORIGINAL-URL:https://koelner-stadtteilliebe.de
X-WR-CALDESC:Veranstaltungen für koelner-stadtteilliebe
REFRESH-INTERVAL;VALUE=DURATION:PT1H
X-Robots-Tag:noindex
X-PUBLISHED-TTL:PT1H
BEGIN:VTIMEZONE
TZID:Europe/Berlin
BEGIN:DAYLIGHT
TZOFFSETFROM:+0100
TZOFFSETTO:+0200
TZNAME:CEST
DTSTART:20250330T010000
END:DAYLIGHT
BEGIN:STANDARD
TZOFFSETFROM:+0200
TZOFFSETTO:+0100
TZNAME:CET
DTSTART:20251026T010000
END:STANDARD
BEGIN:DAYLIGHT
TZOFFSETFROM:+0100
TZOFFSETTO:+0200
TZNAME:CEST
DTSTART:20260329T010000
END:DAYLIGHT
BEGIN:STANDARD
TZOFFSETFROM:+0200
TZOFFSETTO:+0100
TZNAME:CET
DTSTART:20261025T010000
END:STANDARD
BEGIN:DAYLIGHT
TZOFFSETFROM:+0100
TZOFFSETTO:+0200
TZNAME:CEST
DTSTART:20270328T010000
END:DAYLIGHT
BEGIN:STANDARD
TZOFFSETFROM:+0200
TZOFFSETTO:+0100
TZNAME:CET
DTSTART:20271031T010000
END:STANDARD
END:VTIMEZONE
BEGIN:VEVENT
DTSTART;VALUE=DATE:20260212
DTEND;VALUE=DATE:20260216
DTSTAMP:20260424T155050
CREATED:20260109T170811Z
LAST-MODIFIED:20260109T170811Z
UID:115011-1770854400-1771199999@koelner-stadtteilliebe.de
SUMMARY:Karneval im Haus Schmitz
DESCRIPTION:
URL:https://koelner-stadtteilliebe.de/veranstaltungen-events/karneval-im-haus-schmitz-2/
LOCATION:Haus Schmitz\, Rheinstraße 6\, Köln\, 50996\, Germany
ATTACH;FMTTYPE=image/png:https://koelner-stadtteilliebe.de/wp-content/uploads/2026/03/Hintergrund-Fruehling-2026.png
END:VEVENT
BEGIN:VEVENT
DTSTART;TZID=Europe/Berlin:20260214T113300
DTEND;TZID=Europe/Berlin:20260214T183000
DTSTAMP:20260424T155050
CREATED:20260204T095936Z
LAST-MODIFIED:20260204T095936Z
UID:116210-1771068780-1771093800@koelner-stadtteilliebe.de
SUMMARY:Karneval in der Schulze-Delitzsch-Strasse "Mer dun et für die Liebe"
DESCRIPTION:
URL:https://koelner-stadtteilliebe.de/veranstaltungen-events/karneval-in-der-schulze-delitzsch-strasse-mer-dun-et-fuer-die-liebe/
LOCATION:Schulte-Delitzsch-Strasse
ATTACH;FMTTYPE=image/png:https://koelner-stadtteilliebe.de/wp-content/uploads/2026/03/Hintergrund-Fruehling-2026.png
END:VEVENT
BEGIN:VEVENT
DTSTART;TZID=Europe/Berlin:20260214T170000
DTEND;TZID=Europe/Berlin:20260214T233000
DTSTAMP:20260424T155050
CREATED:20260120T103947Z
LAST-MODIFIED:20260120T103947Z
UID:115492-1771088400-1771111800@koelner-stadtteilliebe.de
SUMMARY:Karnevalsparty in der Rodenkirchener Hofburg
DESCRIPTION:
URL:https://koelner-stadtteilliebe.de/veranstaltungen-events/karnevalsparty-in-der-rodenkirchener-hofburg-2/
LOCATION:Hinger d’r Heck\, Wilhelmstraße 58\, Köln\, 50996
ATTACH;FMTTYPE=image/png:https://koelner-stadtteilliebe.de/wp-content/uploads/2026/03/Hintergrund-Fruehling-2026.png
END:VEVENT
BEGIN:VEVENT
DTSTART;TZID=Europe/Berlin:20260214T190000
DTEND;TZID=Europe/Berlin:20260214T233000
DTSTAMP:20260424T155050
CREATED:20251126T101730Z
LAST-MODIFIED:20251126T101730Z
UID:110419-1771095600-1771111800@koelner-stadtteilliebe.de
SUMMARY:2026 Sackjeseechter After Zooch Party
DESCRIPTION:
URL:https://koelner-stadtteilliebe.de/veranstaltungen-events/2026-sackjeseechter-after-zooch-party/
LOCATION:Kölner Ruderverein von 1877 e.V.\, (Barbarastr. 47-49\, .\, Köln Rodenkirchen\, 50996
ATTACH;FMTTYPE=image/png:https://koelner-stadtteilliebe.de/wp-content/uploads/2026/03/Hintergrund-Fruehling-2026.png
END:VEVENT
END:VCALENDAR