BEGIN:VCALENDAR
VERSION:2.0
PRODID:-//koelner-stadtteilliebe - ECPv6.15.20//NONSGML v1.0//EN
CALSCALE:GREGORIAN
METHOD:PUBLISH
X-WR-CALNAME:koelner-stadtteilliebe
X-ORIGINAL-URL:https://koelner-stadtteilliebe.de
X-WR-CALDESC:Veranstaltungen für koelner-stadtteilliebe
REFRESH-INTERVAL;VALUE=DURATION:PT1H
X-Robots-Tag:noindex
X-PUBLISHED-TTL:PT1H
BEGIN:VTIMEZONE
TZID:Europe/Berlin
BEGIN:DAYLIGHT
TZOFFSETFROM:+0100
TZOFFSETTO:+0200
TZNAME:CEST
DTSTART:20250330T010000
END:DAYLIGHT
BEGIN:STANDARD
TZOFFSETFROM:+0200
TZOFFSETTO:+0100
TZNAME:CET
DTSTART:20251026T010000
END:STANDARD
BEGIN:DAYLIGHT
TZOFFSETFROM:+0100
TZOFFSETTO:+0200
TZNAME:CEST
DTSTART:20260329T010000
END:DAYLIGHT
BEGIN:STANDARD
TZOFFSETFROM:+0200
TZOFFSETTO:+0100
TZNAME:CET
DTSTART:20261025T010000
END:STANDARD
BEGIN:DAYLIGHT
TZOFFSETFROM:+0100
TZOFFSETTO:+0200
TZNAME:CEST
DTSTART:20270328T010000
END:DAYLIGHT
BEGIN:STANDARD
TZOFFSETFROM:+0200
TZOFFSETTO:+0100
TZNAME:CET
DTSTART:20271031T010000
END:STANDARD
END:VTIMEZONE
BEGIN:VEVENT
DTSTART;TZID=Europe/Berlin:20260219T200000
DTEND;TZID=Europe/Berlin:20260219T213000
DTSTAMP:20260424T111739
CREATED:20260108T082422Z
LAST-MODIFIED:20260108T082422Z
UID:114828-1771531200-1771536600@koelner-stadtteilliebe.de
SUMMARY:Salon de Jazz und sein Programm
DESCRIPTION:Salon de Jazz und sein Programm \nJanuar \n9.1.2026 origina1nerd 20h\n13.1.2026 Clemens Orth Trio 20h\n14.1.2026 Thimo Niesterok Quartett 20h\n15.1.2026 Organ Smarties 20h\n22.1.2026 Nils Tegen Trio 20h\n30.1.2026 Poetry Jam 20h \nFebruar (Greek Music Festival*) \n4.2.2026 George Xylouris Tag 1 20h *\n5.2.2026 George Xylouris Tag 2 20h *\n6.2.2026 The Ben Fitzpatrick Quartet 20h\n7.2.2026 Créme Brüllèe 20h\n11.2.2026 The Coke Bop Heroes 20h\n18.2.2026 Vitaliy Zolotov Quartett „live recording“ 20h\n19.2.2026 ROUZBEH ASGARIAN TRIO 20h\n21.2.2026 Fevronia 20h *\n26.2.2026 ORGANIC UNIVERSE 20h\n27.2.2026 Poetry Jam 20h \nwww.salondejazz.de \nSeverinskloster 3a\, 50678 Köln
URL:https://koelner-stadtteilliebe.de/veranstaltungen-events/salon-de-jazz-und-sein-programm-8/
LOCATION:Salon de Jazz\, Severinskloster 3a\, Köln
ATTACH;FMTTYPE=image/png:https://koelner-stadtteilliebe.de/wp-content/uploads/2026/03/Hintergrund-Fruehling-2026.png
END:VEVENT
END:VCALENDAR