BEGIN:VCALENDAR
VERSION:2.0
PRODID:-//koelner-stadtteilliebe - ECPv6.15.20//NONSGML v1.0//EN
CALSCALE:GREGORIAN
METHOD:PUBLISH
X-ORIGINAL-URL:https://koelner-stadtteilliebe.de
X-WR-CALDESC:Veranstaltungen für koelner-stadtteilliebe
REFRESH-INTERVAL;VALUE=DURATION:PT1H
X-Robots-Tag:noindex
X-PUBLISHED-TTL:PT1H
BEGIN:VTIMEZONE
TZID:Europe/Berlin
BEGIN:DAYLIGHT
TZOFFSETFROM:+0100
TZOFFSETTO:+0200
TZNAME:CEST
DTSTART:20250330T010000
END:DAYLIGHT
BEGIN:STANDARD
TZOFFSETFROM:+0200
TZOFFSETTO:+0100
TZNAME:CET
DTSTART:20251026T010000
END:STANDARD
BEGIN:DAYLIGHT
TZOFFSETFROM:+0100
TZOFFSETTO:+0200
TZNAME:CEST
DTSTART:20260329T010000
END:DAYLIGHT
BEGIN:STANDARD
TZOFFSETFROM:+0200
TZOFFSETTO:+0100
TZNAME:CET
DTSTART:20261025T010000
END:STANDARD
BEGIN:DAYLIGHT
TZOFFSETFROM:+0100
TZOFFSETTO:+0200
TZNAME:CEST
DTSTART:20270328T010000
END:DAYLIGHT
BEGIN:STANDARD
TZOFFSETFROM:+0200
TZOFFSETTO:+0100
TZNAME:CET
DTSTART:20271031T010000
END:STANDARD
END:VTIMEZONE
BEGIN:VEVENT
DTSTART;VALUE=DATE:20260221
DTEND;VALUE=DATE:20260301
DTSTAMP:20260424T155055
CREATED:20260120T104820Z
LAST-MODIFIED:20260120T104820Z
UID:115507-1771632000-1772323199@koelner-stadtteilliebe.de
SUMMARY:Ausstellung "Hautnah" in der Galerie K49
DESCRIPTION:HAUT und NÄHE lassen unmittelbar an Berührung denken. Der Titel „hautnah“ beschreibt diese besondere Nähe\, die einer Berührung vorausgeht. Genau darum geht es in den Bildern\, Objekten und Skulpturen des Künstlertrios Brigitte Mekelburg\, Helmut Brandt und Kalle Paltzer.  \nWährend Brandt hauchdünne Acryl-Farbhäute von Glasplatten löst  und sie als glatte\, gebrochene\, rissige oder fragmentierte Schichten auf Leinwände überträgt\, suggerieren Paltzers Papierschichten Verletzungen\, Äderchen\, Gerippe und Zerbrechlichkeit. Mekelburg verwendet Gips\, Wachs und Kaseinfarbe für ihre eigentümlichen Kreationen\, die sich zwischen Organischem und Gestaltetem bewegen. \nWas alle Arbeiten miteinander verbindet ist\, dass sie die Betrachtenden reizen\, die Oberflächen zu berühren\, statt nur „mit dem Auge zu fühlen“. \nVernissage: Sa. 21.02.2026 ab 17.00 Uhr \nFinissage: Sa. 28.02.2026 ab 17.00 Uhr \nTäglich geöffnet: 15.00 – 18.00 Uhr \nGoltsteinstr. 49\, 50968 Köln-Bayenthal
URL:https://koelner-stadtteilliebe.de/veranstaltungen-events/ausstellung-hautnah-in-der-galerie-k49/
LOCATION:K49 Raum für Kreative\, Goldsteinstraße 49\, Köln\, 50968
ATTACH;FMTTYPE=image/png:https://koelner-stadtteilliebe.de/wp-content/uploads/2026/03/Hintergrund-Fruehling-2026.png
END:VEVENT
BEGIN:VEVENT
DTSTART;TZID=Europe/Berlin:20260221T150000
DTEND;TZID=Europe/Berlin:20260228T180000
DTSTAMP:20260424T155055
CREATED:20260215T131519Z
LAST-MODIFIED:20260215T131519Z
UID:116791-1771686000-1772301600@koelner-stadtteilliebe.de
SUMMARY:Ausstellung "Hautnah" Brigitte Mekelburg\, Hermut BVrandt\, Kalle Paltzer
DESCRIPTION:HAUT und NÄHE lassen unmittelbar an Berührung denken. Der Titel „hautnah“ beschreibt diese besondere Nähe\, die einer Berührung vorausgeht. Genau darum geht es in den Bildern\, Objekten und Skulpturen des Künstlertrios Brigitte Mekelburg\, Helmut Brandt und Kalle Paltzer. Während Brandt hauchdünne Acryl-Farbhäute von Glasplatten löst und sie als glatte\, gebrochene\, rissige oder fragmentierte Schichten auf Leinwände überträgt\, suggerieren Paltzers Papierschichten Verletzungen\, Äderchen\, Gerippe und Zerbrechlichkeit. Mekelburg verwendet Gips\, Wachs und Kaseinfarbe für ihre eigentümlichen Kreationen\, die sich zwischen Organischem und Gestaltetem bewegen. Was alle Arbeiten miteinander verbindet ist\, dass sie die Betrachtenden reizen\, die Oberflächen zu berühren\, statt nur „mit dem Auge zu fühlen“.
URL:https://koelner-stadtteilliebe.de/veranstaltungen-events/ausstellung-hautnah-brigitte-mekelburg-hermut-bvrandt-kalle-paltzer/
LOCATION:K49 Raum für Kreative\, Goldsteinstraße 49\, Köln\, 50968
ATTACH;FMTTYPE=image/png:https://koelner-stadtteilliebe.de/wp-content/uploads/2026/03/Hintergrund-Fruehling-2026.png
END:VEVENT
BEGIN:VEVENT
DTSTART;TZID=Europe/Berlin:20260224T090000
DTEND;TZID=Europe/Berlin:20260224T120000
DTSTAMP:20260424T155055
CREATED:20251221T213048Z
LAST-MODIFIED:20251221T213048Z
UID:113942-1771923600-1771934400@koelner-stadtteilliebe.de
SUMMARY:Nähkurs in Meschenich – Mit Herz\, Freude und Kreativität
DESCRIPTION:Nähkurs in Meschenich – Mit Herz\, Freude und Kreativität \nDu hast Lust\, mit Nadel und Faden kreativ zu werden – und das in entspannter\, herzlicher Gesellschaft? Dann bist Du herzlich eingeladen zum Nähkurs in der Thomas Begegnungsstätte in Meschenich! Jeden Mittwoch und Freitag von 9 bis 12 Uhr treffen sich hier Menschen\, die die Freude am Nähen teilen – ganz egal\, ob Anfängerin oder Fortgeschrittener. In der gemütlichen Runde in der Raiffeisenstraße 7\, 50997 Köln\, entstehen mit viel Liebe zum Detail die unterschiedlichsten Projekte: von individuellen Kleidungsstücken über fantasievolle Karnevalskostüme bis zu dekorativen Wohnaccessoires. Dabei wird nicht nur genäht\, sondern auch gelacht\, geplaudert und Wissen geteilt. Tipps und Tricks werden weitergegeben\, Ideen wachsen gemeinsam – und manchmal entstehen dabei auch neue Freundschaften. Der Kurs bietet die perfekte Gelegenheit\, in die Welt des Nähens einzutauchen oder vorhandene Kenntnisse zu vertiefen – ganz ohne Druck\, aber mit umso mehr Freude. Komm vorbei\, mach mit und entdecke\, wie viel Spaß gemeinsames Nähen machen kann! Ein ähnliches Angebot gibt es auch in der Stadtbibliothek Rodenkirchen auf der Schillingsrotter Str. 38. und in Köln- Weiß bei der Kirche.
URL:https://koelner-stadtteilliebe.de/veranstaltungen-events/naehkurs-in-meschenich-mit-herz-freude-und-kreativitaet-15/
LOCATION:Begegnungsstätte Thomas\, Raiffeisenstr. 7\, Köln-Meschenich\, 50997
ATTACH;FMTTYPE=image/png:https://koelner-stadtteilliebe.de/wp-content/uploads/2026/03/Hintergrund-Fruehling-2026.png
END:VEVENT
BEGIN:VEVENT
DTSTART;TZID=Europe/Berlin:20260224T090000
DTEND;TZID=Europe/Berlin:20260224T210000
DTSTAMP:20260424T155055
CREATED:20260224T171055Z
LAST-MODIFIED:20260224T171055Z
UID:117117-1771923600-1771966800@koelner-stadtteilliebe.de
SUMMARY:Themenabend Tschüss Windel- Keinkinder liebevoll beim Trockenwerden begleiten
DESCRIPTION:
URL:https://koelner-stadtteilliebe.de/veranstaltungen-events/themenabend-tschuess-windel-keinkinder-liebevoll-beim-trockenwerden-begleiten/
LOCATION:Kita Morgenland e.V.\, Sürther Str. 200\, Köln\, 50996
ATTACH;FMTTYPE=image/png:https://koelner-stadtteilliebe.de/wp-content/uploads/2026/03/Hintergrund-Fruehling-2026.png
END:VEVENT
BEGIN:VEVENT
DTSTART;TZID=Europe/Berlin:20260224T110000
DTEND;TZID=Europe/Berlin:20260224T123000
DTSTAMP:20260424T155055
CREATED:20260212T082355Z
LAST-MODIFIED:20260212T082355Z
UID:116695-1771930800-1771936200@koelner-stadtteilliebe.de
SUMMARY:Sturzprophylaxe in der Villa AWO
DESCRIPTION:
URL:https://koelner-stadtteilliebe.de/veranstaltungen-events/sturzprophylaxe-in-der-villa-awo/
LOCATION:Villa AWO\, Walter-Rathenau-Str. 9\, Köln-Rodenkirchen\, 50996
ATTACH;FMTTYPE=image/png:https://koelner-stadtteilliebe.de/wp-content/uploads/2026/03/Hintergrund-Fruehling-2026.png
END:VEVENT
BEGIN:VEVENT
DTSTART;TZID=Europe/Berlin:20260224T180000
DTEND;TZID=Europe/Berlin:20260224T220000
DTSTAMP:20260424T155055
CREATED:20260224T171319Z
LAST-MODIFIED:20260224T171319Z
UID:117125-1771956000-1771970400@koelner-stadtteilliebe.de
SUMMARY:Ladies Night
DESCRIPTION:
URL:https://koelner-stadtteilliebe.de/veranstaltungen-events/ladies-night/
ATTACH;FMTTYPE=image/png:https://koelner-stadtteilliebe.de/wp-content/uploads/2026/03/Hintergrund-Fruehling-2026.png
END:VEVENT
END:VCALENDAR