BEGIN:VCALENDAR
VERSION:2.0
PRODID:-//koelner-stadtteilliebe - ECPv6.15.20//NONSGML v1.0//EN
CALSCALE:GREGORIAN
METHOD:PUBLISH
X-ORIGINAL-URL:https://koelner-stadtteilliebe.de
X-WR-CALDESC:Veranstaltungen für koelner-stadtteilliebe
REFRESH-INTERVAL;VALUE=DURATION:PT1H
X-Robots-Tag:noindex
X-PUBLISHED-TTL:PT1H
BEGIN:VTIMEZONE
TZID:Europe/Berlin
BEGIN:DAYLIGHT
TZOFFSETFROM:+0100
TZOFFSETTO:+0200
TZNAME:CEST
DTSTART:20250330T010000
END:DAYLIGHT
BEGIN:STANDARD
TZOFFSETFROM:+0200
TZOFFSETTO:+0100
TZNAME:CET
DTSTART:20251026T010000
END:STANDARD
BEGIN:DAYLIGHT
TZOFFSETFROM:+0100
TZOFFSETTO:+0200
TZNAME:CEST
DTSTART:20260329T010000
END:DAYLIGHT
BEGIN:STANDARD
TZOFFSETFROM:+0200
TZOFFSETTO:+0100
TZNAME:CET
DTSTART:20261025T010000
END:STANDARD
BEGIN:DAYLIGHT
TZOFFSETFROM:+0100
TZOFFSETTO:+0200
TZNAME:CEST
DTSTART:20270328T010000
END:DAYLIGHT
BEGIN:STANDARD
TZOFFSETFROM:+0200
TZOFFSETTO:+0100
TZNAME:CET
DTSTART:20271031T010000
END:STANDARD
END:VTIMEZONE
BEGIN:VEVENT
DTSTART;VALUE=DATE:20260221
DTEND;VALUE=DATE:20260301
DTSTAMP:20260422T110308
CREATED:20260120T104820Z
LAST-MODIFIED:20260120T104820Z
UID:115507-1771632000-1772323199@koelner-stadtteilliebe.de
SUMMARY:Ausstellung "Hautnah" in der Galerie K49
DESCRIPTION:HAUT und NÄHE lassen unmittelbar an Berührung denken. Der Titel „hautnah“ beschreibt diese besondere Nähe\, die einer Berührung vorausgeht. Genau darum geht es in den Bildern\, Objekten und Skulpturen des Künstlertrios Brigitte Mekelburg\, Helmut Brandt und Kalle Paltzer.  \nWährend Brandt hauchdünne Acryl-Farbhäute von Glasplatten löst  und sie als glatte\, gebrochene\, rissige oder fragmentierte Schichten auf Leinwände überträgt\, suggerieren Paltzers Papierschichten Verletzungen\, Äderchen\, Gerippe und Zerbrechlichkeit. Mekelburg verwendet Gips\, Wachs und Kaseinfarbe für ihre eigentümlichen Kreationen\, die sich zwischen Organischem und Gestaltetem bewegen. \nWas alle Arbeiten miteinander verbindet ist\, dass sie die Betrachtenden reizen\, die Oberflächen zu berühren\, statt nur „mit dem Auge zu fühlen“. \nVernissage: Sa. 21.02.2026 ab 17.00 Uhr \nFinissage: Sa. 28.02.2026 ab 17.00 Uhr \nTäglich geöffnet: 15.00 – 18.00 Uhr \nGoltsteinstr. 49\, 50968 Köln-Bayenthal
URL:https://koelner-stadtteilliebe.de/veranstaltungen-events/ausstellung-hautnah-in-der-galerie-k49/
LOCATION:K49 Raum für Kreative\, Goldsteinstraße 49\, Köln\, 50968
ATTACH;FMTTYPE=image/png:https://koelner-stadtteilliebe.de/wp-content/uploads/2026/03/Hintergrund-Fruehling-2026.png
END:VEVENT
BEGIN:VEVENT
DTSTART;TZID=Europe/Berlin:20260221T150000
DTEND;TZID=Europe/Berlin:20260228T180000
DTSTAMP:20260422T110308
CREATED:20260215T131519Z
LAST-MODIFIED:20260215T131519Z
UID:116791-1771686000-1772301600@koelner-stadtteilliebe.de
SUMMARY:Ausstellung "Hautnah" Brigitte Mekelburg\, Hermut BVrandt\, Kalle Paltzer
DESCRIPTION:HAUT und NÄHE lassen unmittelbar an Berührung denken. Der Titel „hautnah“ beschreibt diese besondere Nähe\, die einer Berührung vorausgeht. Genau darum geht es in den Bildern\, Objekten und Skulpturen des Künstlertrios Brigitte Mekelburg\, Helmut Brandt und Kalle Paltzer. Während Brandt hauchdünne Acryl-Farbhäute von Glasplatten löst und sie als glatte\, gebrochene\, rissige oder fragmentierte Schichten auf Leinwände überträgt\, suggerieren Paltzers Papierschichten Verletzungen\, Äderchen\, Gerippe und Zerbrechlichkeit. Mekelburg verwendet Gips\, Wachs und Kaseinfarbe für ihre eigentümlichen Kreationen\, die sich zwischen Organischem und Gestaltetem bewegen. Was alle Arbeiten miteinander verbindet ist\, dass sie die Betrachtenden reizen\, die Oberflächen zu berühren\, statt nur „mit dem Auge zu fühlen“.
URL:https://koelner-stadtteilliebe.de/veranstaltungen-events/ausstellung-hautnah-brigitte-mekelburg-hermut-bvrandt-kalle-paltzer/
LOCATION:K49 Raum für Kreative\, Goldsteinstraße 49\, Köln\, 50968
ATTACH;FMTTYPE=image/png:https://koelner-stadtteilliebe.de/wp-content/uploads/2026/03/Hintergrund-Fruehling-2026.png
END:VEVENT
BEGIN:VEVENT
DTSTART;TZID=Europe/Berlin:20260225T100000
DTEND;TZID=Europe/Berlin:20260225T113000
DTSTAMP:20260422T110308
CREATED:20260208T200333Z
LAST-MODIFIED:20260208T200357Z
UID:116356-1772013600-1772019000@koelner-stadtteilliebe.de
SUMMARY:Mobilitätstraining 60+ der KVB
DESCRIPTION:
URL:https://koelner-stadtteilliebe.de/veranstaltungen-events/mobilitaetstraining-60-der-kvb/
ATTACH;FMTTYPE=image/png:https://koelner-stadtteilliebe.de/wp-content/uploads/2026/03/Hintergrund-Fruehling-2026.png
END:VEVENT
BEGIN:VEVENT
DTSTART;TZID=Europe/Berlin:20260225T103000
DTEND;TZID=Europe/Berlin:20260225T120000
DTSTAMP:20260422T110308
CREATED:20260208T203544Z
LAST-MODIFIED:20260208T203544Z
UID:116471-1772015400-1772020800@koelner-stadtteilliebe.de
SUMMARY:Eltern Kind Gruppe
DESCRIPTION:
URL:https://koelner-stadtteilliebe.de/veranstaltungen-events/eltern-kind-gruppe-2/
ATTACH;FMTTYPE=image/png:https://koelner-stadtteilliebe.de/wp-content/uploads/2026/03/Hintergrund-Fruehling-2026.png
END:VEVENT
BEGIN:VEVENT
DTSTART;TZID=Europe/Berlin:20260225T143000
DTEND;TZID=Europe/Berlin:20260225T153000
DTSTAMP:20260422T110308
CREATED:20260208T201727Z
LAST-MODIFIED:20260208T201727Z
UID:116393-1772029800-1772033400@koelner-stadtteilliebe.de
SUMMARY:Digital Fit in der Villa AWO
DESCRIPTION:
URL:https://koelner-stadtteilliebe.de/veranstaltungen-events/digital-fit-in-der-villa-awo-3/
LOCATION:Villa AWO\, Walter-Rathenau-Str. 9\, Köln-Rodenkirchen\, 50996
ATTACH;FMTTYPE=image/png:https://koelner-stadtteilliebe.de/wp-content/uploads/2026/03/Hintergrund-Fruehling-2026.png
END:VEVENT
BEGIN:VEVENT
DTSTART;TZID=Europe/Berlin:20260225T190000
DTEND;TZID=Europe/Berlin:20260225T194500
DTSTAMP:20260422T110308
CREATED:20260209T123440Z
LAST-MODIFIED:20260209T123440Z
UID:116516-1772046000-1772048700@koelner-stadtteilliebe.de
SUMMARY:Power Pilates in der Villa AWO
DESCRIPTION:
URL:https://koelner-stadtteilliebe.de/veranstaltungen-events/power-pilates-in-der-villa-awo-2/
LOCATION:Villa AWO\, Walter-Rathenau-Str. 9\, Köln-Rodenkirchen\, 50996
ATTACH;FMTTYPE=image/png:https://koelner-stadtteilliebe.de/wp-content/uploads/2026/03/Hintergrund-Fruehling-2026.png
END:VEVENT
END:VCALENDAR