BEGIN:VCALENDAR
VERSION:2.0
PRODID:-//koelner-stadtteilliebe - ECPv6.15.20//NONSGML v1.0//EN
CALSCALE:GREGORIAN
METHOD:PUBLISH
X-ORIGINAL-URL:https://koelner-stadtteilliebe.de
X-WR-CALDESC:Veranstaltungen für koelner-stadtteilliebe
REFRESH-INTERVAL;VALUE=DURATION:PT1H
X-Robots-Tag:noindex
X-PUBLISHED-TTL:PT1H
BEGIN:VTIMEZONE
TZID:Europe/Berlin
BEGIN:DAYLIGHT
TZOFFSETFROM:+0100
TZOFFSETTO:+0200
TZNAME:CEST
DTSTART:20250330T010000
END:DAYLIGHT
BEGIN:STANDARD
TZOFFSETFROM:+0200
TZOFFSETTO:+0100
TZNAME:CET
DTSTART:20251026T010000
END:STANDARD
BEGIN:DAYLIGHT
TZOFFSETFROM:+0100
TZOFFSETTO:+0200
TZNAME:CEST
DTSTART:20260329T010000
END:DAYLIGHT
BEGIN:STANDARD
TZOFFSETFROM:+0200
TZOFFSETTO:+0100
TZNAME:CET
DTSTART:20261025T010000
END:STANDARD
BEGIN:DAYLIGHT
TZOFFSETFROM:+0100
TZOFFSETTO:+0200
TZNAME:CEST
DTSTART:20270328T010000
END:DAYLIGHT
BEGIN:STANDARD
TZOFFSETFROM:+0200
TZOFFSETTO:+0100
TZNAME:CET
DTSTART:20271031T010000
END:STANDARD
END:VTIMEZONE
BEGIN:VEVENT
DTSTART;VALUE=DATE:20260221
DTEND;VALUE=DATE:20260301
DTSTAMP:20260424T174507
CREATED:20260120T104820Z
LAST-MODIFIED:20260120T104820Z
UID:115507-1771632000-1772323199@koelner-stadtteilliebe.de
SUMMARY:Ausstellung "Hautnah" in der Galerie K49
DESCRIPTION:HAUT und NÄHE lassen unmittelbar an Berührung denken. Der Titel „hautnah“ beschreibt diese besondere Nähe\, die einer Berührung vorausgeht. Genau darum geht es in den Bildern\, Objekten und Skulpturen des Künstlertrios Brigitte Mekelburg\, Helmut Brandt und Kalle Paltzer.  \nWährend Brandt hauchdünne Acryl-Farbhäute von Glasplatten löst  und sie als glatte\, gebrochene\, rissige oder fragmentierte Schichten auf Leinwände überträgt\, suggerieren Paltzers Papierschichten Verletzungen\, Äderchen\, Gerippe und Zerbrechlichkeit. Mekelburg verwendet Gips\, Wachs und Kaseinfarbe für ihre eigentümlichen Kreationen\, die sich zwischen Organischem und Gestaltetem bewegen. \nWas alle Arbeiten miteinander verbindet ist\, dass sie die Betrachtenden reizen\, die Oberflächen zu berühren\, statt nur „mit dem Auge zu fühlen“. \nVernissage: Sa. 21.02.2026 ab 17.00 Uhr \nFinissage: Sa. 28.02.2026 ab 17.00 Uhr \nTäglich geöffnet: 15.00 – 18.00 Uhr \nGoltsteinstr. 49\, 50968 Köln-Bayenthal
URL:https://koelner-stadtteilliebe.de/veranstaltungen-events/ausstellung-hautnah-in-der-galerie-k49/
LOCATION:K49 Raum für Kreative\, Goldsteinstraße 49\, Köln\, 50968
ATTACH;FMTTYPE=image/png:https://koelner-stadtteilliebe.de/wp-content/uploads/2026/03/Hintergrund-Fruehling-2026.png
END:VEVENT
BEGIN:VEVENT
DTSTART;TZID=Europe/Berlin:20260221T150000
DTEND;TZID=Europe/Berlin:20260228T180000
DTSTAMP:20260424T174507
CREATED:20260215T131519Z
LAST-MODIFIED:20260215T131519Z
UID:116791-1771686000-1772301600@koelner-stadtteilliebe.de
SUMMARY:Ausstellung "Hautnah" Brigitte Mekelburg\, Hermut BVrandt\, Kalle Paltzer
DESCRIPTION:HAUT und NÄHE lassen unmittelbar an Berührung denken. Der Titel „hautnah“ beschreibt diese besondere Nähe\, die einer Berührung vorausgeht. Genau darum geht es in den Bildern\, Objekten und Skulpturen des Künstlertrios Brigitte Mekelburg\, Helmut Brandt und Kalle Paltzer. Während Brandt hauchdünne Acryl-Farbhäute von Glasplatten löst und sie als glatte\, gebrochene\, rissige oder fragmentierte Schichten auf Leinwände überträgt\, suggerieren Paltzers Papierschichten Verletzungen\, Äderchen\, Gerippe und Zerbrechlichkeit. Mekelburg verwendet Gips\, Wachs und Kaseinfarbe für ihre eigentümlichen Kreationen\, die sich zwischen Organischem und Gestaltetem bewegen. Was alle Arbeiten miteinander verbindet ist\, dass sie die Betrachtenden reizen\, die Oberflächen zu berühren\, statt nur „mit dem Auge zu fühlen“.
URL:https://koelner-stadtteilliebe.de/veranstaltungen-events/ausstellung-hautnah-brigitte-mekelburg-hermut-bvrandt-kalle-paltzer/
LOCATION:K49 Raum für Kreative\, Goldsteinstraße 49\, Köln\, 50968
ATTACH;FMTTYPE=image/png:https://koelner-stadtteilliebe.de/wp-content/uploads/2026/03/Hintergrund-Fruehling-2026.png
END:VEVENT
BEGIN:VEVENT
DTSTART;TZID=Europe/Berlin:20260226T110000
DTEND;TZID=Europe/Berlin:20260226T123000
DTSTAMP:20260424T174507
CREATED:20260220T080137Z
LAST-MODIFIED:20260220T080137Z
UID:116935-1772103600-1772109000@koelner-stadtteilliebe.de
SUMMARY:ONLINE-BANKING EINFACH ERKLÄRT
DESCRIPTION:
URL:https://koelner-stadtteilliebe.de/veranstaltungen-events/online-banking-einfach-erklaert-2/
LOCATION:Villa AWO\, Walter-Rathenau-Str. 9\, Köln-Rodenkirchen\, 50996
ATTACH;FMTTYPE=image/png:https://koelner-stadtteilliebe.de/wp-content/uploads/2026/03/Hintergrund-Fruehling-2026.png
END:VEVENT
BEGIN:VEVENT
DTSTART;TZID=Europe/Berlin:20260226T160000
DTEND;TZID=Europe/Berlin:20260226T170000
DTSTAMP:20260424T174507
CREATED:20260109T212959Z
LAST-MODIFIED:20260109T212959Z
UID:115057-1772121600-1772125200@koelner-stadtteilliebe.de
SUMMARY:Facharbeitssprechstunde
DESCRIPTION:
URL:https://koelner-stadtteilliebe.de/veranstaltungen-events/facharbeitssprechstunde-2/
LOCATION:Stadtteilbibliothek Rodenkirchen\, Schillingsrotter Str. 38\, Köln-Rodenkirchen\, 50996
ATTACH;FMTTYPE=image/png:https://koelner-stadtteilliebe.de/wp-content/uploads/2026/03/Hintergrund-Fruehling-2026.png
END:VEVENT
BEGIN:VEVENT
DTSTART;TZID=Europe/Berlin:20260226T200000
DTEND;TZID=Europe/Berlin:20260226T213000
DTSTAMP:20260424T174507
CREATED:20260108T082551Z
LAST-MODIFIED:20260108T082551Z
UID:114834-1772136000-1772141400@koelner-stadtteilliebe.de
SUMMARY:Salon de Jazz und sein Programm
DESCRIPTION:Salon de Jazz und sein Programm \nJanuar \n9.1.2026 origina1nerd 20h\n13.1.2026 Clemens Orth Trio 20h\n14.1.2026 Thimo Niesterok Quartett 20h\n15.1.2026 Organ Smarties 20h\n22.1.2026 Nils Tegen Trio 20h\n30.1.2026 Poetry Jam 20h \nFebruar (Greek Music Festival*) \n4.2.2026 George Xylouris Tag 1 20h *\n5.2.2026 George Xylouris Tag 2 20h *\n6.2.2026 The Ben Fitzpatrick Quartet 20h\n7.2.2026 Créme Brüllèe 20h\n11.2.2026 The Coke Bop Heroes 20h\n18.2.2026 Vitaliy Zolotov Quartett „live recording“ 20h\n19.2.2026 ROUZBEH ASGARIAN TRIO 20h\n21.2.2026 Fevronia 20h *\n26.2.2026 ORGANIC UNIVERSE 20h\n27.2.2026 Poetry Jam 20h \nwww.salondejazz.de \nSeverinskloster 3a\, 50678 Köln
URL:https://koelner-stadtteilliebe.de/veranstaltungen-events/salon-de-jazz-und-sein-programm-10/
LOCATION:Salon de Jazz\, Severinskloster 3a\, Köln
ATTACH;FMTTYPE=image/png:https://koelner-stadtteilliebe.de/wp-content/uploads/2026/03/Hintergrund-Fruehling-2026.png
END:VEVENT
END:VCALENDAR