BEGIN:VCALENDAR
VERSION:2.0
PRODID:-//koelner-stadtteilliebe - ECPv6.15.20//NONSGML v1.0//EN
CALSCALE:GREGORIAN
METHOD:PUBLISH
X-WR-CALNAME:koelner-stadtteilliebe
X-ORIGINAL-URL:https://koelner-stadtteilliebe.de
X-WR-CALDESC:Veranstaltungen für koelner-stadtteilliebe
REFRESH-INTERVAL;VALUE=DURATION:PT1H
X-Robots-Tag:noindex
X-PUBLISHED-TTL:PT1H
BEGIN:VTIMEZONE
TZID:Europe/Berlin
BEGIN:DAYLIGHT
TZOFFSETFROM:+0100
TZOFFSETTO:+0200
TZNAME:CEST
DTSTART:20250330T010000
END:DAYLIGHT
BEGIN:STANDARD
TZOFFSETFROM:+0200
TZOFFSETTO:+0100
TZNAME:CET
DTSTART:20251026T010000
END:STANDARD
BEGIN:DAYLIGHT
TZOFFSETFROM:+0100
TZOFFSETTO:+0200
TZNAME:CEST
DTSTART:20260329T010000
END:DAYLIGHT
BEGIN:STANDARD
TZOFFSETFROM:+0200
TZOFFSETTO:+0100
TZNAME:CET
DTSTART:20261025T010000
END:STANDARD
BEGIN:DAYLIGHT
TZOFFSETFROM:+0100
TZOFFSETTO:+0200
TZNAME:CEST
DTSTART:20270328T010000
END:DAYLIGHT
BEGIN:STANDARD
TZOFFSETFROM:+0200
TZOFFSETTO:+0100
TZNAME:CET
DTSTART:20271031T010000
END:STANDARD
END:VTIMEZONE
BEGIN:VEVENT
DTSTART;TZID=Europe/Berlin:20260307T193000
DTEND;TZID=Europe/Berlin:20260315T120000
DTSTAMP:20260422T140930
CREATED:20260302T155221Z
LAST-MODIFIED:20260302T155221Z
UID:118479-1772911800-1773576000@koelner-stadtteilliebe.de
SUMMARY:Stefan Kaiser: Ausstellung und Konzert
DESCRIPTION:
URL:https://koelner-stadtteilliebe.de/veranstaltungen-events/stefan-kaiser-ausstellung-und-konzert/
LOCATION:Link Architekten\, Rondorfer Hauptstr. 45\, Köln\, 50997
ATTACH;FMTTYPE=image/png:https://koelner-stadtteilliebe.de/wp-content/uploads/2026/03/Hintergrund-Fruehling-2026.png
END:VEVENT
BEGIN:VEVENT
DTSTART;TZID=Europe/Berlin:20260309T140000
DTEND;TZID=Europe/Berlin:20260314T180000
DTSTAMP:20260422T140930
CREATED:20260301T184545Z
LAST-MODIFIED:20260301T184659Z
UID:117740-1773064800-1773511200@koelner-stadtteilliebe.de
SUMMARY:Stefan Kaiser\, Bildhauer und Musiker aus Rodenkirchen
DESCRIPTION:Stefan Kaiser\, Bildhauer und Musiker aus Rodenkirchen \nStefan Kaiser\, Jahrgang 1956\, ist ein echtes Rodenkirchener Kind – verwurzelt in dritter Generation. Seine Familie ist seit dem 19. Jahrhundert hier zu Hause und ihre Spuren sind tief in die Geschichte des Ortes eingeschrieben. Die Großeltern lebten und arbeiteten bereits in Rodenkirchen: Die Großmutter zunächst als Haushaltshilfe in der sogenannten Kolvenbach-Villa\, später als Schaffnerin der Pferdebahn\, die den Ort mit der Stadt verband. Die Großväter verdienten ihr Leben als Schlosser und als Schiffer\, der die vorbeiziehenden Schiffe mit Lebensmitteln versorgte. In vielen überlieferten Familiengeschichten wird das frühe 20. Jahrhundert bis heute lebendig – Geschichten von Arbeit\, Wandel und einem Ort am Rhein\, der nie stillstand. \nAufgewachsen in einer musikalischen Familie mit drei Geschwistern\, die alle Musiker wurden\, fand Stefan Kaiser früh Zugang zu Kunst und Klang. Dennoch entschied er sich nach der Schulzeit zunächst für das Handwerk: Er absolvierte seine Ausbildung zum Steinmetz und Steinbildhauer an der Kölner Dombauhütte – einem Ort\, an dem Präzision\, Geduld und Respekt vor dem Material bis heute den Alltag bestimmen. Ein prägendes Jahr als Privatschüler im Atelier des Bildhauers Elmar Hillebrand schloss sich an. Eine Verbindung\, die bis zum Tod Hillebrands bedeutsam war. Anschließend studierte Stefan Kaiser mit Begeisterung Bildhauerei an der Fachhochschule für Kunst und Design in Köln und arbeitete von 1978 bis 2022 in seinem Atelier in Köln-Weiß. Dort entstanden zahlreiche Auftragsarbeiten für das Erzbistum Köln\, die Stadt Köln sowie für private Auftraggeber. Er entwickelte seit den 90er Jahren sein bis heute bedeutsames Werk „Architektonische Plastik“\, in dem Raum\, Form und Material in einen spannungsreichen Dialog treten. \nSeine freien Arbeiten sind übrigens heute auch in Rodenkirchen sichtbar – nicht in abgeschlossenen Räumen\, sondern mitten im Alltag. Der von ihm 2020 initiierte „Skulpturenpfad Rodenkirchen“ führt durch private Vorgärten und lässt Kunst und Nachbarschaft auf ungezwungene Weise zusammentreffen. Ein Spaziergang wird so zur Begegnung mit Skulptur\, Ort und Geschichte. Auf www.kaiserskulpturen.de finden sie dazu viele Informationen. \nParallel zu seiner bildhauerischen Arbeit ist die Musik fester Bestandteil seines Lebens und künstlerischen Schaffens\, welche ihn ein Leben lang begleitet. Mit sechs Jahren begann er nämlich\, Violoncello zu spielen – ein Instrument\, das ihn bis heute nicht losgelassen hat. Später\, im Jahr 2000\, begann er das Spiel auf dem Kontrabass und erweiterte damit die Möglichkeiten musikalischer Verwirklichung auch in der Jazzmusik. Seit der Corona-Pandemie komponiert er mit Begeisterung eigene kammermusikalische Werke\, die er gemeinsam mit seinen Geschwistern und befreundeten Musikerinnen und Musikern bei verschiedenen Anlässen zur Aufführung bringt. \nEin bewegtes und interessantes Leben\, und anlässlich seines 70. Geburtstages lädt Stefan Kaiser nun zu einer besonderen Ausstellung mit Konzert ein. Gezeigt werden bildhauerische Arbeiten aus dem Werkkomplex „Architektonische Plastik“ sowie erstmals eine Serie von Bleistiftzeichnungen mit dem Titel „Veduten von Rom“. Diese entstanden 1994 während eines einjährigen freien Aufenthalts in Rom und zeugen von genauer Beobachtung\, Ruhe und einem tiefen Interesse am gebauten Raum. \nDer offizielle Teil der Ausstellung mit Konzert findet am Samstag\, 7.3.2026\, von 17 bis 19:30 Uhr in der Kulturkirche der Link-Architekten in Köln-Rondorf\, Rondorfer Hauptstraße 45\, statt. \nZur Finissage am Sonntag\, den 15.3.\, erklingt um 12 Uhr ein abschließendes Konzert mit dem Jazzensemble „Klangklau“\, in dem Stefan Kaiser am Kontrabass zu hören ist. \nAlle Interessierten sind herzlich eingeladen\, mitzufeiern\, zuzuhören und mitzusehen – an einem Ort\, an dem Kunst\, Musik und gelebte Geschichte zusammenkommen und ein Mann mit prägender Geschichte die Bühne betritt. Die reine Ausstellung kann übrigens von Montag\, 09.03. bis Samstag\, 14.03.2026\, von 15 bis 18 Uhr besichtigt werden. \nAuf Wunsch des Künstlers ein Selbstporträt
URL:https://koelner-stadtteilliebe.de/veranstaltungen-events/stefan-kaiser-bildhauer-und-musiker-aus-rodenkirchen-2/
LOCATION:Kulturkirche Rondorf\, Rondorfer Hauptstr. 45\, Köln-Rondorf\, 50997
ATTACH;FMTTYPE=image/png:https://koelner-stadtteilliebe.de/wp-content/uploads/2026/03/Hintergrund-Fruehling-2026.png
END:VEVENT
BEGIN:VEVENT
DTSTART;TZID=Europe/Berlin:20260311T100000
DTEND;TZID=Europe/Berlin:20260311T150000
DTSTAMP:20260422T140930
CREATED:20260304T080634Z
LAST-MODIFIED:20260304T080634Z
UID:119158-1773223200-1773241200@koelner-stadtteilliebe.de
SUMMARY:Wandern in Zollstock
DESCRIPTION:Die Wandergruppe Zollstock lädt alle Bewegungsfreudigen herzlich zu gemeinsamen Spazier- und Wandertouren ein. In gemütlichem Tempo und mit leichtem Schwierigkeitsgrad erkunden sie abwechslungsreiche Wege und genießen die Natur in geselliger Runde. Treffpunkt ist mittwochs um 10 Uhr am Höninger Platz\, Eingang Südfriedhof (bei den Bänken). Die Wegstrecke beträgt je nach Route etwa 10 bis 14 Kilometer und die genauen Details der Tour werden jeweils gemeinsam mit den Anwesenden vor Ort abgesprochen. Die Wanderungen finden alle 14 Tage in den ungeraden Kalenderwochen des Jahres statt. Ob allein oder in Begleitung – alle\, die Freude an Bewegung und netten Gesprächen haben\, sind herzlich willkommen.
URL:https://koelner-stadtteilliebe.de/veranstaltungen-events/wandern-in-zollstock/
ATTACH;FMTTYPE=image/png:https://koelner-stadtteilliebe.de/wp-content/uploads/2026/03/Hintergrund-Fruehling-2026.png
END:VEVENT
BEGIN:VEVENT
DTSTART;TZID=Europe/Berlin:20260311T103000
DTEND;TZID=Europe/Berlin:20260311T120000
DTSTAMP:20260422T140930
CREATED:20260208T203740Z
LAST-MODIFIED:20260208T203740Z
UID:116476-1773225000-1773230400@koelner-stadtteilliebe.de
SUMMARY:Eltern Kind Gruppe
DESCRIPTION:
URL:https://koelner-stadtteilliebe.de/veranstaltungen-events/eltern-kind-gruppe-4/
ATTACH;FMTTYPE=image/png:https://koelner-stadtteilliebe.de/wp-content/uploads/2026/03/Hintergrund-Fruehling-2026.png
END:VEVENT
BEGIN:VEVENT
DTSTART;TZID=Europe/Berlin:20260311T143000
DTEND;TZID=Europe/Berlin:20260311T153000
DTSTAMP:20260422T140930
CREATED:20260208T201848Z
LAST-MODIFIED:20260208T201848Z
UID:116399-1773239400-1773243000@koelner-stadtteilliebe.de
SUMMARY:Digital Fit in der Villa AWO
DESCRIPTION:
URL:https://koelner-stadtteilliebe.de/veranstaltungen-events/digital-fit-in-der-villa-awo-5/
LOCATION:Villa AWO\, Walter-Rathenau-Str. 9\, Köln-Rodenkirchen\, 50996
ATTACH;FMTTYPE=image/png:https://koelner-stadtteilliebe.de/wp-content/uploads/2026/03/Hintergrund-Fruehling-2026.png
END:VEVENT
BEGIN:VEVENT
DTSTART;TZID=Europe/Berlin:20260311T143000
DTEND;TZID=Europe/Berlin:20260311T170000
DTSTAMP:20260422T140930
CREATED:20260304T082005Z
LAST-MODIFIED:20260304T082005Z
UID:119217-1773239400-1773248400@koelner-stadtteilliebe.de
SUMMARY:Die rüstigen Rentner von Weiß
DESCRIPTION:Jeden Mittwoch von 14.30 bis 17 Uhr wird es lebendig\, fröhlich und herzlich im renovierten Pfarrheim St. Georg in Weiß – denn dann ist Seniorennachmittag. In ganz entspannter Runde kommen Damen und Herren ab 60 Jahren zusammen\, um gemeinsam schöne Stunden zu verbringen\, zu lachen\, zu erzählen und einfach das Miteinander zu genießen und wer einmal da war\, kommt in der Regel auch wieder. Denn bei einer gemütlichen Tasse Kaffee\, leckerem Kuchen sowie einer kleinen Auswahl an alkoholischen und alkoholfreien Getränken – liebevoll und für „kleines Geld“ von fleißigen Helferinnen serviert – entstehen schnell gute Gespräche. Es wird geklönt\, Karten oder Gesellschaftsspiele gespielt\, auch hilft man sich gegenseitig mit kleinen Alltagstipps bzw. tauscht die neuesten „Weißer Neuigkeiten“ aus. Alles ganz ungezwungen\, ohne Verpflichtungen – so\, wie man sich wohlfühlt. Demnach ist eine Anmeldung nicht nötig\, denn es sind immer genug Plätze frei. Was toll ist\, Parkmöglichkeiten gibt es direkt vor Ort und der ÖPNV ist auch nicht weit. Ob man regelmäßig kommt oder einfach mal reinschnuppern möchte: Jede und jeder ist herzlich willkommen. Ein besonderes Highlight\, über das an diesen Nachmittagen immer wieder begeistert gesprochen wird\, sind übrigens die gemeinsamen Ausfahrten. Einmal im Monat geht es für die gutgelaunte Runde nämlich mit dem Bus „op Jöck“ – zu schönen Zielen in der näheren Umgebung\, mit einem liebevoll geplanten Rahmenprogramm. Organisiert wird das alles mit viel Herz und Engagement aus den eigenen Reihen – und genau das macht diese Seniorennachmittage so besonders. Hier steht man noch füreinander ein und macht diese Runde wirklich besonders. \n 
URL:https://koelner-stadtteilliebe.de/veranstaltungen-events/die-ruestigen-rentner-von-weiss-3/
ATTACH;FMTTYPE=image/png:https://koelner-stadtteilliebe.de/wp-content/uploads/2026/03/Hintergrund-Fruehling-2026.png
END:VEVENT
BEGIN:VEVENT
DTSTART;TZID=Europe/Berlin:20260311T190000
DTEND;TZID=Europe/Berlin:20260311T194500
DTSTAMP:20260422T140930
CREATED:20260209T123514Z
LAST-MODIFIED:20260209T123514Z
UID:116519-1773255600-1773258300@koelner-stadtteilliebe.de
SUMMARY:Power Pilates in der Villa AWO
DESCRIPTION:
URL:https://koelner-stadtteilliebe.de/veranstaltungen-events/power-pilates-in-der-villa-awo-3/
LOCATION:Villa AWO\, Walter-Rathenau-Str. 9\, Köln-Rodenkirchen\, 50996
ATTACH;FMTTYPE=image/png:https://koelner-stadtteilliebe.de/wp-content/uploads/2026/03/Hintergrund-Fruehling-2026.png
END:VEVENT
BEGIN:VEVENT
DTSTART;TZID=Europe/Berlin:20260311T190000
DTEND;TZID=Europe/Berlin:20260311T203000
DTSTAMP:20260422T140930
CREATED:20260304T062215Z
LAST-MODIFIED:20260304T062215Z
UID:118759-1773255600-1773261000@koelner-stadtteilliebe.de
SUMMARY:Power Pilates bringt Schwung auf die Matte und ein gutes Gefühl in den Körper!
DESCRIPTION:Power Pilates bringt Schwung auf die Matte und ein gutes Gefühl in den Körper! \nIn 45 dynamischen Minuten verbinden Sie kräftigende Übungen mit fließenden Bewegungen und bewusster Atmung. Sie stärken Ihre Körpermitte\, werden beweglicher und gehen mit neuer Energie nach Hause. Gemeinsam mit der Pilatestrainerin Edith Fuchs trainieren Sie effektiv\, motivierend und mit viel Freude an Bewegung und das sogar kostenlos. Egal\, ob Sie Pilates neu entdecken oder bereits Erfahrung haben – das gute Körpergefühl steht hier im Mittelpunkt. Kommen Sie alle 14 Tage\, z. B. am 11.3. und 25.3. usw. um 19 Uhr in die Villa AWO\, Walther-Rathenau-Straße 9\, 50996 Köln-Rodenkirchen und freuen Sie sich auf eine tolle Gruppe. Weitere Infos und zur Anmeldung: gemeinsamsindwirstaerker@awo-koeln.de  oder 0178 1463 796
URL:https://koelner-stadtteilliebe.de/veranstaltungen-events/power-pilates-bringt-schwung-auf-die-matte-und-ein-gutes-gefuehl-in-den-koerper/
LOCATION:Villa AWO\, Walter-Rathenau-Str. 9\, Köln-Rodenkirchen\, 50996
ATTACH;FMTTYPE=image/png:https://koelner-stadtteilliebe.de/wp-content/uploads/2026/03/Hintergrund-Fruehling-2026.png
END:VEVENT
BEGIN:VEVENT
DTSTART;TZID=Europe/Berlin:20260311T193000
DTEND;TZID=Europe/Berlin:20260311T210000
DTSTAMP:20260422T140930
CREATED:20260131T082216Z
LAST-MODIFIED:20260131T082216Z
UID:116004-1773257400-1773262800@koelner-stadtteilliebe.de
SUMMARY:SACH MA NIX in der Stadtbibliothek Rodenkirchen
DESCRIPTION:
URL:https://koelner-stadtteilliebe.de/veranstaltungen-events/sach-ma-nix-in-der-stadtbibliothek-rodenkirchen/
LOCATION:Stadtteilbibliothek Rodenkirchen\, Schillingsrotter Str. 38\, Köln-Rodenkirchen\, 50996
ATTACH;FMTTYPE=image/png:https://koelner-stadtteilliebe.de/wp-content/uploads/2026/03/Hintergrund-Fruehling-2026.png
END:VEVENT
END:VCALENDAR