BEGIN:VCALENDAR
VERSION:2.0
PRODID:-//koelner-stadtteilliebe - ECPv6.15.20//NONSGML v1.0//EN
CALSCALE:GREGORIAN
METHOD:PUBLISH
X-ORIGINAL-URL:https://koelner-stadtteilliebe.de
X-WR-CALDESC:Veranstaltungen für koelner-stadtteilliebe
REFRESH-INTERVAL;VALUE=DURATION:PT1H
X-Robots-Tag:noindex
X-PUBLISHED-TTL:PT1H
BEGIN:VTIMEZONE
TZID:Europe/Berlin
BEGIN:DAYLIGHT
TZOFFSETFROM:+0100
TZOFFSETTO:+0200
TZNAME:CEST
DTSTART:20250330T010000
END:DAYLIGHT
BEGIN:STANDARD
TZOFFSETFROM:+0200
TZOFFSETTO:+0100
TZNAME:CET
DTSTART:20251026T010000
END:STANDARD
BEGIN:DAYLIGHT
TZOFFSETFROM:+0100
TZOFFSETTO:+0200
TZNAME:CEST
DTSTART:20260329T010000
END:DAYLIGHT
BEGIN:STANDARD
TZOFFSETFROM:+0200
TZOFFSETTO:+0100
TZNAME:CET
DTSTART:20261025T010000
END:STANDARD
BEGIN:DAYLIGHT
TZOFFSETFROM:+0100
TZOFFSETTO:+0200
TZNAME:CEST
DTSTART:20270328T010000
END:DAYLIGHT
BEGIN:STANDARD
TZOFFSETFROM:+0200
TZOFFSETTO:+0100
TZNAME:CET
DTSTART:20271031T010000
END:STANDARD
END:VTIMEZONE
BEGIN:VEVENT
DTSTART;TZID=Europe/Berlin:20260307T193000
DTEND;TZID=Europe/Berlin:20260315T120000
DTSTAMP:20260424T162819
CREATED:20260302T155221Z
LAST-MODIFIED:20260302T155221Z
UID:118479-1772911800-1773576000@koelner-stadtteilliebe.de
SUMMARY:Stefan Kaiser: Ausstellung und Konzert
DESCRIPTION:
URL:https://koelner-stadtteilliebe.de/veranstaltungen-events/stefan-kaiser-ausstellung-und-konzert/
LOCATION:Link Architekten\, Rondorfer Hauptstr. 45\, Köln\, 50997
ATTACH;FMTTYPE=image/png:https://koelner-stadtteilliebe.de/wp-content/uploads/2026/03/Hintergrund-Fruehling-2026.png
END:VEVENT
BEGIN:VEVENT
DTSTART;TZID=Europe/Berlin:20260315T103000
DTEND;TZID=Europe/Berlin:20260315T130000
DTSTAMP:20260424T162819
CREATED:20251205T075430Z
LAST-MODIFIED:20251205T075430Z
UID:111083-1773570600-1773579600@koelner-stadtteilliebe.de
SUMMARY:Kochtreff in der Villa AWO
DESCRIPTION:
URL:https://koelner-stadtteilliebe.de/veranstaltungen-events/kochtreff-in-der-villa-awo-5/
LOCATION:Villa AWO\, Walter-Rathenau-Str. 9\, Köln-Rodenkirchen\, 50996
ATTACH;FMTTYPE=image/png:https://koelner-stadtteilliebe.de/wp-content/uploads/2026/03/Hintergrund-Fruehling-2026.png
END:VEVENT
BEGIN:VEVENT
DTSTART;TZID=Europe/Berlin:20260315T103000
DTEND;TZID=Europe/Berlin:20260315T133000
DTSTAMP:20260424T162819
CREATED:20251205T110800Z
LAST-MODIFIED:20251205T110800Z
UID:111163-1773570600-1773581400@koelner-stadtteilliebe.de
SUMMARY:Kochtreff in der Villa AWO
DESCRIPTION:
URL:https://koelner-stadtteilliebe.de/veranstaltungen-events/kochtreff-in-der-villa-awo-11/
LOCATION:Villa AWO\, Walter-Rathenau-Str. 9\, Köln-Rodenkirchen\, 50996
ATTACH;FMTTYPE=image/png:https://koelner-stadtteilliebe.de/wp-content/uploads/2026/03/Hintergrund-Fruehling-2026.png
END:VEVENT
BEGIN:VEVENT
DTSTART;TZID=Europe/Berlin:20260315T110000
DTEND;TZID=Europe/Berlin:20260315T140000
DTSTAMP:20260424T162819
CREATED:20260313T165341Z
LAST-MODIFIED:20260313T165341Z
UID:119745-1773572400-1773583200@koelner-stadtteilliebe.de
SUMMARY:Kinderflohmarkt Familienzentrum Südpark
DESCRIPTION:
URL:https://koelner-stadtteilliebe.de/veranstaltungen-events/kinderflohmarkt-familienzentrum-suedpark/
LOCATION:Ev. Gemeindehaus\, Sürther Strasse 34\, Köln-Rodenkirchen\, 50996
ATTACH;FMTTYPE=image/png:https://koelner-stadtteilliebe.de/wp-content/uploads/2026/03/Hintergrund-Fruehling-2026.png
END:VEVENT
BEGIN:VEVENT
DTSTART;TZID=Europe/Berlin:20260315T120000
DTEND;TZID=Europe/Berlin:20260315T150000
DTSTAMP:20260424T162819
CREATED:20260308T070623Z
LAST-MODIFIED:20260308T070623Z
UID:119396-1773576000-1773586800@koelner-stadtteilliebe.de
SUMMARY:Kleidertausch in Zollstock
DESCRIPTION:
URL:https://koelner-stadtteilliebe.de/veranstaltungen-events/kleidertausch-in-zollstock/
LOCATION:Melchatonkirchen\, Bornheimer Str. 1a\, Köln\, 50969
ATTACH;FMTTYPE=image/png:https://koelner-stadtteilliebe.de/wp-content/uploads/2026/03/Hintergrund-Fruehling-2026.png
END:VEVENT
BEGIN:VEVENT
DTSTART;TZID=Europe/Berlin:20260315T120000
DTEND;TZID=Europe/Berlin:20260315T150000
DTSTAMP:20260424T162819
CREATED:20260308T105423Z
LAST-MODIFIED:20260308T105423Z
UID:119459-1773576000-1773586800@koelner-stadtteilliebe.de
SUMMARY:Osterbasar des Kreativkreises und Kleidertauschaktion
DESCRIPTION:15.03.2026 (So) 12:00-15:00 Uhr \nOsterbasar des Kreativkreises und Kleidertauschaktion und KölschHätz-Cafeteria \nIm Gemeindezentru: \nEvangelische Kirchengemeinde \nMelanchthon\, Breninger Straße /Ecke Bornheimer Straße\, Zollstock
URL:https://koelner-stadtteilliebe.de/veranstaltungen-events/osterbasar-des-kreativkreises-und-kleidertauschaktion/
LOCATION:Evangelische Kirchengemeinde Köln-Zollstock Melanchthonkirche\,\, Evangelische Kirchengemeinde Köln-Zollstock Melanchthonkirche\, Breniger Straße 18\, Köln\, 50969
ATTACH;FMTTYPE=image/png:https://koelner-stadtteilliebe.de/wp-content/uploads/2026/03/Hintergrund-Fruehling-2026.png
END:VEVENT
BEGIN:VEVENT
DTSTART;TZID=Europe/Berlin:20260315T120000
DTEND;TZID=Europe/Berlin:20260315T150000
DTSTAMP:20260424T162819
CREATED:20260309T170318Z
LAST-MODIFIED:20260309T170318Z
UID:119508-1773576000-1773586800@koelner-stadtteilliebe.de
SUMMARY:Kleidertausch in Zollstock
DESCRIPTION:
URL:https://koelner-stadtteilliebe.de/veranstaltungen-events/kleidertausch-in-zollstock-2/
LOCATION:Evangelische Kirchengemeinde Köln-Zollstock Melanchthonkirche\,\, Evangelische Kirchengemeinde Köln-Zollstock Melanchthonkirche\, Breniger Straße 18\, Köln\, 50969
ATTACH;FMTTYPE=image/png:https://koelner-stadtteilliebe.de/wp-content/uploads/2026/03/Hintergrund-Fruehling-2026.png
END:VEVENT
END:VCALENDAR