BEGIN:VCALENDAR
VERSION:2.0
PRODID:-//koelner-stadtteilliebe - ECPv6.15.20//NONSGML v1.0//EN
CALSCALE:GREGORIAN
METHOD:PUBLISH
X-ORIGINAL-URL:https://koelner-stadtteilliebe.de
X-WR-CALDESC:Veranstaltungen für koelner-stadtteilliebe
REFRESH-INTERVAL;VALUE=DURATION:PT1H
X-Robots-Tag:noindex
X-PUBLISHED-TTL:PT1H
BEGIN:VTIMEZONE
TZID:Europe/Berlin
BEGIN:DAYLIGHT
TZOFFSETFROM:+0100
TZOFFSETTO:+0200
TZNAME:CEST
DTSTART:20250330T010000
END:DAYLIGHT
BEGIN:STANDARD
TZOFFSETFROM:+0200
TZOFFSETTO:+0100
TZNAME:CET
DTSTART:20251026T010000
END:STANDARD
BEGIN:DAYLIGHT
TZOFFSETFROM:+0100
TZOFFSETTO:+0200
TZNAME:CEST
DTSTART:20260329T010000
END:DAYLIGHT
BEGIN:STANDARD
TZOFFSETFROM:+0200
TZOFFSETTO:+0100
TZNAME:CET
DTSTART:20261025T010000
END:STANDARD
BEGIN:DAYLIGHT
TZOFFSETFROM:+0100
TZOFFSETTO:+0200
TZNAME:CEST
DTSTART:20270328T010000
END:DAYLIGHT
BEGIN:STANDARD
TZOFFSETFROM:+0200
TZOFFSETTO:+0100
TZNAME:CET
DTSTART:20271031T010000
END:STANDARD
END:VTIMEZONE
BEGIN:VEVENT
DTSTART;TZID=Europe/Berlin:20260317T080000
DTEND;TZID=Europe/Berlin:20260317T170000
DTSTAMP:20260424T105225
CREATED:20260317T091044Z
LAST-MODIFIED:20260317T091044Z
UID:119943-1773734400-1773766800@koelner-stadtteilliebe.de
SUMMARY:Die Grünen Rodenkirchen informieren: Sprechstunde
DESCRIPTION:Infostand mit unserer Bezirksbürgermeisterin Dr. Sabine Müller \nAm 20.03. ist unsere Bezirksbürgermeisterin Dr. Sabine Müller auf dem Marktplatz in Köln-Sürth vor Ort. \n10:30 – 13:00 Uhr \nKommt vorbei\, stellt eure Fragen und bringt eure Anliegen aus dem Stadtbezirk mit! Sabine sammelt Themen aus der Nachbarschaft\, beantwortet Fragen und informiert außerdem über die Olympia-Pläne für Köln. \nWir freuen uns auf den Austausch mit euch!
URL:https://koelner-stadtteilliebe.de/veranstaltungen-events/die-gruenen-rodenkirchen-informieren-sprechstunde/
ATTACH;FMTTYPE=image/png:https://koelner-stadtteilliebe.de/wp-content/uploads/2026/03/Hintergrund-Fruehling-2026.png
END:VEVENT
BEGIN:VEVENT
DTSTART;TZID=Europe/Berlin:20260317T093000
DTEND;TZID=Europe/Berlin:20260317T110000
DTSTAMP:20260424T105225
CREATED:20251110T125151Z
LAST-MODIFIED:20251110T125151Z
UID:109548-1773739800-1773745200@koelner-stadtteilliebe.de
SUMMARY:Stadtteilfrühstück für Senioren und Seniorinnen in Sürth
DESCRIPTION:
URL:https://koelner-stadtteilliebe.de/veranstaltungen-events/stadtteilfruehstueck-fuer-senioren-und-seniorinnen-in-suerth-7/
LOCATION:Pfarrheim St. Remigius\, Sürther Hauptstr. 130a\, Köln-Sürth\, 50999
ATTACH;FMTTYPE=image/png:https://koelner-stadtteilliebe.de/wp-content/uploads/2026/03/Hintergrund-Fruehling-2026.png
END:VEVENT
BEGIN:VEVENT
DTSTART;TZID=Europe/Berlin:20260317T110000
DTEND;TZID=Europe/Berlin:20260317T123000
DTSTAMP:20260424T105225
CREATED:20260212T082828Z
LAST-MODIFIED:20260212T082828Z
UID:116705-1773745200-1773750600@koelner-stadtteilliebe.de
SUMMARY:Sturzprophylaxe in der Villa AWO
DESCRIPTION:
URL:https://koelner-stadtteilliebe.de/veranstaltungen-events/sturzprophylaxe-in-der-villa-awo-4/
LOCATION:Villa AWO\, Walter-Rathenau-Str. 9\, Köln-Rodenkirchen\, 50996
ATTACH;FMTTYPE=image/png:https://koelner-stadtteilliebe.de/wp-content/uploads/2026/03/Hintergrund-Fruehling-2026.png
END:VEVENT
BEGIN:VEVENT
DTSTART;TZID=Europe/Berlin:20260317T150000
DTEND;TZID=Europe/Berlin:20260317T170000
DTSTAMP:20260424T105225
CREATED:20260304T063119Z
LAST-MODIFIED:20260304T063119Z
UID:118802-1773759600-1773766800@koelner-stadtteilliebe.de
SUMMARY:Wo der König\, der Bauer und der Läufer am Zuge ist
DESCRIPTION:Wo der König\, der Bauer und der Läufer am Zuge ist \nDer Schachclub im Bürgerhaus Zollstock lädt alle Schachbegeisterten herzlich ein\, gemeinsam die Freude am königlichen Spiel zu teilen. Jeden Dienstag um 15 Uhr treffen sich Anfänger ebenso wie erfahrene Spieler\, um in entspannter Atmosphäre Schach zuspielen\, zu lernen und sich auszutauschen. Ob eine spannende Partie\, ein freundschaftliches Duell oder einfach das gemeinsame Nachdenken über kluge Züge – der Schachclub bietet Raum für Begegnung\, Konzentration und Spaß. Einfach vorbeikommen und mitspielen – alle sind willkommen! \n 
URL:https://koelner-stadtteilliebe.de/veranstaltungen-events/wo-der-koenig-der-bauer-und-der-laeufer-am-zuge-ist-2/
LOCATION:Zollstocker Bürgerhaus\, Rosezweigweg 1\, Köln\, 50969
ATTACH;FMTTYPE=image/png:https://koelner-stadtteilliebe.de/wp-content/uploads/2026/03/Hintergrund-Fruehling-2026.png
END:VEVENT
BEGIN:VEVENT
DTSTART;TZID=Europe/Berlin:20260317T200000
DTEND;TZID=Europe/Berlin:20260317T213000
DTSTAMP:20260424T105225
CREATED:20260301T190028Z
LAST-MODIFIED:20260301T190028Z
UID:117801-1773777600-1773783000@koelner-stadtteilliebe.de
SUMMARY:Veranstltungen der süssen Zitronen
DESCRIPTION:
URL:https://koelner-stadtteilliebe.de/veranstaltungen-events/veranstltungen-der-suessen-zitronen-2/
ATTACH;FMTTYPE=image/png:https://koelner-stadtteilliebe.de/wp-content/uploads/2026/03/Hintergrund-Fruehling-2026.png
END:VEVENT
END:VCALENDAR