BEGIN:VCALENDAR
VERSION:2.0
PRODID:-//koelner-stadtteilliebe - ECPv6.15.20//NONSGML v1.0//EN
CALSCALE:GREGORIAN
METHOD:PUBLISH
X-ORIGINAL-URL:https://koelner-stadtteilliebe.de
X-WR-CALDESC:Veranstaltungen für koelner-stadtteilliebe
REFRESH-INTERVAL;VALUE=DURATION:PT1H
X-Robots-Tag:noindex
X-PUBLISHED-TTL:PT1H
BEGIN:VTIMEZONE
TZID:Europe/Berlin
BEGIN:DAYLIGHT
TZOFFSETFROM:+0100
TZOFFSETTO:+0200
TZNAME:CEST
DTSTART:20250330T010000
END:DAYLIGHT
BEGIN:STANDARD
TZOFFSETFROM:+0200
TZOFFSETTO:+0100
TZNAME:CET
DTSTART:20251026T010000
END:STANDARD
BEGIN:DAYLIGHT
TZOFFSETFROM:+0100
TZOFFSETTO:+0200
TZNAME:CEST
DTSTART:20260329T010000
END:DAYLIGHT
BEGIN:STANDARD
TZOFFSETFROM:+0200
TZOFFSETTO:+0100
TZNAME:CET
DTSTART:20261025T010000
END:STANDARD
BEGIN:DAYLIGHT
TZOFFSETFROM:+0100
TZOFFSETTO:+0200
TZNAME:CEST
DTSTART:20270328T010000
END:DAYLIGHT
BEGIN:STANDARD
TZOFFSETFROM:+0200
TZOFFSETTO:+0100
TZNAME:CET
DTSTART:20271031T010000
END:STANDARD
END:VTIMEZONE
BEGIN:VEVENT
DTSTART;TZID=Europe/Berlin:20260318T080000
DTEND;TZID=Europe/Berlin:20260318T170000
DTSTAMP:20260424T191651
CREATED:20260212T084122Z
LAST-MODIFIED:20260212T084122Z
UID:116750-1773820800-1773853200@koelner-stadtteilliebe.de
SUMMARY:Shared Reading ....gemeinsam lesen
DESCRIPTION:
URL:https://koelner-stadtteilliebe.de/veranstaltungen-events/shared-reading-gemeinsam-lesen-2/
LOCATION:Villa AWO\, Walter-Rathenau-Str. 9\, Köln-Rodenkirchen\, 50996
ATTACH;FMTTYPE=image/png:https://koelner-stadtteilliebe.de/wp-content/uploads/2026/03/Hintergrund-Fruehling-2026.png
END:VEVENT
BEGIN:VEVENT
DTSTART;TZID=Europe/Berlin:20260318T103000
DTEND;TZID=Europe/Berlin:20260318T120000
DTSTAMP:20260424T191651
CREATED:20260208T203812Z
LAST-MODIFIED:20260208T203812Z
UID:116479-1773829800-1773835200@koelner-stadtteilliebe.de
SUMMARY:Eltern Kind Gruppe
DESCRIPTION:
URL:https://koelner-stadtteilliebe.de/veranstaltungen-events/eltern-kind-gruppe-5/
ATTACH;FMTTYPE=image/png:https://koelner-stadtteilliebe.de/wp-content/uploads/2026/03/Hintergrund-Fruehling-2026.png
END:VEVENT
BEGIN:VEVENT
DTSTART;TZID=Europe/Berlin:20260318T143000
DTEND;TZID=Europe/Berlin:20260318T153000
DTSTAMP:20260424T191651
CREATED:20260208T201937Z
LAST-MODIFIED:20260208T201937Z
UID:116402-1773844200-1773847800@koelner-stadtteilliebe.de
SUMMARY:Digital Fit in der Villa AWO
DESCRIPTION:
URL:https://koelner-stadtteilliebe.de/veranstaltungen-events/digital-fit-in-der-villa-awo-6/
LOCATION:Villa AWO\, Walter-Rathenau-Str. 9\, Köln-Rodenkirchen\, 50996
ATTACH;FMTTYPE=image/png:https://koelner-stadtteilliebe.de/wp-content/uploads/2026/03/Hintergrund-Fruehling-2026.png
END:VEVENT
BEGIN:VEVENT
DTSTART;TZID=Europe/Berlin:20260318T143000
DTEND;TZID=Europe/Berlin:20260318T170000
DTSTAMP:20260424T191651
CREATED:20260304T082029Z
LAST-MODIFIED:20260304T082029Z
UID:119220-1773844200-1773853200@koelner-stadtteilliebe.de
SUMMARY:Die rüstigen Rentner von Weiß
DESCRIPTION:Jeden Mittwoch von 14.30 bis 17 Uhr wird es lebendig\, fröhlich und herzlich im renovierten Pfarrheim St. Georg in Weiß – denn dann ist Seniorennachmittag. In ganz entspannter Runde kommen Damen und Herren ab 60 Jahren zusammen\, um gemeinsam schöne Stunden zu verbringen\, zu lachen\, zu erzählen und einfach das Miteinander zu genießen und wer einmal da war\, kommt in der Regel auch wieder. Denn bei einer gemütlichen Tasse Kaffee\, leckerem Kuchen sowie einer kleinen Auswahl an alkoholischen und alkoholfreien Getränken – liebevoll und für „kleines Geld“ von fleißigen Helferinnen serviert – entstehen schnell gute Gespräche. Es wird geklönt\, Karten oder Gesellschaftsspiele gespielt\, auch hilft man sich gegenseitig mit kleinen Alltagstipps bzw. tauscht die neuesten „Weißer Neuigkeiten“ aus. Alles ganz ungezwungen\, ohne Verpflichtungen – so\, wie man sich wohlfühlt. Demnach ist eine Anmeldung nicht nötig\, denn es sind immer genug Plätze frei. Was toll ist\, Parkmöglichkeiten gibt es direkt vor Ort und der ÖPNV ist auch nicht weit. Ob man regelmäßig kommt oder einfach mal reinschnuppern möchte: Jede und jeder ist herzlich willkommen. Ein besonderes Highlight\, über das an diesen Nachmittagen immer wieder begeistert gesprochen wird\, sind übrigens die gemeinsamen Ausfahrten. Einmal im Monat geht es für die gutgelaunte Runde nämlich mit dem Bus „op Jöck“ – zu schönen Zielen in der näheren Umgebung\, mit einem liebevoll geplanten Rahmenprogramm. Organisiert wird das alles mit viel Herz und Engagement aus den eigenen Reihen – und genau das macht diese Seniorennachmittage so besonders. Hier steht man noch füreinander ein und macht diese Runde wirklich besonders. \n 
URL:https://koelner-stadtteilliebe.de/veranstaltungen-events/die-ruestigen-rentner-von-weiss-4/
ATTACH;FMTTYPE=image/png:https://koelner-stadtteilliebe.de/wp-content/uploads/2026/03/Hintergrund-Fruehling-2026.png
END:VEVENT
BEGIN:VEVENT
DTSTART;TZID=Europe/Berlin:20260318T150000
DTEND;TZID=Europe/Berlin:20260318T163000
DTSTAMP:20260424T191651
CREATED:20260303T193229Z
LAST-MODIFIED:20260303T193229Z
UID:118636-1773846000-1773851400@koelner-stadtteilliebe.de
SUMMARY:"Sing Dich Froh“
DESCRIPTION:„Sing Dich Froh“ im Gemeindehaus der Reformationskirche\, Mehlemer Straße 27\, 50968 Köln Zweimal im Monat trifft sich seit fast einem Jahr ein Singkreis im Gemeindehaus der Reformationskirche. Immer am ersten und dritten Mittwoch im Monat von 15 bis 16.30 Uhr\, außer der Sommerpause im August. Hier trifft man sich zum fröhlichen Singen von Schlagern\, Volks- und Kirchenliedern zur Klavier- oder Gitarrenbegleitung. Alle die Lust zum Singen haben sind herzlich willkommen. Die Veranstaltung ist kostenlos\, eine Anmeldung ist nicht erforderlich.
URL:https://koelner-stadtteilliebe.de/veranstaltungen-events/sing-dich-froh-2/
ATTACH;FMTTYPE=image/png:https://koelner-stadtteilliebe.de/wp-content/uploads/2026/03/Hintergrund-Fruehling-2026.png
END:VEVENT
BEGIN:VEVENT
DTSTART;TZID=Europe/Berlin:20260318T180000
DTEND;TZID=Europe/Berlin:20260318T220000
DTSTAMP:20260424T191651
CREATED:20260313T165856Z
LAST-MODIFIED:20260313T165856Z
UID:119756-1773856800-1773871200@koelner-stadtteilliebe.de
SUMMARY:Der Mallorca-Laden Tasting-Termine
DESCRIPTION:
URL:https://koelner-stadtteilliebe.de/veranstaltungen-events/der-mallorca-laden-tasting-termine/
LOCATION:Mallorca Laden\, Weißer Str. 25\, Köln-Rodenkirchen\, 50996
ATTACH;FMTTYPE=image/png:https://koelner-stadtteilliebe.de/wp-content/uploads/2026/03/Hintergrund-Fruehling-2026.png
END:VEVENT
END:VCALENDAR