BEGIN:VCALENDAR
VERSION:2.0
PRODID:-//koelner-stadtteilliebe - ECPv6.15.20//NONSGML v1.0//EN
CALSCALE:GREGORIAN
METHOD:PUBLISH
X-ORIGINAL-URL:https://koelner-stadtteilliebe.de
X-WR-CALDESC:Veranstaltungen für koelner-stadtteilliebe
REFRESH-INTERVAL;VALUE=DURATION:PT1H
X-Robots-Tag:noindex
X-PUBLISHED-TTL:PT1H
BEGIN:VTIMEZONE
TZID:Europe/Berlin
BEGIN:DAYLIGHT
TZOFFSETFROM:+0100
TZOFFSETTO:+0200
TZNAME:CEST
DTSTART:20250330T010000
END:DAYLIGHT
BEGIN:STANDARD
TZOFFSETFROM:+0200
TZOFFSETTO:+0100
TZNAME:CET
DTSTART:20251026T010000
END:STANDARD
BEGIN:DAYLIGHT
TZOFFSETFROM:+0100
TZOFFSETTO:+0200
TZNAME:CEST
DTSTART:20260329T010000
END:DAYLIGHT
BEGIN:STANDARD
TZOFFSETFROM:+0200
TZOFFSETTO:+0100
TZNAME:CET
DTSTART:20261025T010000
END:STANDARD
BEGIN:DAYLIGHT
TZOFFSETFROM:+0100
TZOFFSETTO:+0200
TZNAME:CEST
DTSTART:20270328T010000
END:DAYLIGHT
BEGIN:STANDARD
TZOFFSETFROM:+0200
TZOFFSETTO:+0100
TZNAME:CET
DTSTART:20271031T010000
END:STANDARD
END:VTIMEZONE
BEGIN:VEVENT
DTSTART;TZID=Europe/Berlin:20260319T094500
DTEND;TZID=Europe/Berlin:20260319T130000
DTSTAMP:20260422T141144
CREATED:20260208T200448Z
LAST-MODIFIED:20260208T200448Z
UID:116360-1773913500-1773925200@koelner-stadtteilliebe.de
SUMMARY:Mobilitätstraining 60+ der KVB
DESCRIPTION:
URL:https://koelner-stadtteilliebe.de/veranstaltungen-events/mobilitaetstraining-60-der-kvb-2/
ATTACH;FMTTYPE=image/png:https://koelner-stadtteilliebe.de/wp-content/uploads/2026/03/Hintergrund-Fruehling-2026.png
END:VEVENT
BEGIN:VEVENT
DTSTART;TZID=Europe/Berlin:20260319T100000
DTEND;TZID=Europe/Berlin:20260319T120000
DTSTAMP:20260422T141144
CREATED:20260303T190849Z
LAST-MODIFIED:20260303T190849Z
UID:118585-1773914400-1773921600@koelner-stadtteilliebe.de
SUMMARY:Hello! It's nice to meet you
DESCRIPTION:Die Englischgruppe trifft sich donnerstags im Bürgerhaus Zollstock am Rosenzweigweg und bietet eine angenehme Gelegenheit\, Englisch gemeinsam zu lesen\, zu sprechen und zu vertiefen. In der Gruppe werden englische Texte gelesen\, ihr Inhalt besprochen und aktuelle Themen lebendig diskutiert. Die Treffen finden am 1. und 3. Donnerstag im Monat von 10 bis 12 Uhr statt. In freundlicher Atmosphäre steht der Austausch im Mittelpunkt – ganz ohne Leistungsdruck. Alle Interessierten\, die Freude an der englischen Sprache und an anregenden Gesprächen haben\, sind herzlich willkommen.
URL:https://koelner-stadtteilliebe.de/veranstaltungen-events/hello-its-nice-to-meet-you-2/
ATTACH;FMTTYPE=image/png:https://koelner-stadtteilliebe.de/wp-content/uploads/2026/03/Hintergrund-Fruehling-2026.png
END:VEVENT
BEGIN:VEVENT
DTSTART;TZID=Europe/Berlin:20260319T140000
DTEND;TZID=Europe/Berlin:20260319T163000
DTSTAMP:20260422T141144
CREATED:20260301T193145Z
LAST-MODIFIED:20260301T193145Z
UID:117846-1773928800-1773937800@koelner-stadtteilliebe.de
SUMMARY:Spieltreff für Erwachsene
DESCRIPTION:Spieltreff für Erwachsene \nWas für eine nette gemischte Gruppe\, die sich donnerstags um 14 Uhr zum gemeinsamen Spielen im Jugendheim St. Blasius in Meschenich\, Brühler Landstraße 425\, trifft. Denn Gemeinschaft ist das beste Mittel gegen Einsamkeit. Am 26.3. und am 16.4. können gerne neue Mitspieler dazukommen und ihr eigenes Lieblingsspiel mitbringen! Kostenlos und ohne Anmeldung kann man dort einfach vorbeikommen\, wenn man gut gelaunt und offen für andere ist. Falls Du dazu Fragen hast\, ist Johanna Ferstl unter Tel. 01520 4895910 oder per E-Mail: Seniorennetzwerk-Meschenich@caritas.koeln.de zu erreichen und hilft gerne weiter. Überhaupt gibt es in Meschenich ein tolles Angebot für gemeinsame Zeit – die Thomas Begegnungsstätte\, das Jugendzentrum und der Seniorentreff sind großartige Orte.
URL:https://koelner-stadtteilliebe.de/veranstaltungen-events/spieltreff-fuer-erwachsene-3/
LOCATION:Jugendhaus St Blasius\, Brühler Landstraße 425\, Köln\, 50997
ATTACH;FMTTYPE=image/png:https://koelner-stadtteilliebe.de/wp-content/uploads/2026/03/Hintergrund-Fruehling-2026.png
END:VEVENT
BEGIN:VEVENT
DTSTART;TZID=Europe/Berlin:20260319T180000
DTEND;TZID=Europe/Berlin:20260319T193000
DTSTAMP:20260422T141144
CREATED:20260107T140522Z
LAST-MODIFIED:20260107T140522Z
UID:114743-1773943200-1773948600@koelner-stadtteilliebe.de
SUMMARY:Lesung Felicitas Fuchs
DESCRIPTION:Eine Frau\, die nicht aufhört zu fragen. Ein Familiengeheimnis\, das jahrzehntelang verschwiegen wurde. Und eine Geschichte darüber\, wie viel Mut es braucht\, sich nicht dem Geist der eigenen Zeit zu beugen: Am Donnerstag\, 19. März 2026\, liest die Autorin Felicitas Fuchs aus ihrem Roman Die Akte Schneeweiß in der Erzengel-Michael-Kirche in Köln-Rodenkirchen. Beginn ist um 18.00 Uhr\, die Veranstaltung dauert rund 120 Minuten inklusive Pause und ist Teil der Kulturreihe der Diakonie Michaelshoven e. V. \n\n\nFoto: Privat Text: CB \nDer Roman verknüpft zwei Zeitebenen zu einer eindringlichen Familien- und Zeitgeschichte. Im Bielefeld der frühen 1960er-Jahre wächst Katja Schilling in einfachen Verhältnissen auf. Ihr Traum\, Ärztin zu werden\, scheint in ihrer Familie keinen Platz zu haben – nur ihr Großvater glaubt an sie. Als er eines Tages spurlos verschwindet und sein Name fortan zum Tabu wird\, bleibt Katja mit ihren unbeantworteten Fragen allein. Erst Jahre später stößt sie auf eine Wahrheit\, die alles erschüttert\, was sie über ihre Herkunft zu wissen glaubte. Parallel dazu führt der Roman in das Jahr 1936: Mathilde Schneeweiß beginnt als Sprechstundenhilfe bei dem Arzt Dr. Bönisch und wird Teil eines heimlichen Netzwerks\, das Frauen in Not hilft. Doch ihr Mut bleibt nicht unbemerkt. Als die Gestapo auf sie aufmerksam wird\, steht Mathilde vor einer Entscheidung\, die sie das Leben kosten könnte. Die Akte Schneeweiß erzählt von Zivilcourage\, von weiblicher Selbstbestimmung und von der Frage\, wie viel Verantwortung der Einzelne in dunklen Zeiten trägt. \n\nFelicitas Fuchs ist das Pseudonym der Erfolgsautorin Carla Berling\, die einem breiten Publikum zunächst durch ihre humorvollen Kölner Komödien bekannt wurde. Ihre Bücher erreichen seit Jahren regelmäßig die Spiegel-Bestsellerliste. Unter dem Namen Felicitas Fuchs veröffentlicht sie historisch und gesellschaftlich geprägte Romane\, die regelmäßig ein großes Publikum erreichen. Die Akte Schneeweiß zählt zu ihren bekanntesten Büchern und wurde für die Verbindung von Spannung\, Zeitgeschichte und emotionaler Tiefe vielfach gewürdigt. \n\nDie Lesung findet in der Erzengel-Michael-Kirche\, Pfarrer-te-Reh-Straße 7\, 50999 Köln\, statt. Tickets kosten 11\,50 Euro und sind online erhältlich unter: \n\n\nhttps://www.qultor.de/veranstaltungen/die-akte-schneeweiss
URL:https://koelner-stadtteilliebe.de/veranstaltungen-events/lesung-felicitas-fuchs/
LOCATION:Erzengel-Michael-Kirche\, Pfarrer-Te-Reh-Straße 7\, Köln\, 50999
ATTACH;FMTTYPE=image/png:https://koelner-stadtteilliebe.de/wp-content/uploads/2026/03/Hintergrund-Fruehling-2026.png
END:VEVENT
BEGIN:VEVENT
DTSTART;TZID=Europe/Berlin:20260319T180000
DTEND;TZID=Europe/Berlin:20260319T200000
DTSTAMP:20260422T141144
CREATED:20260301T190109Z
LAST-MODIFIED:20260301T190135Z
UID:117804-1773943200-1773950400@koelner-stadtteilliebe.de
SUMMARY:Veranstaltungen der süssen Zitronen
DESCRIPTION:
URL:https://koelner-stadtteilliebe.de/veranstaltungen-events/veranstltungen-der-suessen-zitronen-3/
ATTACH;FMTTYPE=image/png:https://koelner-stadtteilliebe.de/wp-content/uploads/2026/03/Hintergrund-Fruehling-2026.png
END:VEVENT
BEGIN:VEVENT
DTSTART;TZID=Europe/Berlin:20260319T190000
DTEND;TZID=Europe/Berlin:20260319T213000
DTSTAMP:20260422T141144
CREATED:20260317T093152Z
LAST-MODIFIED:20260317T093152Z
UID:119963-1773946800-1773955800@koelner-stadtteilliebe.de
SUMMARY:Dr. Monika Schmelzer: "Besser falsche Worte als keine Worte"
DESCRIPTION:
URL:https://koelner-stadtteilliebe.de/veranstaltungen-events/dr-monika-schmelzer-besser-falsche-worte-als-keine-worte/
LOCATION:Kapelle St. Georg\, Weißer Haupstrasse\, Köln\, 50999
ATTACH;FMTTYPE=image/png:https://koelner-stadtteilliebe.de/wp-content/uploads/2026/03/Hintergrund-Fruehling-2026.png
END:VEVENT
BEGIN:VEVENT
DTSTART;TZID=Europe/Berlin:20260319T190000
DTEND;TZID=Europe/Berlin:20260319T230000
DTSTAMP:20260422T141144
CREATED:20260304T134257Z
LAST-MODIFIED:20260304T134257Z
UID:119299-1773946800-1773961200@koelner-stadtteilliebe.de
SUMMARY:Bürgerstammtisch Zollstock: Olympia in Köln
DESCRIPTION:
URL:https://koelner-stadtteilliebe.de/veranstaltungen-events/buergerstammtisch-zollstock-olympia-in-koeln/
LOCATION:Haus Schäffer\, Markusstr. 126\, Köln-Zollstock\, 50968
ATTACH;FMTTYPE=image/png:https://koelner-stadtteilliebe.de/wp-content/uploads/2026/03/Hintergrund-Fruehling-2026.png
END:VEVENT
BEGIN:VEVENT
DTSTART;TZID=Europe/Berlin:20260319T200000
DTEND;TZID=Europe/Berlin:20260319T220000
DTSTAMP:20260422T141144
CREATED:20260304T065522Z
LAST-MODIFIED:20260327T114016Z
UID:118921-1773950400-1773957600@koelner-stadtteilliebe.de
SUMMARY:Problem Alkohol!
DESCRIPTION:Jeden Donnerstag von 20 bis 22 Uhr treffen sich die Anonymen Alkoholiker im Gemeindesaal der Melanchthonkirche in Zollstock. Sucht betrifft nämlich mehr Menschen\, als man denkt. Aus diesem Grund gibt es einmal im Monat ein vertrauliches Selbsthilfeangebot speziell für suchtkranke Menschen und ihre Angehörigen. In dieser geschützten Gruppe können Betroffene offen sprechen\, Unterstützung finden und erleben\, dass sie mit ihren Sorgen nicht allein sind. Die Treffen finden in einem sicheren Rahmen und natürlich unter psychotherapeutischer Begleitung statt. \nIn der AWO-Villa in Rodenkirchen werden solche Abende auch angeboten. Diese Gruppe ist allerdings nur für Angehörige von suchterkrankten Menschen gedacht. Dazu ist die Anmeldung erforderlich unter der genannten Mailadresse: therapie.marieporras@gmail.com. Die Termine finden am 23.03.\, 20.04. und 27.05 um 18 Uhr statt. 
URL:https://koelner-stadtteilliebe.de/veranstaltungen-events/problem-alkohol-3/
LOCATION:Melchatonkirchen\, Bornheimer Str. 1a\, Köln\, 50969
ATTACH;FMTTYPE=image/png:https://koelner-stadtteilliebe.de/wp-content/uploads/2026/03/Hintergrund-Fruehling-2026.png
END:VEVENT
END:VCALENDAR