BEGIN:VCALENDAR
VERSION:2.0
PRODID:-//koelner-stadtteilliebe - ECPv6.15.20//NONSGML v1.0//EN
CALSCALE:GREGORIAN
METHOD:PUBLISH
X-WR-CALNAME:koelner-stadtteilliebe
X-ORIGINAL-URL:https://koelner-stadtteilliebe.de
X-WR-CALDESC:Veranstaltungen für koelner-stadtteilliebe
REFRESH-INTERVAL;VALUE=DURATION:PT1H
X-Robots-Tag:noindex
X-PUBLISHED-TTL:PT1H
BEGIN:VTIMEZONE
TZID:Europe/Berlin
BEGIN:DAYLIGHT
TZOFFSETFROM:+0100
TZOFFSETTO:+0200
TZNAME:CEST
DTSTART:20250330T010000
END:DAYLIGHT
BEGIN:STANDARD
TZOFFSETFROM:+0200
TZOFFSETTO:+0100
TZNAME:CET
DTSTART:20251026T010000
END:STANDARD
BEGIN:DAYLIGHT
TZOFFSETFROM:+0100
TZOFFSETTO:+0200
TZNAME:CEST
DTSTART:20260329T010000
END:DAYLIGHT
BEGIN:STANDARD
TZOFFSETFROM:+0200
TZOFFSETTO:+0100
TZNAME:CET
DTSTART:20261025T010000
END:STANDARD
BEGIN:DAYLIGHT
TZOFFSETFROM:+0100
TZOFFSETTO:+0200
TZNAME:CEST
DTSTART:20270328T010000
END:DAYLIGHT
BEGIN:STANDARD
TZOFFSETFROM:+0200
TZOFFSETTO:+0100
TZNAME:CET
DTSTART:20271031T010000
END:STANDARD
END:VTIMEZONE
BEGIN:VEVENT
DTSTART;TZID=Europe/Berlin:20260320T143000
DTEND;TZID=Europe/Berlin:20260320T160000
DTSTAMP:20260422T121407
CREATED:20260115T104245Z
LAST-MODIFIED:20260115T104245Z
UID:115264-1774017000-1774022400@koelner-stadtteilliebe.de
SUMMARY:Tanz mit!
DESCRIPTION:Tanz mit!\nEine Kooperationsveranstaltung des SeniorenNetzwerks Raderthal und dem Bürgerverein RADERBERG und -THAL e.V.\nWir freuen uns alle Tanzbegeisterten\, ob alt oder jung\, ob als Paar oder allein\, zum Tanz begrüßen zu dürfen! Lasst uns zu Musik von gestern und heute gemeinsam tanzen und von professionellen Tanzlehrern Neues lernen. Tanzt einfach mit!\nWann: freitags ab14:30 bis 15:45 Uhr am 16.01.\, 27.2.\, 20.3.\, 24.4.\, 22.5.\, 19.6.\, 10.7.\nWo: Gemeindesaal Philippus-Kirchengemeinde\, Albert-Schweitzer-Straße 3\, 50968 Köln\nKosten: Die Veranstaltung ist kostenfrei\, über Spenden freuen wir uns sehr!\nInfo: Inna Achmatow: 01520 9092612\, seniorennetzwerk.raderthal@gmx.de oder Jan Gudorf\, T. 0163 4446669\, jan.gudorf@raderbergundthal.de
URL:https://koelner-stadtteilliebe.de/veranstaltungen-events/tanz-mit-3/
ATTACH;FMTTYPE=image/png:https://koelner-stadtteilliebe.de/wp-content/uploads/2026/03/Hintergrund-Fruehling-2026.png
END:VEVENT
BEGIN:VEVENT
DTSTART;TZID=Europe/Berlin:20260320T180000
DTEND;TZID=Europe/Berlin:20260320T193000
DTSTAMP:20260422T121407
CREATED:20260421T051247Z
LAST-MODIFIED:20260304T061454Z
UID:118734-1774029600-1774035000@koelner-stadtteilliebe.de
SUMMARY:Nostalgie zum Genießen
DESCRIPTION:An jedem 3. Donnerstag im Monat um 18 Uhr werden alte Märchen\, Gedichte und Geschichten zum Leben erweckt. In ruhiger und einladender Atmosphäre laden Worte und Erzählungen dazu ein\, für eine Weile den Alltag hinter sich zu lassen\, zuzuhören\, zu träumen und Erinnerungen wach werden zu lassen. Die Veranstaltung wird von den Katholischen Kirchengemeinden am Südkreuz\, Gemeinde Zum Heiligen Geist\, ausgerichtet und findet in der Gemeinde Zum Heiligen Geist\, Zollstockgürtel 33 in Zollstock\, statt. Alle Interessierten sind herzlich willkommen\, einen stimmungsvollen Abend voller Poesie\, Fantasie und Erzählkunst zu erlebe
URL:https://koelner-stadtteilliebe.de/veranstaltungen-events/nostalgie-zum-geniessen-2/
ATTACH;FMTTYPE=image/png:https://koelner-stadtteilliebe.de/wp-content/uploads/2026/03/Hintergrund-Fruehling-2026.png
END:VEVENT
BEGIN:VEVENT
DTSTART;TZID=Europe/Berlin:20260320T200000
DTEND;TZID=Europe/Berlin:20260320T223000
DTSTAMP:20260422T121407
CREATED:20260217T153211Z
LAST-MODIFIED:20260217T153542Z
UID:116816-1774036800-1774045800@koelner-stadtteilliebe.de
SUMMARY:MitsingKonzert- Ukulelistas\, Gitarreros\, Bassisten\, Quetschisten usw. sind herzlich erwünscht
DESCRIPTION:Liebe Sängerinnen und Sänger\, Ukulelistas\, Gitarreros\, Bassisten\, Quetschisten und alle anderen\, die nach Akkorden spielen können! \nBei der nächsten „Sing & Strum“-Veranstaltung wird auf dem Böötchen unter dem Motto „Shalaspring“ wieder gesungen und geschrammelt\, bis die Planken wanken! Vom Rhein geschunkelt besingen wir den Frühling und die dazugehörigen Gefühle und spannen einen großen Bogen von Heinrich Hoffmann von Fallersleben bis zu Miley Cyrus. Dä! Selbstverständlich machen wir das nicht ohne Hintergedanken\, denn wenn der Lenz so schön begrüßt wird\, wird es ja wohl wunderbar „Sunny“ für uns werden ;-).\nDie Songs werden per Beamer auf eine Leinwand projiziert\, sodass alle problemlos mitsingen und -spielen können. Für die Ukulelistas gibt es obendrein sogar noch die Griffbilder dazu.\nSchreibt bei Interesse gerne an „schrammelschorsch@online.de“\, dann erhaltet ihr nähere Infos. \nAK: 12\,- €\nDatum: 20.3.2026\nBeginn: 20:00 Uhr\nOrt: MS Rodenkirchen\, Rodenkirchener Leinpfad \nWir freuen uns auf Euch \nDer Georg 
URL:https://koelner-stadtteilliebe.de/veranstaltungen-events/mitingkonzert-ukulelistas-gitarreros-bassisten-quetschisten-usw-sind-herzlich-erwuenscht/
LOCATION:Bootshaus MS-Rodenkirchen
ATTACH;FMTTYPE=image/png:https://koelner-stadtteilliebe.de/wp-content/uploads/2026/03/Hintergrund-Fruehling-2026.png
END:VEVENT
END:VCALENDAR