BEGIN:VCALENDAR
VERSION:2.0
PRODID:-//koelner-stadtteilliebe - ECPv6.15.20//NONSGML v1.0//EN
CALSCALE:GREGORIAN
METHOD:PUBLISH
X-ORIGINAL-URL:https://koelner-stadtteilliebe.de
X-WR-CALDESC:Veranstaltungen für koelner-stadtteilliebe
REFRESH-INTERVAL;VALUE=DURATION:PT1H
X-Robots-Tag:noindex
X-PUBLISHED-TTL:PT1H
BEGIN:VTIMEZONE
TZID:Europe/Berlin
BEGIN:DAYLIGHT
TZOFFSETFROM:+0100
TZOFFSETTO:+0200
TZNAME:CEST
DTSTART:20250330T010000
END:DAYLIGHT
BEGIN:STANDARD
TZOFFSETFROM:+0200
TZOFFSETTO:+0100
TZNAME:CET
DTSTART:20251026T010000
END:STANDARD
BEGIN:DAYLIGHT
TZOFFSETFROM:+0100
TZOFFSETTO:+0200
TZNAME:CEST
DTSTART:20260329T010000
END:DAYLIGHT
BEGIN:STANDARD
TZOFFSETFROM:+0200
TZOFFSETTO:+0100
TZNAME:CET
DTSTART:20261025T010000
END:STANDARD
BEGIN:DAYLIGHT
TZOFFSETFROM:+0100
TZOFFSETTO:+0200
TZNAME:CEST
DTSTART:20270328T010000
END:DAYLIGHT
BEGIN:STANDARD
TZOFFSETFROM:+0200
TZOFFSETTO:+0100
TZNAME:CET
DTSTART:20271031T010000
END:STANDARD
END:VTIMEZONE
BEGIN:VEVENT
DTSTART;TZID=Europe/Berlin:20260321T100000
DTEND;TZID=Europe/Berlin:20260321T140000
DTSTAMP:20260424T185958
CREATED:20260317T090908Z
LAST-MODIFIED:20260317T090908Z
UID:119939-1774087200-1774101600@koelner-stadtteilliebe.de
SUMMARY:Bayenthaler Kinderflohmarkt
DESCRIPTION:
URL:https://koelner-stadtteilliebe.de/veranstaltungen-events/bayenthaler-kinderflohmarkt/
LOCATION:Fröbel Kindergarten\, Bernhardstr. 101-103\, Köln-Bayenthal\, 50968
ATTACH;FMTTYPE=image/png:https://koelner-stadtteilliebe.de/wp-content/uploads/2026/03/Hintergrund-Fruehling-2026.png
END:VEVENT
BEGIN:VEVENT
DTSTART;TZID=Europe/Berlin:20260321T100000
DTEND;TZID=Europe/Berlin:20260321T140000
DTSTAMP:20260424T185958
CREATED:20260321T100442Z
LAST-MODIFIED:20260321T100442Z
UID:120074-1774087200-1774101600@koelner-stadtteilliebe.de
SUMMARY:Masterplan Stadtgrün
DESCRIPTION:
URL:https://koelner-stadtteilliebe.de/veranstaltungen-events/masterplan-stadtgruen/
LOCATION:Stadtteilbibliothek Rodenkirchen\, Schillingsrotter Str. 38\, Köln-Rodenkirchen\, 50996
ATTACH;FMTTYPE=image/png:https://koelner-stadtteilliebe.de/wp-content/uploads/2026/03/Hintergrund-Fruehling-2026.png
END:VEVENT
BEGIN:VEVENT
DTSTART;TZID=Europe/Berlin:20260321T120000
DTEND;TZID=Europe/Berlin:20260321T160000
DTSTAMP:20260424T185958
CREATED:20260221T175258Z
LAST-MODIFIED:20260221T175258Z
UID:117025-1774094400-1774108800@koelner-stadtteilliebe.de
SUMMARY:Tag der offenen Tür beim Bestatter
DESCRIPTION:
URL:https://koelner-stadtteilliebe.de/veranstaltungen-events/tag-der-offenen-tuer-beim-bestatter/
LOCATION:Bestattungshaus Brotesser\, Auf der Ruhr 84\, Köln\, 50999 Köln
ATTACH;FMTTYPE=image/png:https://koelner-stadtteilliebe.de/wp-content/uploads/2026/03/Hintergrund-Fruehling-2026.png
END:VEVENT
BEGIN:VEVENT
DTSTART;TZID=Europe/Berlin:20260321T140000
DTEND;TZID=Europe/Berlin:20260321T170000
DTSTAMP:20260424T185958
CREATED:20260301T183239Z
LAST-MODIFIED:20260308T070405Z
UID:117721-1774101600-1774112400@koelner-stadtteilliebe.de
SUMMARY:Kleider Tauschparty
DESCRIPTION:
URL:https://koelner-stadtteilliebe.de/veranstaltungen-events/netzwerktreffen-der-koelner-stadtteilliebe-3/
LOCATION:WiSü „X“\, Eygelshovenerstr.33\, Köln\, 50997
ATTACH;FMTTYPE=image/png:https://koelner-stadtteilliebe.de/wp-content/uploads/2026/03/Hintergrund-Fruehling-2026.png
END:VEVENT
BEGIN:VEVENT
DTSTART;TZID=Europe/Berlin:20260321T150000
DTEND;TZID=Europe/Berlin:20260321T180000
DTSTAMP:20260424T185958
CREATED:20260317T091332Z
LAST-MODIFIED:20260317T091332Z
UID:119949-1774105200-1774116000@koelner-stadtteilliebe.de
SUMMARY:Meschenich Putzmunter
DESCRIPTION:
URL:https://koelner-stadtteilliebe.de/veranstaltungen-events/meschenich-putzmunter/
LOCATION:Kirche St. Blasius\, Brühler Landstrasse 425\, Köln\, 50997
ATTACH;FMTTYPE=image/png:https://koelner-stadtteilliebe.de/wp-content/uploads/2026/03/Hintergrund-Fruehling-2026.png
END:VEVENT
BEGIN:VEVENT
DTSTART;TZID=Europe/Berlin:20260321T150000
DTEND;TZID=Europe/Berlin:20260321T190000
DTSTAMP:20260424T185958
CREATED:20260304T133741Z
LAST-MODIFIED:20260304T133741Z
UID:119286-1774105200-1774119600@koelner-stadtteilliebe.de
SUMMARY:Kickertraining nur für Frauen
DESCRIPTION:
URL:https://koelner-stadtteilliebe.de/veranstaltungen-events/kickertraining-nur-fuer-frauen/
LOCATION:Kölner Kickerfabrik\, Kartäuserwall 55\, Köln\, 50999
ATTACH;FMTTYPE=image/png:https://koelner-stadtteilliebe.de/wp-content/uploads/2026/03/Hintergrund-Fruehling-2026.png
END:VEVENT
BEGIN:VEVENT
DTSTART;TZID=Europe/Berlin:20260321T170000
DTEND;TZID=Europe/Berlin:20260321T210000
DTSTAMP:20260424T185958
CREATED:20260301T190733Z
LAST-MODIFIED:20260301T190733Z
UID:117822-1774112400-1774126800@koelner-stadtteilliebe.de
SUMMARY:Singen für den guten Zweck
DESCRIPTION:DeChor aus der Kölner Südstadt ist am 21.3.\, ab 17 Uhr in der Melanchthonkirche Zollstock\, Breniger Straße 20\, und am 22.3. ist er zu Gast in der Erzengel-Michael-Kirche in Sürth. Dort begeistern sie in kostenlosen Konzerten ihre Gäste mit einem Repertoire vom englischen Madrigal über die schwedische Ballade bis zu jazzig arrangierten deutschen Romantikliedern. Spenden gehen übrigens dieses Mal an eine Stiftung zur Freizeitgestaltung für Kinder und Jugendliche mit einer Diagnose Autismus.
URL:https://koelner-stadtteilliebe.de/veranstaltungen-events/singen-fuer-den-guten-zweck/
LOCATION:Melchatonkirchen\, Bornheimer Str. 1a\, Köln\, 50969
ATTACH;FMTTYPE=image/png:https://koelner-stadtteilliebe.de/wp-content/uploads/2026/03/Hintergrund-Fruehling-2026.png
END:VEVENT
BEGIN:VEVENT
DTSTART;TZID=Europe/Berlin:20260321T193000
DTEND;TZID=Europe/Berlin:20260321T233000
DTSTAMP:20260424T185958
CREATED:20260109T213808Z
LAST-MODIFIED:20260109T213808Z
UID:115079-1774121400-1774135800@koelner-stadtteilliebe.de
SUMMARY:It´s Ladys Night ....
DESCRIPTION:
URL:https://koelner-stadtteilliebe.de/veranstaltungen-events/its-ladys-night/
ATTACH;FMTTYPE=image/png:https://koelner-stadtteilliebe.de/wp-content/uploads/2026/03/Hintergrund-Fruehling-2026.png
END:VEVENT
END:VCALENDAR