BEGIN:VCALENDAR
VERSION:2.0
PRODID:-//koelner-stadtteilliebe - ECPv6.15.20//NONSGML v1.0//EN
CALSCALE:GREGORIAN
METHOD:PUBLISH
X-ORIGINAL-URL:https://koelner-stadtteilliebe.de
X-WR-CALDESC:Veranstaltungen für koelner-stadtteilliebe
REFRESH-INTERVAL;VALUE=DURATION:PT1H
X-Robots-Tag:noindex
X-PUBLISHED-TTL:PT1H
BEGIN:VTIMEZONE
TZID:Europe/Berlin
BEGIN:DAYLIGHT
TZOFFSETFROM:+0100
TZOFFSETTO:+0200
TZNAME:CEST
DTSTART:20250330T010000
END:DAYLIGHT
BEGIN:STANDARD
TZOFFSETFROM:+0200
TZOFFSETTO:+0100
TZNAME:CET
DTSTART:20251026T010000
END:STANDARD
BEGIN:DAYLIGHT
TZOFFSETFROM:+0100
TZOFFSETTO:+0200
TZNAME:CEST
DTSTART:20260329T010000
END:DAYLIGHT
BEGIN:STANDARD
TZOFFSETFROM:+0200
TZOFFSETTO:+0100
TZNAME:CET
DTSTART:20261025T010000
END:STANDARD
BEGIN:DAYLIGHT
TZOFFSETFROM:+0100
TZOFFSETTO:+0200
TZNAME:CEST
DTSTART:20270328T010000
END:DAYLIGHT
BEGIN:STANDARD
TZOFFSETFROM:+0200
TZOFFSETTO:+0100
TZNAME:CET
DTSTART:20271031T010000
END:STANDARD
END:VTIMEZONE
BEGIN:VEVENT
DTSTART;TZID=Europe/Berlin:20260322T110000
DTEND;TZID=Europe/Berlin:20260322T160000
DTSTAMP:20260422T163622
CREATED:20260109T171222Z
LAST-MODIFIED:20260109T171222Z
UID:115022-1774177200-1774195200@koelner-stadtteilliebe.de
SUMMARY:Afrikatag
DESCRIPTION:
URL:https://koelner-stadtteilliebe.de/veranstaltungen-events/afrikatag/
LOCATION:Kath. Kirchengemeinde Heilige Drei Könige\, Hahnenstr. 21\, Köln\, 50997
ATTACH;FMTTYPE=image/png:https://koelner-stadtteilliebe.de/wp-content/uploads/2026/03/Hintergrund-Fruehling-2026.png
END:VEVENT
BEGIN:VEVENT
DTSTART;TZID=Europe/Berlin:20260322T110000
DTEND;TZID=Europe/Berlin:20260322T170000
DTSTAMP:20260422T163622
CREATED:20260227T123550Z
LAST-MODIFIED:20260227T123550Z
UID:117260-1774177200-1774198800@koelner-stadtteilliebe.de
SUMMARY:Apfelbaumschnitt beim Kleingärtnerverein Weiß e.V.
DESCRIPTION:
URL:https://koelner-stadtteilliebe.de/veranstaltungen-events/apfelbaumschnitt-beim-kleingaertnerverein-weiss-e-v/
LOCATION:Kleingartenanlage Weiß Pflasterhofweg
ATTACH;FMTTYPE=image/png:https://koelner-stadtteilliebe.de/wp-content/uploads/2026/03/Hintergrund-Fruehling-2026.png
END:VEVENT
BEGIN:VEVENT
DTSTART;TZID=Europe/Berlin:20260322T130000
DTEND;TZID=Europe/Berlin:20260322T170000
DTSTAMP:20260422T163622
CREATED:20260224T171837Z
LAST-MODIFIED:20260224T171837Z
UID:117140-1774184400-1774198800@koelner-stadtteilliebe.de
SUMMARY:Familienflohmarkt und Tag der offenen Tür Kita MyDagis
DESCRIPTION:
URL:https://koelner-stadtteilliebe.de/veranstaltungen-events/familienflohmarkt-und-tag-der-offenen-tuer-kita-mydagis/
LOCATION:Kunstzentrum Wachsfabrik\, Industriestr. 170\, Köln\, 50999
ATTACH;FMTTYPE=image/png:https://koelner-stadtteilliebe.de/wp-content/uploads/2026/03/Hintergrund-Fruehling-2026.png
END:VEVENT
BEGIN:VEVENT
DTSTART;TZID=Europe/Berlin:20260322T140000
DTEND;TZID=Europe/Berlin:20260322T160000
DTSTAMP:20260422T163622
CREATED:20260313T185548Z
LAST-MODIFIED:20260313T185548Z
UID:119841-1774188000-1774195200@koelner-stadtteilliebe.de
SUMMARY:Osterbasteln für Kinder von 4-7 Jahre
DESCRIPTION:
URL:https://koelner-stadtteilliebe.de/veranstaltungen-events/osterbasteln-fuer-kinder-von-4-7-jahre/
ATTACH;FMTTYPE=image/png:https://koelner-stadtteilliebe.de/wp-content/uploads/2026/03/Hintergrund-Fruehling-2026.png
END:VEVENT
BEGIN:VEVENT
DTSTART;TZID=Europe/Berlin:20260322T170000
DTEND;TZID=Europe/Berlin:20260322T210000
DTSTAMP:20260422T163622
CREATED:20260301T190807Z
LAST-MODIFIED:20260301T190807Z
UID:117826-1774198800-1774213200@koelner-stadtteilliebe.de
SUMMARY:Singen für den guten Zweck
DESCRIPTION:DeChor aus der Kölner Südstadt ist am 21.3.\, ab 17 Uhr in der Melanchthonkirche Zollstock\, Breniger Straße 20\, und am 22.3. ist er zu Gast in der Erzengel-Michael-Kirche in Sürth. Dort begeistern sie in kostenlosen Konzerten ihre Gäste mit einem Repertoire vom englischen Madrigal über die schwedische Ballade bis zu jazzig arrangierten deutschen Romantikliedern. Spenden gehen übrigens dieses Mal an eine Stiftung zur Freizeitgestaltung für Kinder und Jugendliche mit einer Diagnose Autismus.
URL:https://koelner-stadtteilliebe.de/veranstaltungen-events/singen-fuer-den-guten-zweck-2/
LOCATION:Diakonie Michaelshoven\, Sürther Str. 169\, Köln-Michaelshoven\, 50999
ATTACH;FMTTYPE=image/png:https://koelner-stadtteilliebe.de/wp-content/uploads/2026/03/Hintergrund-Fruehling-2026.png
END:VEVENT
BEGIN:VEVENT
DTSTART;TZID=Europe/Berlin:20260322T170000
DTEND;TZID=Europe/Berlin:20260322T210000
DTSTAMP:20260422T163622
CREATED:20260318T103335Z
LAST-MODIFIED:20260321T065451Z
UID:119657-1774198800-1774213200@koelner-stadtteilliebe.de
SUMMARY:Benefizkonzert von DeChor in der Erzengel-Michael-Kirche Musikalischer Streifzug durch Epochen und Stilrichtungen
DESCRIPTION:22.03.2026\, 17:00\nDiakonie Michaelshoven\nErzengel-Michael-Kirche\, Pfarrer-Te-Reh-Straße 5\, 50999 Köln\nBenefizkonzert von DeChor in der Erzengel-Michael-Kirche\nMusikalischer Streifzug durch Epochen und Stilrichtungen\nDeChor aus der Kölner Südstadt gastiert am Sonntag\, 22. März\, 17 Uhr (Einlass 16 Uhr)\, in der Erzengel-Michael-Kirche\, Pfarrer-te-Reh Straße 7. Der gemischte Chor mit rund 30 Sängerinnen und Sängern nimmt das Publikum mit auf einen Streifzug durch die Musikgeschichte\, der bewusst ohne stilistische Festlegung auskommt. Das Repertoire reicht vom englischen Madrigal über schwedische Balladen bis hin zu jazzig arrangierten Liedern der deutschen Romantik und umfasst gelegentlich auch moderne Titel aus der Popmusik. Gegründet wurde DeChor im Jahr 2012 als Elternchor einer Kölner Grundschule und hat sich unter der Leitung von Denise Weltken kontinuierlich weiterentwickelt. 2022 wurde der Chor vom Deutschen Chorverband als Meisterchor ausgezeichnet. Der Eintritt ist frei\, Spenden werden für ein Projekt der Stiftung zur Freizeitgestaltung für Kinder und Jugendliche aus dem Autismusspektrum erbeten.\nwww.diakonie-michaelshoven.de
URL:https://koelner-stadtteilliebe.de/veranstaltungen-events/benefizkonzert-von-dechor-in-der-erzengel-michael-kirche-musikalischer-streifzug-durch-epochen-und-stilrichtungen/
ATTACH;FMTTYPE=image/png:https://koelner-stadtteilliebe.de/wp-content/uploads/2026/03/Hintergrund-Fruehling-2026.png
END:VEVENT
END:VCALENDAR