BEGIN:VCALENDAR
VERSION:2.0
PRODID:-//koelner-stadtteilliebe - ECPv6.15.20//NONSGML v1.0//EN
CALSCALE:GREGORIAN
METHOD:PUBLISH
X-ORIGINAL-URL:https://koelner-stadtteilliebe.de
X-WR-CALDESC:Veranstaltungen für koelner-stadtteilliebe
REFRESH-INTERVAL;VALUE=DURATION:PT1H
X-Robots-Tag:noindex
X-PUBLISHED-TTL:PT1H
BEGIN:VTIMEZONE
TZID:Europe/Berlin
BEGIN:DAYLIGHT
TZOFFSETFROM:+0100
TZOFFSETTO:+0200
TZNAME:CEST
DTSTART:20250330T010000
END:DAYLIGHT
BEGIN:STANDARD
TZOFFSETFROM:+0200
TZOFFSETTO:+0100
TZNAME:CET
DTSTART:20251026T010000
END:STANDARD
BEGIN:DAYLIGHT
TZOFFSETFROM:+0100
TZOFFSETTO:+0200
TZNAME:CEST
DTSTART:20260329T010000
END:DAYLIGHT
BEGIN:STANDARD
TZOFFSETFROM:+0200
TZOFFSETTO:+0100
TZNAME:CET
DTSTART:20261025T010000
END:STANDARD
BEGIN:DAYLIGHT
TZOFFSETFROM:+0100
TZOFFSETTO:+0200
TZNAME:CEST
DTSTART:20270328T010000
END:DAYLIGHT
BEGIN:STANDARD
TZOFFSETFROM:+0200
TZOFFSETTO:+0100
TZNAME:CET
DTSTART:20271031T010000
END:STANDARD
END:VTIMEZONE
BEGIN:VEVENT
DTSTART;TZID=Europe/Berlin:20260323T133000
DTEND;TZID=Europe/Berlin:20260323T153000
DTSTAMP:20260422T141139
CREATED:20251221T132931Z
LAST-MODIFIED:20251221T132931Z
UID:112663-1774272600-1774279800@koelner-stadtteilliebe.de
SUMMARY:Komm lass uns spielen
DESCRIPTION:Ob jung oder alt\, Brettspiel-Fan oder Kartenspiel-König – Geselligkeit\, Spaß und ein bisschen Denksport\, beim wöchentlichen Spielenachmittag in der Villa AWO Köln-Rodenkirchen (Walther-Rathenau-Str. 9) sind vom Kind bis zum ältesten Senior alle herzlich willkommen! Immer montags von 13:30 bis 15:30 Uhr treffen sich Spielbegeisterte in jedem Alter in entspannter Atmosphäre in der Walther-Rathenau-Straße 9\, um gemeinsam zu lachen\, zu spielen und um Kontakte zu knüpfen. Egal ob Klassiker wie Memory\, Mensch ärgere dich nicht\, Mühle\, Karten- oder Brettspiele – alles kann gespielt und mitgebracht werden. Der Spielenachmittag ist ideal für alle\, die Gemeinschaft lieben und im gemütlichen Ambiente netten Menschen aus dem Stadtteil treffen wollen.
URL:https://koelner-stadtteilliebe.de/veranstaltungen-events/komm-lass-uns-spielen-13/
LOCATION:Villa AWO\, Walter-Rathenau-Str. 9\, Köln-Rodenkirchen\, 50996
ATTACH;FMTTYPE=image/png:https://koelner-stadtteilliebe.de/wp-content/uploads/2026/03/Hintergrund-Fruehling-2026.png
END:VEVENT
BEGIN:VEVENT
DTSTART;TZID=Europe/Berlin:20260323T153000
DTEND;TZID=Europe/Berlin:20260323T180000
DTSTAMP:20260422T141139
CREATED:20260302T093402Z
LAST-MODIFIED:20260302T093402Z
UID:118359-1774279800-1774288800@koelner-stadtteilliebe.de
SUMMARY:Monatslesung für Kinder
DESCRIPTION:Habt ihr Lust\, in spannende Geschichten einzutauchen\, große Abenteuer zu erleben und neuen\, fantastischen Figuren zu begegnen? Dann seid ihr beim Vorlesemontag genau richtig! Im SPÖKES Kinder- und Jugendhaus in Zollstock wird nämlich in gemütlicher Atmosphäre spannenden\, lustigen\, manchmal ein bisschen gruseligen und immer abenteuerlichen Geschichten gelauscht und seiner Fantasie freier Lauf gelassen. Jede Woche warten neue Überraschungen und neue Welten darauf\, entdeckt zu werden – versteckt zwischen zwei Buchdeckeln. Los geht es von 15:30 bis 16 Uhr mit liebevoll ausgewählten Geschichten für Kinder im Kindergartenalter. Im Anschluss\, von 16 bis 16:45 Uhr\, tauchen Grundschulkinder in spannende und abenteuerliche Erzählungen ein. Und für alle größeren Zuhörerinnen und Zuhörer wird es von 17 bis 18 Uhr magisch\, wenn aus Harry Potter vorgelesen wird. Kommt vorbei\, macht es euch gemütlich und erlebt gemeinsam\, wie schön Vorlesen sein kann.
URL:https://koelner-stadtteilliebe.de/veranstaltungen-events/monatslesung-fuer-kinder-4/
ATTACH;FMTTYPE=image/png:https://koelner-stadtteilliebe.de/wp-content/uploads/2026/03/Hintergrund-Fruehling-2026.png
END:VEVENT
BEGIN:VEVENT
DTSTART;TZID=Europe/Berlin:20260323T160000
DTEND;TZID=Europe/Berlin:20260323T180000
DTSTAMP:20260422T141139
CREATED:20260303T194428Z
LAST-MODIFIED:20260303T194428Z
UID:118676-1774281600-1774288800@koelner-stadtteilliebe.de
SUMMARY:„Digital-Sprechstunde“ in Raderthal
DESCRIPTION:„Digital-Sprechstunde“ am 23.03.2026\, 16-18 Uhr im Kino-Raum des Jugendheims der Philippus-Kirchengemeinde\, Albert-Schweitzer-Str. 3\, 50968 Köln Raderthal\nIndividuelle Unterstützung zu Smartphone\, Tablet\, Laptop und Online-Diensten.\nOffene Fragen rund um Smartphone\, Tablet\, Laptop\, E-Mail\, Apps oder Online-Dienste: In der Di-gital-Sprechstunde erhalten Sie individuelle Unterstützung – sowohl für erste Schritte als auch bei fortgeschrittener Nutzung. Es werden 30-minütige Einzeltermine vergeben.\nAnmeldung erforderlich: Inna Achmatow\, 0152 / 09 09 26 12 oder über seniorennetzwerk.radert-hal@gmx.de
URL:https://koelner-stadtteilliebe.de/veranstaltungen-events/digital-sprechstunde-in-raderthal/
ATTACH;FMTTYPE=image/png:https://koelner-stadtteilliebe.de/wp-content/uploads/2026/03/Hintergrund-Fruehling-2026.png
END:VEVENT
BEGIN:VEVENT
DTSTART;TZID=Europe/Berlin:20260323T180000
DTEND;TZID=Europe/Berlin:20260323T200000
DTSTAMP:20260422T141139
CREATED:20260204T110929Z
LAST-MODIFIED:20260204T110929Z
UID:116246-1774288800-1774296000@koelner-stadtteilliebe.de
SUMMARY:Gruppe für Angehörige von Suchterkrankten
DESCRIPTION:
URL:https://koelner-stadtteilliebe.de/veranstaltungen-events/gruppe-fuer-angehoerige-von-suchterkrankten/
LOCATION:Villa AWO\, Walter-Rathenau-Str. 9\, Köln-Rodenkirchen\, 50996
ATTACH;FMTTYPE=image/png:https://koelner-stadtteilliebe.de/wp-content/uploads/2026/03/Hintergrund-Fruehling-2026.png
END:VEVENT
BEGIN:VEVENT
DTSTART;TZID=Europe/Berlin:20260323T200000
DTEND;TZID=Europe/Berlin:20260323T220000
DTSTAMP:20260422T141139
CREATED:20260304T065552Z
LAST-MODIFIED:20260327T113944Z
UID:118924-1774296000-1774303200@koelner-stadtteilliebe.de
SUMMARY:Problem Alkohol!
DESCRIPTION:Jeden Donnerstag von 20 bis 22 Uhr treffen sich die Anonymen Alkoholiker im Gemeindesaal der Melanchthonkirche in Zollstock. Sucht betrifft nämlich mehr Menschen\, als man denkt. Aus diesem Grund gibt es einmal im Monat ein vertrauliches Selbsthilfeangebot speziell für suchtkranke Menschen und ihre Angehörigen. In dieser geschützten Gruppe können Betroffene offen sprechen\, Unterstützung finden und erleben\, dass sie mit ihren Sorgen nicht allein sind. Die Treffen finden in einem sicheren Rahmen und natürlich unter psychotherapeutischer Begleitung statt. \nIn der AWO-Villa in Rodenkirchen werden solche Abende auch angeboten. Diese Gruppe ist allerdings nur für Angehörige von suchterkrankten Menschen gedacht. Dazu ist die Anmeldung erforderlich unter der genannten Mailadresse: therapie.marieporras@gmail.com. Die Termine finden am 23.03.\, 20.04. und 27.05 um 18 Uhr statt. 
URL:https://koelner-stadtteilliebe.de/veranstaltungen-events/problem-alkohol-4/
LOCATION:Melchatonkirchen\, Bornheimer Str. 1a\, Köln\, 50969
ATTACH;FMTTYPE=image/png:https://koelner-stadtteilliebe.de/wp-content/uploads/2026/03/Hintergrund-Fruehling-2026.png
END:VEVENT
END:VCALENDAR