BEGIN:VCALENDAR
VERSION:2.0
PRODID:-//koelner-stadtteilliebe - ECPv6.15.20//NONSGML v1.0//EN
CALSCALE:GREGORIAN
METHOD:PUBLISH
X-WR-CALNAME:koelner-stadtteilliebe
X-ORIGINAL-URL:https://koelner-stadtteilliebe.de
X-WR-CALDESC:Veranstaltungen für koelner-stadtteilliebe
REFRESH-INTERVAL;VALUE=DURATION:PT1H
X-Robots-Tag:noindex
X-PUBLISHED-TTL:PT1H
BEGIN:VTIMEZONE
TZID:Europe/Berlin
BEGIN:DAYLIGHT
TZOFFSETFROM:+0100
TZOFFSETTO:+0200
TZNAME:CEST
DTSTART:20250330T010000
END:DAYLIGHT
BEGIN:STANDARD
TZOFFSETFROM:+0200
TZOFFSETTO:+0100
TZNAME:CET
DTSTART:20251026T010000
END:STANDARD
BEGIN:DAYLIGHT
TZOFFSETFROM:+0100
TZOFFSETTO:+0200
TZNAME:CEST
DTSTART:20260329T010000
END:DAYLIGHT
BEGIN:STANDARD
TZOFFSETFROM:+0200
TZOFFSETTO:+0100
TZNAME:CET
DTSTART:20261025T010000
END:STANDARD
BEGIN:DAYLIGHT
TZOFFSETFROM:+0100
TZOFFSETTO:+0200
TZNAME:CEST
DTSTART:20270328T010000
END:DAYLIGHT
BEGIN:STANDARD
TZOFFSETFROM:+0200
TZOFFSETTO:+0100
TZNAME:CET
DTSTART:20271031T010000
END:STANDARD
END:VTIMEZONE
BEGIN:VEVENT
DTSTART;TZID=Europe/Berlin:20260325T100000
DTEND;TZID=Europe/Berlin:20260325T150000
DTSTAMP:20260424T145608
CREATED:20260304T080711Z
LAST-MODIFIED:20260304T080711Z
UID:119162-1774432800-1774450800@koelner-stadtteilliebe.de
SUMMARY:Wandern in Zollstock
DESCRIPTION:Die Wandergruppe Zollstock lädt alle Bewegungsfreudigen herzlich zu gemeinsamen Spazier- und Wandertouren ein. In gemütlichem Tempo und mit leichtem Schwierigkeitsgrad erkunden sie abwechslungsreiche Wege und genießen die Natur in geselliger Runde. Treffpunkt ist mittwochs um 10 Uhr am Höninger Platz\, Eingang Südfriedhof (bei den Bänken). Die Wegstrecke beträgt je nach Route etwa 10 bis 14 Kilometer und die genauen Details der Tour werden jeweils gemeinsam mit den Anwesenden vor Ort abgesprochen. Die Wanderungen finden alle 14 Tage in den ungeraden Kalenderwochen des Jahres statt. Ob allein oder in Begleitung – alle\, die Freude an Bewegung und netten Gesprächen haben\, sind herzlich willkommen.
URL:https://koelner-stadtteilliebe.de/veranstaltungen-events/wandern-in-zollstock-2/
ATTACH;FMTTYPE=image/png:https://koelner-stadtteilliebe.de/wp-content/uploads/2026/03/Hintergrund-Fruehling-2026.png
END:VEVENT
BEGIN:VEVENT
DTSTART;TZID=Europe/Berlin:20260325T103000
DTEND;TZID=Europe/Berlin:20260325T120000
DTSTAMP:20260424T145608
CREATED:20260208T203843Z
LAST-MODIFIED:20260208T203843Z
UID:116482-1774434600-1774440000@koelner-stadtteilliebe.de
SUMMARY:Eltern Kind Gruppe
DESCRIPTION:
URL:https://koelner-stadtteilliebe.de/veranstaltungen-events/eltern-kind-gruppe-6/
ATTACH;FMTTYPE=image/png:https://koelner-stadtteilliebe.de/wp-content/uploads/2026/03/Hintergrund-Fruehling-2026.png
END:VEVENT
BEGIN:VEVENT
DTSTART;TZID=Europe/Berlin:20260325T140000
DTEND;TZID=Europe/Berlin:20260325T153000
DTSTAMP:20260424T145608
CREATED:20260304T073521Z
LAST-MODIFIED:20260304T073521Z
UID:119032-1774447200-1774452600@koelner-stadtteilliebe.de
SUMMARY:30 Minuten gemeinsam spazieren gehen
DESCRIPTION:Die Zollstocker-Spaziergehgruppe lädt am 4. Mittwoch im Monat pünktlich um 14 Uhr herzlich zu einem gemütlichen gemeinsamen Spaziergang ein. Die kurze Wegstrecke von etwa 30 Minuten führt durch das Zollstocker Grün\, in entspannter Atmosphäre und ohne Eile. Im Anschluss kehren sie gemeinsam ein und lassen den Spaziergang bei netten Gesprächen ausklingen. Treffpunkt ist der Höninger Platz\, Eingang Südfriedhof (bei den Bänken). Eine Anmeldung ist nicht nötig\, gute Laune aber schon.
URL:https://koelner-stadtteilliebe.de/veranstaltungen-events/30-minuten-gemeinsam-spazieren-gehen/
ATTACH;FMTTYPE=image/png:https://koelner-stadtteilliebe.de/wp-content/uploads/2026/03/Hintergrund-Fruehling-2026.png
END:VEVENT
BEGIN:VEVENT
DTSTART;TZID=Europe/Berlin:20260325T140000
DTEND;TZID=Europe/Berlin:20260325T160000
DTSTAMP:20260424T145608
CREATED:20260301T171938Z
LAST-MODIFIED:20260301T171938Z
UID:117571-1774447200-1774454400@koelner-stadtteilliebe.de
SUMMARY:Führungen durch das Diakonie-Dorf
DESCRIPTION:Wenn der Frühling das Diakonie-Dorf in frisches Grün taucht\, entfaltet sich sein ganz besonderer Charme. Seit 1955 ist dort nämlich ein Runddorf mit klar gegliederten Häusern entstanden\, eingebettet in einen weitläufigen Park\, der nach dem Vorbild englischer Landschaftsgärten gestaltet wurde. Blühende Wege\, alte Bäume und die immer grünen Wiesen laden dazu ein\, die Anlage in ruhiger\, freundlicher Atmosphäre am 25.4. und am 9.5. von 14 bis 16 Uhr bei einer professionellen Führung zu entdecken. Im Mittelpunkt steht dann auch die 1964 geweihte Erzengel-Michael-Kirche\, deren markante Form an skandinavische Stabkirchen erinnert und die dem Ort eine besondere Ausstrahlung verleiht. Aber auch der Blauglockenbaum mit seinen lavendelfarbenen Blüten oder roten Blüten der Rotkastanie\, die blühenden Zierkirschen\, Blumenhartriegel\, Magnolien\, Azaleen und Rhododendren zeigen sich von ihrer schönsten Seite. Treffpunkt ist die Zentrale der Diakonie Michaelshoven in der Pfarrer-te-Reh-Straße 1. Der Eintritt ist frei\, eine Anmeldung nicht erforderlich. Die Führungen sind übrigens barrierearm gestaltet\, damit jeder dabei sein kann.
URL:https://koelner-stadtteilliebe.de/veranstaltungen-events/fuehrungen-durch-das-diakonie-dorf/
LOCATION:Diakonie Michaelshoven\, Sürther Str. 169\, Köln-Michaelshoven\, 50999
ATTACH;FMTTYPE=image/png:https://koelner-stadtteilliebe.de/wp-content/uploads/2026/03/Hintergrund-Fruehling-2026.png
END:VEVENT
BEGIN:VEVENT
DTSTART;TZID=Europe/Berlin:20260325T143000
DTEND;TZID=Europe/Berlin:20260325T153000
DTSTAMP:20260424T145608
CREATED:20260208T202012Z
LAST-MODIFIED:20260208T202012Z
UID:116405-1774449000-1774452600@koelner-stadtteilliebe.de
SUMMARY:Digital Fit in der Villa AWO
DESCRIPTION:
URL:https://koelner-stadtteilliebe.de/veranstaltungen-events/digital-fit-in-der-villa-awo-7/
LOCATION:Villa AWO\, Walter-Rathenau-Str. 9\, Köln-Rodenkirchen\, 50996
ATTACH;FMTTYPE=image/png:https://koelner-stadtteilliebe.de/wp-content/uploads/2026/03/Hintergrund-Fruehling-2026.png
END:VEVENT
BEGIN:VEVENT
DTSTART;TZID=Europe/Berlin:20260325T143000
DTEND;TZID=Europe/Berlin:20260325T170000
DTSTAMP:20260424T145608
CREATED:20260304T082105Z
LAST-MODIFIED:20260304T082105Z
UID:119223-1774449000-1774458000@koelner-stadtteilliebe.de
SUMMARY:Die rüstigen Rentner von Weiß
DESCRIPTION:Jeden Mittwoch von 14.30 bis 17 Uhr wird es lebendig\, fröhlich und herzlich im renovierten Pfarrheim St. Georg in Weiß – denn dann ist Seniorennachmittag. In ganz entspannter Runde kommen Damen und Herren ab 60 Jahren zusammen\, um gemeinsam schöne Stunden zu verbringen\, zu lachen\, zu erzählen und einfach das Miteinander zu genießen und wer einmal da war\, kommt in der Regel auch wieder. Denn bei einer gemütlichen Tasse Kaffee\, leckerem Kuchen sowie einer kleinen Auswahl an alkoholischen und alkoholfreien Getränken – liebevoll und für „kleines Geld“ von fleißigen Helferinnen serviert – entstehen schnell gute Gespräche. Es wird geklönt\, Karten oder Gesellschaftsspiele gespielt\, auch hilft man sich gegenseitig mit kleinen Alltagstipps bzw. tauscht die neuesten „Weißer Neuigkeiten“ aus. Alles ganz ungezwungen\, ohne Verpflichtungen – so\, wie man sich wohlfühlt. Demnach ist eine Anmeldung nicht nötig\, denn es sind immer genug Plätze frei. Was toll ist\, Parkmöglichkeiten gibt es direkt vor Ort und der ÖPNV ist auch nicht weit. Ob man regelmäßig kommt oder einfach mal reinschnuppern möchte: Jede und jeder ist herzlich willkommen. Ein besonderes Highlight\, über das an diesen Nachmittagen immer wieder begeistert gesprochen wird\, sind übrigens die gemeinsamen Ausfahrten. Einmal im Monat geht es für die gutgelaunte Runde nämlich mit dem Bus „op Jöck“ – zu schönen Zielen in der näheren Umgebung\, mit einem liebevoll geplanten Rahmenprogramm. Organisiert wird das alles mit viel Herz und Engagement aus den eigenen Reihen – und genau das macht diese Seniorennachmittage so besonders. Hier steht man noch füreinander ein und macht diese Runde wirklich besonders. \n 
URL:https://koelner-stadtteilliebe.de/veranstaltungen-events/die-ruestigen-rentner-von-weiss-5/
ATTACH;FMTTYPE=image/png:https://koelner-stadtteilliebe.de/wp-content/uploads/2026/03/Hintergrund-Fruehling-2026.png
END:VEVENT
BEGIN:VEVENT
DTSTART;TZID=Europe/Berlin:20260325T183000
DTEND;TZID=Europe/Berlin:20260325T210000
DTSTAMP:20260424T145608
CREATED:20260317T090629Z
LAST-MODIFIED:20260317T090629Z
UID:119932-1774463400-1774472400@koelner-stadtteilliebe.de
SUMMARY:Geschichtswerkstatt mit Dr. Cornelius Steckner: Ernst Finken "Vom Volksgarten zur Gartenstadt"
DESCRIPTION:Die erste Veranstaltung des Jahres 2026 – zugleich im 20. Jahr der Reihe „Rodenkirchen erinnert sich (RES)“ – widmet sich dem Gartenkünstler Ernst Finken und seinem nachhaltigen Einfluss auf die Entwicklung der Stadt Köln. \n \nIm Mittelpunkt steht Finkens preisgekrönter Entwurf für den Volksgarten aus dem Jahr 1887. Im Zuge der Begrünung Kölns prägte er damit das Stadtbild weit über seine Zeit hinaus. Sein Werk fand europaweit Beachtung und wirkt bis heute nach. \n \nEin weiterer Schwerpunkt ist Finkens Beteiligung an der berühmten Ausstellung des Deutschen Werkbundes im Jahr 1914 in Köln-Deutz. Als Mitglied des Werkbundes aus Rodenkirchen war er Teil eines richtungsweisenden Projekts\, das mit mehr als 50 exemplarischen Gebäuden neue Maßstäbe setzte. Architektur\, Nutzung\, Ausstattung\, Einrichtung und Gartenanlagen veranschaulichten der Öffentlichkeit eine moderne Formensprache. \n \nAuch die heutige Gestaltung des Kölner Zoos geht maßgeblich auf Ernst Finken zurück. Von 1891 bis 1896 war er Gartendirektor der Flora und prägte auch diesen Ort entscheidend. Später gründete er in Rodenkirchen eine weithin bekannte Baumschule. Auf ihrem ehemaligen Gelände befindet sich heute seit über 40 Jahren „Finkens Garten“ – ein Naturerlebnis-Biotop mit thematischen Bereichen\, insbesondere für Kinder. Der Garten bietet zudem Einblicke in die regionale Imkerei und lädt dazu ein\, verschiedene Honigsorten zu probieren. \n \nVeranstalter \n \nLiteramus e. V. \n \nliteramus.rodenkirchen@gmail.com \n \nVeranstaltungsort \n \nStadtteilbibliothek Rodenkirchen \n \nSchillingsrotter Straße 38 \n \n50996 Köln-Rodenkirchen \n \nDatum: 25. März 2026 \n \nUhrzeit: 18:30 Uhr \n \nEintritt: frei \n \n\n 
URL:https://koelner-stadtteilliebe.de/veranstaltungen-events/geschichtswerkstatt-mit-dr-cornelius-steckner-ernst-finken-vom-volksgarten-zur-gartenstadt/
LOCATION:Stadtteilbibliothek Rodenkirchen\, Schillingsrotter Str. 38\, Köln-Rodenkirchen\, 50996
ATTACH;FMTTYPE=image/png:https://koelner-stadtteilliebe.de/wp-content/uploads/2026/03/Hintergrund-Fruehling-2026.png
END:VEVENT
BEGIN:VEVENT
DTSTART;TZID=Europe/Berlin:20260325T190000
DTEND;TZID=Europe/Berlin:20260325T203000
DTSTAMP:20260424T145608
CREATED:20260304T062247Z
LAST-MODIFIED:20260304T062247Z
UID:118763-1774465200-1774470600@koelner-stadtteilliebe.de
SUMMARY:Power Pilates bringt Schwung auf die Matte und ein gutes Gefühl in den Körper!
DESCRIPTION:Power Pilates bringt Schwung auf die Matte und ein gutes Gefühl in den Körper! \nIn 45 dynamischen Minuten verbinden Sie kräftigende Übungen mit fließenden Bewegungen und bewusster Atmung. Sie stärken Ihre Körpermitte\, werden beweglicher und gehen mit neuer Energie nach Hause. Gemeinsam mit der Pilatestrainerin Edith Fuchs trainieren Sie effektiv\, motivierend und mit viel Freude an Bewegung und das sogar kostenlos. Egal\, ob Sie Pilates neu entdecken oder bereits Erfahrung haben – das gute Körpergefühl steht hier im Mittelpunkt. Kommen Sie alle 14 Tage\, z. B. am 11.3. und 25.3. usw. um 19 Uhr in die Villa AWO\, Walther-Rathenau-Straße 9\, 50996 Köln-Rodenkirchen und freuen Sie sich auf eine tolle Gruppe. Weitere Infos und zur Anmeldung: gemeinsamsindwirstaerker@awo-koeln.de  oder 0178 1463 796
URL:https://koelner-stadtteilliebe.de/veranstaltungen-events/power-pilates-bringt-schwung-auf-die-matte-und-ein-gutes-gefuehl-in-den-koerper-2/
LOCATION:Villa AWO\, Walter-Rathenau-Str. 9\, Köln-Rodenkirchen\, 50996
ATTACH;FMTTYPE=image/png:https://koelner-stadtteilliebe.de/wp-content/uploads/2026/03/Hintergrund-Fruehling-2026.png
END:VEVENT
BEGIN:VEVENT
DTSTART;TZID=Europe/Berlin:20260325T193000
DTEND;TZID=Europe/Berlin:20260325T213000
DTSTAMP:20260424T145608
CREATED:20260311T103219Z
LAST-MODIFIED:20260311T103219Z
UID:119653-1774467000-1774474200@koelner-stadtteilliebe.de
SUMMARY:Vortrag über Künstliche Intelligenz im Martin-Luther-Haus Dr. Jobst Landgrebe referiert über Möglichkeiten und Grenzen der KI
DESCRIPTION:25.03.2026\, 19:30\nEvangelische Kirchengemeinde Köln-Bayenthal\nMartin-Luther-Haus\, Mehlemer Straße 7\, 50968 Köln\nVortrag über Künstliche Intelligenz im Martin-Luther-Haus\nDr. Jobst Landgrebe referiert über Möglichkeiten und Grenzen der KI\nDr. Jobst Landgrebe\, Unternehmensberater und Gastprofessor für KI-Wissenschaftstheorie an der Universität Lugano\, hält am Mittwoch\, 25. März\, 19.30 Uhr\, im Martin-Luther-Haus\, Mehlemer Straße 27\, einen Vortrag zum Thema „Künstliche Intelligenz und die Zukunft unserer Gesellschaft“. Der Ko-Autor des Buches „Why machines will never rule the world“ räumt mit verbreiteten Annahmen auf: KI werde weder ein Bewusstsein entwickeln noch menschliche Arbeit überflüssig machen\, sondern vor allem den öffentlichen Raum fundamental verändern. Landgrebe zeigt die mathematischen Grenzen der Künstlichen Intelligenz auf und skizziert zugleich\, welche Möglichkeiten ihr Einsatz tatsächlich eröffnet.\nwww.kirche-bayenthal.de
URL:https://koelner-stadtteilliebe.de/veranstaltungen-events/vortrag-ueber-kuenstliche-intelligenz-im-martin-luther-haus-dr-jobst-landgrebe-referiert-ueber-moeglichkeiten-und-grenzen-der-ki/
LOCATION:Martin-Luther-Haus\, Mehlemer Straße 29\, Köln\, 50968
ATTACH;FMTTYPE=image/png:https://koelner-stadtteilliebe.de/wp-content/uploads/2026/03/Hintergrund-Fruehling-2026.png
END:VEVENT
END:VCALENDAR