BEGIN:VCALENDAR
VERSION:2.0
PRODID:-//koelner-stadtteilliebe - ECPv6.15.20//NONSGML v1.0//EN
CALSCALE:GREGORIAN
METHOD:PUBLISH
X-ORIGINAL-URL:https://koelner-stadtteilliebe.de
X-WR-CALDESC:Veranstaltungen für koelner-stadtteilliebe
REFRESH-INTERVAL;VALUE=DURATION:PT1H
X-Robots-Tag:noindex
X-PUBLISHED-TTL:PT1H
BEGIN:VTIMEZONE
TZID:Europe/Berlin
BEGIN:DAYLIGHT
TZOFFSETFROM:+0100
TZOFFSETTO:+0200
TZNAME:CEST
DTSTART:20250330T010000
END:DAYLIGHT
BEGIN:STANDARD
TZOFFSETFROM:+0200
TZOFFSETTO:+0100
TZNAME:CET
DTSTART:20251026T010000
END:STANDARD
BEGIN:DAYLIGHT
TZOFFSETFROM:+0100
TZOFFSETTO:+0200
TZNAME:CEST
DTSTART:20260329T010000
END:DAYLIGHT
BEGIN:STANDARD
TZOFFSETFROM:+0200
TZOFFSETTO:+0100
TZNAME:CET
DTSTART:20261025T010000
END:STANDARD
BEGIN:DAYLIGHT
TZOFFSETFROM:+0100
TZOFFSETTO:+0200
TZNAME:CEST
DTSTART:20270328T010000
END:DAYLIGHT
BEGIN:STANDARD
TZOFFSETFROM:+0200
TZOFFSETTO:+0100
TZNAME:CET
DTSTART:20271031T010000
END:STANDARD
END:VTIMEZONE
BEGIN:VEVENT
DTSTART;TZID=Europe/Berlin:20260326T100000
DTEND;TZID=Europe/Berlin:20260326T140000
DTSTAMP:20260424T190015
CREATED:20260310T103025Z
LAST-MODIFIED:20260310T103025Z
UID:119527-1774519200-1774533600@koelner-stadtteilliebe.de
SUMMARY:Familienflohmarkt im Sürher Feld
DESCRIPTION:
URL:https://koelner-stadtteilliebe.de/veranstaltungen-events/familienflohmarkt-im-suerher-feld/
LOCATION:Kita Feldhamsterstraße\, Feldhamsterstr. 65\, Köln- Sürtherfeld\, 50999
ATTACH;FMTTYPE=image/png:https://koelner-stadtteilliebe.de/wp-content/uploads/2026/03/Hintergrund-Fruehling-2026.png
END:VEVENT
BEGIN:VEVENT
DTSTART;TZID=Europe/Berlin:20260326T120000
DTEND;TZID=Europe/Berlin:20260326T140000
DTSTAMP:20260424T190015
CREATED:20260301T181355Z
LAST-MODIFIED:20260301T181355Z
UID:117660-1774526400-1774533600@koelner-stadtteilliebe.de
SUMMARY:Netzwerktreffen der Kölner Stadtteilliebe
DESCRIPTION:
URL:https://koelner-stadtteilliebe.de/veranstaltungen-events/netzwerktreffen-der-koelner-stadtteilliebe-2/
LOCATION:Hotel Begardenhof
ATTACH;FMTTYPE=image/png:https://koelner-stadtteilliebe.de/wp-content/uploads/2026/03/Hintergrund-Fruehling-2026.png
END:VEVENT
BEGIN:VEVENT
DTSTART;TZID=Europe/Berlin:20260326T140000
DTEND;TZID=Europe/Berlin:20260326T163000
DTSTAMP:20260424T190015
CREATED:20260301T193233Z
LAST-MODIFIED:20260301T193233Z
UID:117849-1774533600-1774542600@koelner-stadtteilliebe.de
SUMMARY:Spieltreff für Erwachsene
DESCRIPTION:Spieltreff für Erwachsene \nWas für eine nette gemischte Gruppe\, die sich donnerstags um 14 Uhr zum gemeinsamen Spielen im Jugendheim St. Blasius in Meschenich\, Brühler Landstraße 425\, trifft. Denn Gemeinschaft ist das beste Mittel gegen Einsamkeit. Am 26.3. und am 16.4. können gerne neue Mitspieler dazukommen und ihr eigenes Lieblingsspiel mitbringen! Kostenlos und ohne Anmeldung kann man dort einfach vorbeikommen\, wenn man gut gelaunt und offen für andere ist. Falls Du dazu Fragen hast\, ist Johanna Ferstl unter Tel. 01520 4895910 oder per E-Mail: Seniorennetzwerk-Meschenich@caritas.koeln.de zu erreichen und hilft gerne weiter. Überhaupt gibt es in Meschenich ein tolles Angebot für gemeinsame Zeit – die Thomas Begegnungsstätte\, das Jugendzentrum und der Seniorentreff sind großartige Orte.
URL:https://koelner-stadtteilliebe.de/veranstaltungen-events/spieltreff-fuer-erwachsene-4/
LOCATION:Jugendhaus St Blasius\, Brühler Landstraße 425\, Köln\, 50997
ATTACH;FMTTYPE=image/png:https://koelner-stadtteilliebe.de/wp-content/uploads/2026/03/Hintergrund-Fruehling-2026.png
END:VEVENT
BEGIN:VEVENT
DTSTART;TZID=Europe/Berlin:20260326T154500
DTEND;TZID=Europe/Berlin:20260326T170000
DTSTAMP:20260424T190015
CREATED:20260225T200842Z
LAST-MODIFIED:20260225T200842Z
UID:117198-1774539900-1774544400@koelner-stadtteilliebe.de
SUMMARY:Singkreis im Brauhaus
DESCRIPTION:Donnerstag\, 26.03.2026 Achtung\nDer Singkreis unter der Leitung von Bärbel Kükenshöner trifft sich wieder wie\nbisher um 15.45 im Brauhaus Quetsch\, Hauptstrasse\nInformation :Bärbel Kükenshöner 0176-96006952 oder b.w.k@posteo.de
URL:https://koelner-stadtteilliebe.de/veranstaltungen-events/singkreis-im-brauhaus/
LOCATION:Brauhaus Quetsch\, Hauptstraße 7\, Köln\, 50996
ATTACH;FMTTYPE=image/png:https://koelner-stadtteilliebe.de/wp-content/uploads/2026/03/Hintergrund-Fruehling-2026.png
END:VEVENT
BEGIN:VEVENT
DTSTART;TZID=Europe/Berlin:20260326T180000
DTEND;TZID=Europe/Berlin:20260326T200000
DTSTAMP:20260424T190015
CREATED:20260301T201403Z
LAST-MODIFIED:20260301T201403Z
UID:117936-1774548000-1774555200@koelner-stadtteilliebe.de
SUMMARY:Familien-Benefizkonzert mit den Lucky Kids
DESCRIPTION:Familien-Benefizkonzert mit den Lucky Kids\nWenn fröhliche Stimmen am 26.3. von 18 bis 20 Uhr in der Erzengel-Michael-Kirche erklingen und sofort ein Lächeln ins Gesicht gezaubert wird\, dann ist der Kinder- und Jugendchor LUCKY KIDS nicht weit. Mit einem kunterbunten Repertoire sorgen sie für beste Stimmung und echte Ohrwurm-Momente. Popcorn und Limo sind natürlich für die kleinen Gäste eingeplant\, während sich die Großen auf ein wohlverdientes Kölsch freuen dürfen. Sämtliche Spenden aus dem kostenfreien Familienabend fließen übrigens in das Projekt „Mittagessen für Kinder“ und unterstützen damit wichtige Hilfe direkt vor Ort. 17 Uhr ist Einlass und wenn möglich\, sollte man ohne Auto kommen\, da es quasi keine Parkplätze gibt\, aber eine Bus- und Bahnhaltestelle.
URL:https://koelner-stadtteilliebe.de/veranstaltungen-events/familien-benefizkonzert-mit-den-lucky-kids/
LOCATION:Diakonie Michaelshoven\, Sürther Str. 169\, Köln-Michaelshoven\, 50999
ATTACH;FMTTYPE=image/png:https://koelner-stadtteilliebe.de/wp-content/uploads/2026/03/Hintergrund-Fruehling-2026.png
END:VEVENT
BEGIN:VEVENT
DTSTART;TZID=Europe/Berlin:20260326T180000
DTEND;TZID=Europe/Berlin:20260326T210000
DTSTAMP:20260424T190015
CREATED:20260302T114655Z
LAST-MODIFIED:20260302T114655Z
UID:118443-1774548000-1774558800@koelner-stadtteilliebe.de
SUMMARY:Der Club-Abend der Jugend...
DESCRIPTION:Der Club-Abend ist zurück – und ihr seid herzlich eingeladen! \nDie evangelische Kirche in Sürth öffnet wieder ihre Türen für alle Jugendlichen ab 13 Jahren\, die Lust auf Gemeinschaft\, Spaß und besondere Abende haben. Wenn ihr gerne Zeit mit netten Menschen verbringt\, Neues ausprobiert und euch wohlfühlen möchtet\, dann seid ihr hier genau richtig. Denn auch in diesem Jahr hat das engagierte Teamer-Team\, bestehend aus Jonathan\, Jule\, Kristina\, Lars\, Lucil\, Lukas\, Milla\, Elias und Pfarrer Simon Manderla\, viele kreative Ideen und abwechslungsreiche Aktionen vorbereitet. Ob spannende Herausforderungen\, fröhliche Spiele oder entspannte gemeinsame Abende – beim Club-Abend geht es darum\, zusammen eine gute Zeit zu haben. Bringt gerne eure Freundinnen und Freunde mit oder bringt euch mit eigenen Vorschlägen ein. Eure Ideen sind willkommen! Das erwartet euch am 5.3. Escape Room\, am 26.3. – Kickerturnier\, 16.4. – Spieleabend\, am 7.5. – Karaoke\, am 28.5. – Switch-Spiele\, am 11.06. – Wikingerschach\, am 25.06. – Special: You choose und am 9.7. – Grillen. Der Beginn ist immer um 18 Uhr und das Ende um 21 Uhr. Damit ihr immer auf dem Laufenden bleibt\, gibt es außerdem eine WhatsApp-Gruppe\, in der alle Neuigkeiten und Infos geteilt werden\, dazu könnt ihr euch beim Club-Abend anmelden.
URL:https://koelner-stadtteilliebe.de/veranstaltungen-events/der-club-abend-der-jugend-2/
LOCATION:Evangelische Kirche Sürth\, Auferstehungskirchweg 7\, Köln\, 50999
ATTACH;FMTTYPE=image/png:https://koelner-stadtteilliebe.de/wp-content/uploads/2026/03/Hintergrund-Fruehling-2026.png
END:VEVENT
BEGIN:VEVENT
DTSTART;TZID=Europe/Berlin:20260326T190000
DTEND;TZID=Europe/Berlin:20260326T213000
DTSTAMP:20260424T190015
CREATED:20260302T092516Z
LAST-MODIFIED:20260308T071155Z
UID:118335-1774551600-1774560600@koelner-stadtteilliebe.de
SUMMARY:Bürgerstammtisch Zollstock sowie Raderberg und -thal.
DESCRIPTION:Am 26.3. um 19Uhr startet der Bürgerstammtisch vom Allgemeinen Bürgerverein Köln – Zollstock e. V. in sein nächstes Jahr unter dem Motto „Zollstock redet miteinander“. In der Gaststätte Schäffer\, Markusstraße 126\, sind alle Einwohnerinnen und Einwohner des Veedels herzlich eingeladen\, in schöner und offener Atmosphäre zusammenzukommen. Eine Woche später\, am 3.4. trifft sich um 19:30 Uhr der Bürgerverein Raderberg und-thal\, dort. Auch sie wollen das Veedel zusammenrücken und freuen sich auf zahlreiche Besucher. \n \n 
URL:https://koelner-stadtteilliebe.de/veranstaltungen-events/buergerstammtisch-zollstock-sowie-raderberg-und-thal/
LOCATION:Gaststätte Schäffer\, Markusstraße 126\, Köln\, 50968
ATTACH;FMTTYPE=image/png:https://koelner-stadtteilliebe.de/wp-content/uploads/2026/03/Hintergrund-Fruehling-2026.png
END:VEVENT
BEGIN:VEVENT
DTSTART;TZID=Europe/Berlin:20260326T190000
DTEND;TZID=Europe/Berlin:20260326T213000
DTSTAMP:20260424T190015
CREATED:20260303T063421Z
LAST-MODIFIED:20260325T063600Z
UID:120108-1774551600-1774560600@koelner-stadtteilliebe.de
SUMMARY:Allgemeiner Bürgerverein zum Thema Olympia
DESCRIPTION:
URL:https://koelner-stadtteilliebe.de/veranstaltungen-events/allgemeiner-buergerverein-zum-thema-olympia/
LOCATION:Haus Schäffer\, Markusstr. 126\, Köln-Zollstock\, 50968
ATTACH;FMTTYPE=image/png:https://koelner-stadtteilliebe.de/wp-content/uploads/2026/03/Hintergrund-Fruehling-2026.png
END:VEVENT
END:VCALENDAR