BEGIN:VCALENDAR
VERSION:2.0
PRODID:-//koelner-stadtteilliebe - ECPv6.15.20//NONSGML v1.0//EN
CALSCALE:GREGORIAN
METHOD:PUBLISH
X-ORIGINAL-URL:https://koelner-stadtteilliebe.de
X-WR-CALDESC:Veranstaltungen für koelner-stadtteilliebe
REFRESH-INTERVAL;VALUE=DURATION:PT1H
X-Robots-Tag:noindex
X-PUBLISHED-TTL:PT1H
BEGIN:VTIMEZONE
TZID:Europe/Berlin
BEGIN:DAYLIGHT
TZOFFSETFROM:+0100
TZOFFSETTO:+0200
TZNAME:CEST
DTSTART:20250330T010000
END:DAYLIGHT
BEGIN:STANDARD
TZOFFSETFROM:+0200
TZOFFSETTO:+0100
TZNAME:CET
DTSTART:20251026T010000
END:STANDARD
BEGIN:DAYLIGHT
TZOFFSETFROM:+0100
TZOFFSETTO:+0200
TZNAME:CEST
DTSTART:20260329T010000
END:DAYLIGHT
BEGIN:STANDARD
TZOFFSETFROM:+0200
TZOFFSETTO:+0100
TZNAME:CET
DTSTART:20261025T010000
END:STANDARD
BEGIN:DAYLIGHT
TZOFFSETFROM:+0100
TZOFFSETTO:+0200
TZNAME:CEST
DTSTART:20270328T010000
END:DAYLIGHT
BEGIN:STANDARD
TZOFFSETFROM:+0200
TZOFFSETTO:+0100
TZNAME:CET
DTSTART:20271031T010000
END:STANDARD
END:VTIMEZONE
BEGIN:VEVENT
DTSTART;TZID=Europe/Berlin:20260330T080000
DTEND;TZID=Europe/Berlin:20260402T170000
DTSTAMP:20260424T155000
CREATED:20260109T213440Z
LAST-MODIFIED:20260109T213440Z
UID:115070-1774857600-1775149200@koelner-stadtteilliebe.de
SUMMARY:Feriencamp zu Ostern für Kinder von 5-13 Jahre
DESCRIPTION:
URL:https://koelner-stadtteilliebe.de/veranstaltungen-events/feriencamp-zu-ostern-fuer-kinder-von-5-13-jahre/
LOCATION:OSK Köln (offene Schule Köln)\, Sürther Str. 199\, Köln\, 50996
ATTACH;FMTTYPE=image/png:https://koelner-stadtteilliebe.de/wp-content/uploads/2026/03/Hintergrund-Fruehling-2026.png
END:VEVENT
BEGIN:VEVENT
DTSTART;TZID=Europe/Berlin:20260330T133000
DTEND;TZID=Europe/Berlin:20260330T153000
DTSTAMP:20260424T155000
CREATED:20251221T132955Z
LAST-MODIFIED:20251221T132955Z
UID:112666-1774877400-1774884600@koelner-stadtteilliebe.de
SUMMARY:Komm lass uns spielen
DESCRIPTION:Ob jung oder alt\, Brettspiel-Fan oder Kartenspiel-König – Geselligkeit\, Spaß und ein bisschen Denksport\, beim wöchentlichen Spielenachmittag in der Villa AWO Köln-Rodenkirchen (Walther-Rathenau-Str. 9) sind vom Kind bis zum ältesten Senior alle herzlich willkommen! Immer montags von 13:30 bis 15:30 Uhr treffen sich Spielbegeisterte in jedem Alter in entspannter Atmosphäre in der Walther-Rathenau-Straße 9\, um gemeinsam zu lachen\, zu spielen und um Kontakte zu knüpfen. Egal ob Klassiker wie Memory\, Mensch ärgere dich nicht\, Mühle\, Karten- oder Brettspiele – alles kann gespielt und mitgebracht werden. Der Spielenachmittag ist ideal für alle\, die Gemeinschaft lieben und im gemütlichen Ambiente netten Menschen aus dem Stadtteil treffen wollen.
URL:https://koelner-stadtteilliebe.de/veranstaltungen-events/komm-lass-uns-spielen-14/
LOCATION:Villa AWO\, Walter-Rathenau-Str. 9\, Köln-Rodenkirchen\, 50996
ATTACH;FMTTYPE=image/png:https://koelner-stadtteilliebe.de/wp-content/uploads/2026/03/Hintergrund-Fruehling-2026.png
END:VEVENT
BEGIN:VEVENT
DTSTART;TZID=Europe/Berlin:20260330T153000
DTEND;TZID=Europe/Berlin:20260330T180000
DTSTAMP:20260424T155000
CREATED:20260302T093424Z
LAST-MODIFIED:20260302T093424Z
UID:118362-1774884600-1774893600@koelner-stadtteilliebe.de
SUMMARY:Monatslesung für Kinder
DESCRIPTION:Habt ihr Lust\, in spannende Geschichten einzutauchen\, große Abenteuer zu erleben und neuen\, fantastischen Figuren zu begegnen? Dann seid ihr beim Vorlesemontag genau richtig! Im SPÖKES Kinder- und Jugendhaus in Zollstock wird nämlich in gemütlicher Atmosphäre spannenden\, lustigen\, manchmal ein bisschen gruseligen und immer abenteuerlichen Geschichten gelauscht und seiner Fantasie freier Lauf gelassen. Jede Woche warten neue Überraschungen und neue Welten darauf\, entdeckt zu werden – versteckt zwischen zwei Buchdeckeln. Los geht es von 15:30 bis 16 Uhr mit liebevoll ausgewählten Geschichten für Kinder im Kindergartenalter. Im Anschluss\, von 16 bis 16:45 Uhr\, tauchen Grundschulkinder in spannende und abenteuerliche Erzählungen ein. Und für alle größeren Zuhörerinnen und Zuhörer wird es von 17 bis 18 Uhr magisch\, wenn aus Harry Potter vorgelesen wird. Kommt vorbei\, macht es euch gemütlich und erlebt gemeinsam\, wie schön Vorlesen sein kann.
URL:https://koelner-stadtteilliebe.de/veranstaltungen-events/monatslesung-fuer-kinder-5/
ATTACH;FMTTYPE=image/png:https://koelner-stadtteilliebe.de/wp-content/uploads/2026/03/Hintergrund-Fruehling-2026.png
END:VEVENT
BEGIN:VEVENT
DTSTART;TZID=Europe/Berlin:20260330T180000
DTEND;TZID=Europe/Berlin:20260330T193000
DTSTAMP:20260424T155000
CREATED:20260302T152328Z
LAST-MODIFIED:20260302T152328Z
UID:118468-1774893600-1774899000@koelner-stadtteilliebe.de
SUMMARY:Klassisches Klavierkonzert "Frühingsreigen"
DESCRIPTION:
URL:https://koelner-stadtteilliebe.de/veranstaltungen-events/klassisches-klavierkonzert-fruehingsreigen/
LOCATION:SeniorenCentrum Rodenkirchen\, Hauptstr. 118\, Kön-Rodenkirchen\, 50996
ATTACH;FMTTYPE=image/png:https://koelner-stadtteilliebe.de/wp-content/uploads/2026/03/Hintergrund-Fruehling-2026.png
END:VEVENT
END:VCALENDAR