BEGIN:VCALENDAR
VERSION:2.0
PRODID:-//koelner-stadtteilliebe - ECPv6.15.20//NONSGML v1.0//EN
CALSCALE:GREGORIAN
METHOD:PUBLISH
X-WR-CALNAME:koelner-stadtteilliebe
X-ORIGINAL-URL:https://koelner-stadtteilliebe.de
X-WR-CALDESC:Veranstaltungen für koelner-stadtteilliebe
REFRESH-INTERVAL;VALUE=DURATION:PT1H
X-Robots-Tag:noindex
X-PUBLISHED-TTL:PT1H
BEGIN:VTIMEZONE
TZID:Europe/Berlin
BEGIN:DAYLIGHT
TZOFFSETFROM:+0100
TZOFFSETTO:+0200
TZNAME:CEST
DTSTART:20250330T010000
END:DAYLIGHT
BEGIN:STANDARD
TZOFFSETFROM:+0200
TZOFFSETTO:+0100
TZNAME:CET
DTSTART:20251026T010000
END:STANDARD
BEGIN:DAYLIGHT
TZOFFSETFROM:+0100
TZOFFSETTO:+0200
TZNAME:CEST
DTSTART:20260329T010000
END:DAYLIGHT
BEGIN:STANDARD
TZOFFSETFROM:+0200
TZOFFSETTO:+0100
TZNAME:CET
DTSTART:20261025T010000
END:STANDARD
BEGIN:DAYLIGHT
TZOFFSETFROM:+0100
TZOFFSETTO:+0200
TZNAME:CEST
DTSTART:20270328T010000
END:DAYLIGHT
BEGIN:STANDARD
TZOFFSETFROM:+0200
TZOFFSETTO:+0100
TZNAME:CET
DTSTART:20271031T010000
END:STANDARD
END:VTIMEZONE
BEGIN:VEVENT
DTSTART;TZID=Europe/Berlin:20260330T080000
DTEND;TZID=Europe/Berlin:20260402T170000
DTSTAMP:20260420T234053
CREATED:20260109T213440Z
LAST-MODIFIED:20260109T213440Z
UID:115070-1774857600-1775149200@koelner-stadtteilliebe.de
SUMMARY:Feriencamp zu Ostern für Kinder von 5-13 Jahre
DESCRIPTION:
URL:https://koelner-stadtteilliebe.de/veranstaltungen-events/feriencamp-zu-ostern-fuer-kinder-von-5-13-jahre/
LOCATION:OSK Köln (offene Schule Köln)\, Sürther Str. 199\, Köln\, 50996
ATTACH;FMTTYPE=image/png:https://koelner-stadtteilliebe.de/wp-content/uploads/2026/03/Hintergrund-Fruehling-2026.png
END:VEVENT
BEGIN:VEVENT
DTSTART;TZID=Europe/Berlin:20260331T110000
DTEND;TZID=Europe/Berlin:20260331T123000
DTSTAMP:20260420T234053
CREATED:20260212T082926Z
LAST-MODIFIED:20260212T082926Z
UID:116711-1774954800-1774960200@koelner-stadtteilliebe.de
SUMMARY:Sturzprophylaxe in der Villa AWO
DESCRIPTION:
URL:https://koelner-stadtteilliebe.de/veranstaltungen-events/sturzprophylaxe-in-der-villa-awo-6/
LOCATION:Villa AWO\, Walter-Rathenau-Str. 9\, Köln-Rodenkirchen\, 50996
ATTACH;FMTTYPE=image/png:https://koelner-stadtteilliebe.de/wp-content/uploads/2026/03/Hintergrund-Fruehling-2026.png
END:VEVENT
BEGIN:VEVENT
DTSTART;TZID=Europe/Berlin:20260331T150000
DTEND;TZID=Europe/Berlin:20260331T170000
DTSTAMP:20260420T234053
CREATED:20260304T063208Z
LAST-MODIFIED:20260304T063208Z
UID:118808-1774969200-1774976400@koelner-stadtteilliebe.de
SUMMARY:Wo der König\, der Bauer und der Läufer am Zuge ist
DESCRIPTION:Wo der König\, der Bauer und der Läufer am Zuge ist \nDer Schachclub im Bürgerhaus Zollstock lädt alle Schachbegeisterten herzlich ein\, gemeinsam die Freude am königlichen Spiel zu teilen. Jeden Dienstag um 15 Uhr treffen sich Anfänger ebenso wie erfahrene Spieler\, um in entspannter Atmosphäre Schach zuspielen\, zu lernen und sich auszutauschen. Ob eine spannende Partie\, ein freundschaftliches Duell oder einfach das gemeinsame Nachdenken über kluge Züge – der Schachclub bietet Raum für Begegnung\, Konzentration und Spaß. Einfach vorbeikommen und mitspielen – alle sind willkommen! \n 
URL:https://koelner-stadtteilliebe.de/veranstaltungen-events/wo-der-koenig-der-bauer-und-der-laeufer-am-zuge-ist-4/
LOCATION:Zollstocker Bürgerhaus\, Rosezweigweg 1\, Köln\, 50969
ATTACH;FMTTYPE=image/png:https://koelner-stadtteilliebe.de/wp-content/uploads/2026/03/Hintergrund-Fruehling-2026.png
END:VEVENT
END:VCALENDAR