BEGIN:VCALENDAR
VERSION:2.0
PRODID:-//koelner-stadtteilliebe - ECPv6.15.20//NONSGML v1.0//EN
CALSCALE:GREGORIAN
METHOD:PUBLISH
X-ORIGINAL-URL:https://koelner-stadtteilliebe.de
X-WR-CALDESC:Veranstaltungen für koelner-stadtteilliebe
REFRESH-INTERVAL;VALUE=DURATION:PT1H
X-Robots-Tag:noindex
X-PUBLISHED-TTL:PT1H
BEGIN:VTIMEZONE
TZID:Europe/Berlin
BEGIN:DAYLIGHT
TZOFFSETFROM:+0100
TZOFFSETTO:+0200
TZNAME:CEST
DTSTART:20250330T010000
END:DAYLIGHT
BEGIN:STANDARD
TZOFFSETFROM:+0200
TZOFFSETTO:+0100
TZNAME:CET
DTSTART:20251026T010000
END:STANDARD
BEGIN:DAYLIGHT
TZOFFSETFROM:+0100
TZOFFSETTO:+0200
TZNAME:CEST
DTSTART:20260329T010000
END:DAYLIGHT
BEGIN:STANDARD
TZOFFSETFROM:+0200
TZOFFSETTO:+0100
TZNAME:CET
DTSTART:20261025T010000
END:STANDARD
BEGIN:DAYLIGHT
TZOFFSETFROM:+0100
TZOFFSETTO:+0200
TZNAME:CEST
DTSTART:20270328T010000
END:DAYLIGHT
BEGIN:STANDARD
TZOFFSETFROM:+0200
TZOFFSETTO:+0100
TZNAME:CET
DTSTART:20271031T010000
END:STANDARD
END:VTIMEZONE
BEGIN:VEVENT
DTSTART;TZID=Europe/Berlin:20260330T080000
DTEND;TZID=Europe/Berlin:20260402T170000
DTSTAMP:20260420T234322
CREATED:20260109T213440Z
LAST-MODIFIED:20260109T213440Z
UID:115070-1774857600-1775149200@koelner-stadtteilliebe.de
SUMMARY:Feriencamp zu Ostern für Kinder von 5-13 Jahre
DESCRIPTION:
URL:https://koelner-stadtteilliebe.de/veranstaltungen-events/feriencamp-zu-ostern-fuer-kinder-von-5-13-jahre/
LOCATION:OSK Köln (offene Schule Köln)\, Sürther Str. 199\, Köln\, 50996
ATTACH;FMTTYPE=image/png:https://koelner-stadtteilliebe.de/wp-content/uploads/2026/03/Hintergrund-Fruehling-2026.png
END:VEVENT
BEGIN:VEVENT
DTSTART;TZID=Europe/Berlin:20260401T080000
DTEND;TZID=Europe/Berlin:20260401T170000
DTSTAMP:20260420T234322
CREATED:20260212T084155Z
LAST-MODIFIED:20260212T084155Z
UID:116753-1775030400-1775062800@koelner-stadtteilliebe.de
SUMMARY:Shared Reading ....gemeinsam lesen
DESCRIPTION:
URL:https://koelner-stadtteilliebe.de/veranstaltungen-events/shared-reading-gemeinsam-lesen-3/
LOCATION:Villa AWO\, Walter-Rathenau-Str. 9\, Köln-Rodenkirchen\, 50996
ATTACH;FMTTYPE=image/png:https://koelner-stadtteilliebe.de/wp-content/uploads/2026/03/Hintergrund-Fruehling-2026.png
END:VEVENT
BEGIN:VEVENT
DTSTART;TZID=Europe/Berlin:20260401T100000
DTEND;TZID=Europe/Berlin:20260401T113000
DTSTAMP:20260420T234322
CREATED:20260208T200524Z
LAST-MODIFIED:20260208T200524Z
UID:116363-1775037600-1775043000@koelner-stadtteilliebe.de
SUMMARY:Mobilitätstraining 60+ der KVB
DESCRIPTION:
URL:https://koelner-stadtteilliebe.de/veranstaltungen-events/mobilitaetstraining-60-der-kvb-3/
ATTACH;FMTTYPE=image/png:https://koelner-stadtteilliebe.de/wp-content/uploads/2026/03/Hintergrund-Fruehling-2026.png
END:VEVENT
BEGIN:VEVENT
DTSTART;TZID=Europe/Berlin:20260401T100000
DTEND;TZID=Europe/Berlin:20260401T120000
DTSTAMP:20260420T234322
CREATED:20260330T075133Z
LAST-MODIFIED:20260330T075133Z
UID:120283-1775037600-1775044800@koelner-stadtteilliebe.de
SUMMARY:Fahrradverkauf im Fundbüro der Stadt Köln
DESCRIPTION:Fahrradverkauf im Fundbüro der Stadt Köln\nDas Fundbüro der Stadt Köln verkauft am Mittwoch\, 1. April 2026\, von 10 bis 12 Uhr\, im Kalk-Karree\, Ottmar-Pohl-Platz 1\, Köln-Kalk\, wieder Fahrräder. Bei allen angebotenen Zweirädern ist die gesetzliche Aufbewahrungsfrist abgelaufen. Einige Räder sind sofort fahrbereit\, andere reparaturbedürftig. Aus Brandschutzgründen dürfen keine E-Bikes angeboten werden.\n\n \n\nDie Preise für die Fahrräder liegen zwischen 20 Euro für einen in die Jahre gekommenes Rad und 800 Euro für hochwertige Rennräder. Die Räder können in bar sowie mit EC- und Kreditkarten bezahlt werden. Schecks werden nicht akzeptiert. Gewährleistung und Rücknahme sind ausgeschlossen.\n\n \n\nWer beispielsweise aufgrund einer Sehbehinderung nicht in der Lage ist\, ein Fahrrad selbst zu begutachten\, wird gebeten\, eine Begleitperson mitzubringen\, die dies übernehmen kann. Ferner empfiehlt das Fundbüro\, eine Luftpumpe dabei zu haben\, um das gekaufte Rad vor Ort startklar und transportfähig machen zu können.\n\n \n\n(Text:Stadt Köln/PI/)
URL:https://koelner-stadtteilliebe.de/veranstaltungen-events/fahrradverkauf-im-fundbuero-der-stadt-koeln/
LOCATION:Kalk-Karee\, Ottmar-Pohl-Platz 1\, Köln-Kalk
ATTACH;FMTTYPE=image/png:https://koelner-stadtteilliebe.de/wp-content/uploads/2026/03/Hintergrund-Fruehling-2026.png
END:VEVENT
BEGIN:VEVENT
DTSTART;TZID=Europe/Berlin:20260401T100000
DTEND;TZID=Europe/Berlin:20260401T150000
DTSTAMP:20260420T234322
CREATED:20260304T080915Z
LAST-MODIFIED:20260304T080915Z
UID:119165-1775037600-1775055600@koelner-stadtteilliebe.de
SUMMARY:Wandern in Zollstock
DESCRIPTION:Die Wandergruppe Zollstock lädt alle Bewegungsfreudigen herzlich zu gemeinsamen Spazier- und Wandertouren ein. In gemütlichem Tempo und mit leichtem Schwierigkeitsgrad erkunden sie abwechslungsreiche Wege und genießen die Natur in geselliger Runde. Treffpunkt ist mittwochs um 10 Uhr am Höninger Platz\, Eingang Südfriedhof (bei den Bänken). Die Wegstrecke beträgt je nach Route etwa 10 bis 14 Kilometer und die genauen Details der Tour werden jeweils gemeinsam mit den Anwesenden vor Ort abgesprochen. Die Wanderungen finden alle 14 Tage in den ungeraden Kalenderwochen des Jahres statt. Ob allein oder in Begleitung – alle\, die Freude an Bewegung und netten Gesprächen haben\, sind herzlich willkommen.
URL:https://koelner-stadtteilliebe.de/veranstaltungen-events/wandern-in-zollstock-3/
ATTACH;FMTTYPE=image/png:https://koelner-stadtteilliebe.de/wp-content/uploads/2026/03/Hintergrund-Fruehling-2026.png
END:VEVENT
BEGIN:VEVENT
DTSTART;TZID=Europe/Berlin:20260401T103000
DTEND;TZID=Europe/Berlin:20260401T120000
DTSTAMP:20260420T234322
CREATED:20260208T203911Z
LAST-MODIFIED:20260208T203911Z
UID:116485-1775039400-1775044800@koelner-stadtteilliebe.de
SUMMARY:Eltern Kind Gruppe
DESCRIPTION:
URL:https://koelner-stadtteilliebe.de/veranstaltungen-events/eltern-kind-gruppe-7/
ATTACH;FMTTYPE=image/png:https://koelner-stadtteilliebe.de/wp-content/uploads/2026/03/Hintergrund-Fruehling-2026.png
END:VEVENT
BEGIN:VEVENT
DTSTART;TZID=Europe/Berlin:20260401T143000
DTEND;TZID=Europe/Berlin:20260401T153000
DTSTAMP:20260420T234322
CREATED:20260208T202144Z
LAST-MODIFIED:20260208T202144Z
UID:116411-1775053800-1775057400@koelner-stadtteilliebe.de
SUMMARY:Digital Fit in der Villa AWO
DESCRIPTION:
URL:https://koelner-stadtteilliebe.de/veranstaltungen-events/digital-fit-in-der-villa-awo-9/
LOCATION:Villa AWO\, Walter-Rathenau-Str. 9\, Köln-Rodenkirchen\, 50996
ATTACH;FMTTYPE=image/png:https://koelner-stadtteilliebe.de/wp-content/uploads/2026/03/Hintergrund-Fruehling-2026.png
END:VEVENT
BEGIN:VEVENT
DTSTART;TZID=Europe/Berlin:20260401T143000
DTEND;TZID=Europe/Berlin:20260401T170000
DTSTAMP:20260420T234322
CREATED:20260304T082139Z
LAST-MODIFIED:20260304T082139Z
UID:119226-1775053800-1775062800@koelner-stadtteilliebe.de
SUMMARY:Die rüstigen Rentner von Weiß
DESCRIPTION:Jeden Mittwoch von 14.30 bis 17 Uhr wird es lebendig\, fröhlich und herzlich im renovierten Pfarrheim St. Georg in Weiß – denn dann ist Seniorennachmittag. In ganz entspannter Runde kommen Damen und Herren ab 60 Jahren zusammen\, um gemeinsam schöne Stunden zu verbringen\, zu lachen\, zu erzählen und einfach das Miteinander zu genießen und wer einmal da war\, kommt in der Regel auch wieder. Denn bei einer gemütlichen Tasse Kaffee\, leckerem Kuchen sowie einer kleinen Auswahl an alkoholischen und alkoholfreien Getränken – liebevoll und für „kleines Geld“ von fleißigen Helferinnen serviert – entstehen schnell gute Gespräche. Es wird geklönt\, Karten oder Gesellschaftsspiele gespielt\, auch hilft man sich gegenseitig mit kleinen Alltagstipps bzw. tauscht die neuesten „Weißer Neuigkeiten“ aus. Alles ganz ungezwungen\, ohne Verpflichtungen – so\, wie man sich wohlfühlt. Demnach ist eine Anmeldung nicht nötig\, denn es sind immer genug Plätze frei. Was toll ist\, Parkmöglichkeiten gibt es direkt vor Ort und der ÖPNV ist auch nicht weit. Ob man regelmäßig kommt oder einfach mal reinschnuppern möchte: Jede und jeder ist herzlich willkommen. Ein besonderes Highlight\, über das an diesen Nachmittagen immer wieder begeistert gesprochen wird\, sind übrigens die gemeinsamen Ausfahrten. Einmal im Monat geht es für die gutgelaunte Runde nämlich mit dem Bus „op Jöck“ – zu schönen Zielen in der näheren Umgebung\, mit einem liebevoll geplanten Rahmenprogramm. Organisiert wird das alles mit viel Herz und Engagement aus den eigenen Reihen – und genau das macht diese Seniorennachmittage so besonders. Hier steht man noch füreinander ein und macht diese Runde wirklich besonders. \n 
URL:https://koelner-stadtteilliebe.de/veranstaltungen-events/die-ruestigen-rentner-von-weiss-6/
ATTACH;FMTTYPE=image/png:https://koelner-stadtteilliebe.de/wp-content/uploads/2026/03/Hintergrund-Fruehling-2026.png
END:VEVENT
BEGIN:VEVENT
DTSTART;TZID=Europe/Berlin:20260401T150000
DTEND;TZID=Europe/Berlin:20260401T163000
DTSTAMP:20260420T234322
CREATED:20260303T193309Z
LAST-MODIFIED:20260303T193309Z
UID:118639-1775055600-1775061000@koelner-stadtteilliebe.de
SUMMARY:"Sing Dich Froh“
DESCRIPTION:„Sing Dich Froh“ im Gemeindehaus der Reformationskirche\, Mehlemer Straße 27\, 50968 Köln Zweimal im Monat trifft sich seit fast einem Jahr ein Singkreis im Gemeindehaus der Reformationskirche. Immer am ersten und dritten Mittwoch im Monat von 15 bis 16.30 Uhr\, außer der Sommerpause im August. Hier trifft man sich zum fröhlichen Singen von Schlagern\, Volks- und Kirchenliedern zur Klavier- oder Gitarrenbegleitung. Alle die Lust zum Singen haben sind herzlich willkommen. Die Veranstaltung ist kostenlos\, eine Anmeldung ist nicht erforderlich.
URL:https://koelner-stadtteilliebe.de/veranstaltungen-events/sing-dich-froh-3/
ATTACH;FMTTYPE=image/png:https://koelner-stadtteilliebe.de/wp-content/uploads/2026/03/Hintergrund-Fruehling-2026.png
END:VEVENT
BEGIN:VEVENT
DTSTART;TZID=Europe/Berlin:20260401T150000
DTEND;TZID=Europe/Berlin:20260401T170000
DTSTAMP:20260420T234322
CREATED:20260330T165717Z
LAST-MODIFIED:20260330T165717Z
UID:120337-1775055600-1775062800@koelner-stadtteilliebe.de
SUMMARY:Das SeniorenNetzwerk lädt ein zu Spielen ein
DESCRIPTION:Mittwoch\, 01.04.2026 15.00 Uhr Das SeniorenNetzwerk lädt ein zu Spielen und gemütlichem Beisammensein in die Evangel.Kirche \, Sürther Str. 34\, (Nebeneingang) Köln-Rodenkirchen bei Kaffee und Keksen\nGisela Linke und Marlies Marks freuen sich auf Euer Kommen.\nAnmeldung bei Marlies Marks 0173-313 6009 oder marl.marks@t-online.de
URL:https://koelner-stadtteilliebe.de/veranstaltungen-events/das-seniorennetzwerk-laedt-ein-zu-spielen-ein/
LOCATION:Evangelischen Kirchengemeinde Rodenkirchen\, Sürther Straße 34.\, Köln\, 50996
ATTACH;FMTTYPE=image/png:https://koelner-stadtteilliebe.de/wp-content/uploads/2026/03/Hintergrund-Fruehling-2026.png
END:VEVENT
BEGIN:VEVENT
DTSTART;TZID=Europe/Berlin:20260401T180000
DTEND;TZID=Europe/Berlin:20260401T200000
DTSTAMP:20260420T234322
CREATED:20260330T075604Z
LAST-MODIFIED:20260330T075604Z
UID:120289-1775066400-1775073600@koelner-stadtteilliebe.de
SUMMARY:Reparieren statt wegwerfen in Raderthal
DESCRIPTION:
URL:https://koelner-stadtteilliebe.de/veranstaltungen-events/reparieren-statt-wegwerfen-in-raderthal/
LOCATION:Ev. Philippus-Kirchengemeinde Köln- Raderthal\, Albert-Schweitzer-Straße 3-5\, Köln
ATTACH;FMTTYPE=image/png:https://koelner-stadtteilliebe.de/wp-content/uploads/2026/03/Hintergrund-Fruehling-2026.png
END:VEVENT
BEGIN:VEVENT
DTSTART;TZID=Europe/Berlin:20260401T190000
DTEND;TZID=Europe/Berlin:20260401T203000
DTSTAMP:20260420T234322
CREATED:20251217T160153Z
LAST-MODIFIED:20251217T160529Z
UID:111897-1775070000-1775075400@koelner-stadtteilliebe.de
SUMMARY:Gemeinsam für ein starkes Meschenich – Der Bürgerstammtisch lädt ein
DESCRIPTION:Ein lebendiger Stadtteil lebt von den Menschen\, die ihn gestalten – genau das hat sich die Interessengemeinschaft „Aktiv für Meschenich e. V.“ zur Aufgabe gemacht. In einer offenen\, herzlichen Atmosphäre treffen sich engagierte Bürgerinnen und Bürger regelmäßig zum Austausch\, zur Planung und zur gemeinsamen Vision für ein besseres Miteinander. Jeden ersten Mittwoch im Monat ab 19:00 Uhr laden sie herzlich zum Bürgerstammtisch in die Thomas Begegnungsstätte\, Raiffeisenstraße 7\,  ein. Ob alt eingesessen oder neu zugezogen – jede und jeder ist willkommen\, sich einzubringen\, Ideen zu teilen oder einfach nur zuzuhören. Hier entstehen Projekte\, wachsen Nachbarschaften zusammen und aus Gesprächen wird gemeinsames Handeln. \nMach mit\, denn Meschenich bewegt sich – und Du kannst ein Teil davon sein!
URL:https://koelner-stadtteilliebe.de/veranstaltungen-events/gemeinsam-fuer-ein-starkes-meschenich-der-buergerstammtisch-laedt-ein-9/
LOCATION:Begegnungsstätte Thomas\, Raiffeisenstr. 7\, Köln-Meschenich\, 50997
ATTACH;FMTTYPE=image/png:https://koelner-stadtteilliebe.de/wp-content/uploads/2026/03/Hintergrund-Fruehling-2026.png
END:VEVENT
BEGIN:VEVENT
DTSTART;TZID=Europe/Berlin:20260401T190000
DTEND;TZID=Europe/Berlin:20260401T230000
DTSTAMP:20260420T234322
CREATED:20260330T075848Z
LAST-MODIFIED:20260330T075848Z
UID:120295-1775070000-1775084400@koelner-stadtteilliebe.de
SUMMARY:Stammtisch "Aktiv für Meschenich e.V."
DESCRIPTION:
URL:https://koelner-stadtteilliebe.de/veranstaltungen-events/stammtisch-aktiv-fuer-meschenich-e-v/
LOCATION:Begegnungsstätte Thomas\, Raiffeisenstr. 7\, Köln-Meschenich\, 50997
ATTACH;FMTTYPE=image/png:https://koelner-stadtteilliebe.de/wp-content/uploads/2026/03/Hintergrund-Fruehling-2026.png
END:VEVENT
END:VCALENDAR