BEGIN:VCALENDAR
VERSION:2.0
PRODID:-//koelner-stadtteilliebe - ECPv6.15.20//NONSGML v1.0//EN
CALSCALE:GREGORIAN
METHOD:PUBLISH
X-WR-CALNAME:koelner-stadtteilliebe
X-ORIGINAL-URL:https://koelner-stadtteilliebe.de
X-WR-CALDESC:Veranstaltungen für koelner-stadtteilliebe
REFRESH-INTERVAL;VALUE=DURATION:PT1H
X-Robots-Tag:noindex
X-PUBLISHED-TTL:PT1H
BEGIN:VTIMEZONE
TZID:Europe/Berlin
BEGIN:DAYLIGHT
TZOFFSETFROM:+0100
TZOFFSETTO:+0200
TZNAME:CEST
DTSTART:20250330T010000
END:DAYLIGHT
BEGIN:STANDARD
TZOFFSETFROM:+0200
TZOFFSETTO:+0100
TZNAME:CET
DTSTART:20251026T010000
END:STANDARD
BEGIN:DAYLIGHT
TZOFFSETFROM:+0100
TZOFFSETTO:+0200
TZNAME:CEST
DTSTART:20260329T010000
END:DAYLIGHT
BEGIN:STANDARD
TZOFFSETFROM:+0200
TZOFFSETTO:+0100
TZNAME:CET
DTSTART:20261025T010000
END:STANDARD
BEGIN:DAYLIGHT
TZOFFSETFROM:+0100
TZOFFSETTO:+0200
TZNAME:CEST
DTSTART:20270328T010000
END:DAYLIGHT
BEGIN:STANDARD
TZOFFSETFROM:+0200
TZOFFSETTO:+0100
TZNAME:CET
DTSTART:20271031T010000
END:STANDARD
END:VTIMEZONE
BEGIN:VEVENT
DTSTART;TZID=Europe/Berlin:20260404T230000
DTEND;TZID=Europe/Berlin:20260404T235500
DTSTAMP:20260422T110112
CREATED:20260313T181841Z
LAST-MODIFIED:20260313T181936Z
UID:119787-1775343600-1775346900@koelner-stadtteilliebe.de
SUMMARY:Karsamstag - Osternachtfeier mit Taufgedächtnis Kantor Samuel Dobernecker singt das „Exsultet“
DESCRIPTION:Karsamstag – Osternachtfeier mit Taufgedächtnis\nKantor Samuel Dobernecker singt das „Exsultet“\nIn der Osternacht\, am Samstag\, 4. April\, 23 Uhr\, erklingt in der Reformationskirche der Evangelischen Kirchengemeinde Köln-Bayenthal\, Mehlemer Straße 29\, das „Exsultet“. Kantor Samuel Dobernecker singt den festlichen liturgischen Gesang\, der seine Ursprünge in der Spätantike hat und in der Struktur eines Hochgebets das Geheimnis der Osternacht besingt.\nwww.kirche-bayenthal.de
URL:https://koelner-stadtteilliebe.de/veranstaltungen-events/karsamstag-osternachtfeier-mit-taufgedaechtnis-kantor-samuel-dobernecker-singt-das-exsultet/
ATTACH;FMTTYPE=image/png:https://koelner-stadtteilliebe.de/wp-content/uploads/2026/03/Hintergrund-Fruehling-2026.png
END:VEVENT
END:VCALENDAR