BEGIN:VCALENDAR
VERSION:2.0
PRODID:-//koelner-stadtteilliebe - ECPv6.15.20//NONSGML v1.0//EN
CALSCALE:GREGORIAN
METHOD:PUBLISH
X-WR-CALNAME:koelner-stadtteilliebe
X-ORIGINAL-URL:https://koelner-stadtteilliebe.de
X-WR-CALDESC:Veranstaltungen für koelner-stadtteilliebe
REFRESH-INTERVAL;VALUE=DURATION:PT1H
X-Robots-Tag:noindex
X-PUBLISHED-TTL:PT1H
BEGIN:VTIMEZONE
TZID:Europe/Berlin
BEGIN:DAYLIGHT
TZOFFSETFROM:+0100
TZOFFSETTO:+0200
TZNAME:CEST
DTSTART:20250330T010000
END:DAYLIGHT
BEGIN:STANDARD
TZOFFSETFROM:+0200
TZOFFSETTO:+0100
TZNAME:CET
DTSTART:20251026T010000
END:STANDARD
BEGIN:DAYLIGHT
TZOFFSETFROM:+0100
TZOFFSETTO:+0200
TZNAME:CEST
DTSTART:20260329T010000
END:DAYLIGHT
BEGIN:STANDARD
TZOFFSETFROM:+0200
TZOFFSETTO:+0100
TZNAME:CET
DTSTART:20261025T010000
END:STANDARD
BEGIN:DAYLIGHT
TZOFFSETFROM:+0100
TZOFFSETTO:+0200
TZNAME:CEST
DTSTART:20270328T010000
END:DAYLIGHT
BEGIN:STANDARD
TZOFFSETFROM:+0200
TZOFFSETTO:+0100
TZNAME:CET
DTSTART:20271031T010000
END:STANDARD
END:VTIMEZONE
BEGIN:VEVENT
DTSTART;VALUE=DATE:20260405
DTEND;VALUE=DATE:20260407
DTSTAMP:20260424T191429
CREATED:20260301T080913Z
LAST-MODIFIED:20260301T080913Z
UID:117382-1775347200-1775519999@koelner-stadtteilliebe.de
SUMMARY:WELCOME BACK HOME!
DESCRIPTION:WELCOME BACK HOME! \nBesucher\, Sammler und Designliebhaber dürfen sich freuen: Der beliebte 50er–70er Markt und das große Oldtimertreffen kehren zurück in den wunderschönen Rheinauhafen in Köln. Am 5./6. April sowie am 24./25. Mai heißt es wieder stöbern\, staunen und genießen – zwischen Vintage-Schätzen\, chromblitzenden Klassikern und einzigartiger Hafenatmosphäre.
URL:https://koelner-stadtteilliebe.de/veranstaltungen-events/welcome-back-home/
ATTACH;FMTTYPE=image/png:https://koelner-stadtteilliebe.de/wp-content/uploads/2026/03/Hintergrund-Fruehling-2026.png
END:VEVENT
BEGIN:VEVENT
DTSTART;TZID=Europe/Berlin:20260406T100000
DTEND;TZID=Europe/Berlin:20260406T120000
DTSTAMP:20260424T191429
CREATED:20260303T192552Z
LAST-MODIFIED:20260303T192552Z
UID:118618-1775469600-1775476800@koelner-stadtteilliebe.de
SUMMARY:Politischer Gesprächskreis
DESCRIPTION:In überschaubarer Runde aktuelle Alltags- und politische Themen diskutieren\, Meinungen austauschen und neue Erkenntnisse gewinnen.\nOrt: Bonner Str. 288c\, AWO-Raum (im Untergeschoß)\nTermin: jeden 1. Montag im Monat\, 10.00 – 12.00 Uhr.\nDie Teilnahme ist kostenlos. Anmeldung ist notwendig.\nAnsprechpartnerin ist Frau Gobelius\, TEl.: 0221- 16 85 00 10.
URL:https://koelner-stadtteilliebe.de/veranstaltungen-events/politischer-gespraechskreis-2/
ATTACH;FMTTYPE=image/png:https://koelner-stadtteilliebe.de/wp-content/uploads/2026/03/Hintergrund-Fruehling-2026.png
END:VEVENT
BEGIN:VEVENT
DTSTART;TZID=Europe/Berlin:20260406T153000
DTEND;TZID=Europe/Berlin:20260406T180000
DTSTAMP:20260424T191429
CREATED:20260302T093447Z
LAST-MODIFIED:20260302T093447Z
UID:118365-1775489400-1775498400@koelner-stadtteilliebe.de
SUMMARY:Monatslesung für Kinder
DESCRIPTION:Habt ihr Lust\, in spannende Geschichten einzutauchen\, große Abenteuer zu erleben und neuen\, fantastischen Figuren zu begegnen? Dann seid ihr beim Vorlesemontag genau richtig! Im SPÖKES Kinder- und Jugendhaus in Zollstock wird nämlich in gemütlicher Atmosphäre spannenden\, lustigen\, manchmal ein bisschen gruseligen und immer abenteuerlichen Geschichten gelauscht und seiner Fantasie freier Lauf gelassen. Jede Woche warten neue Überraschungen und neue Welten darauf\, entdeckt zu werden – versteckt zwischen zwei Buchdeckeln. Los geht es von 15:30 bis 16 Uhr mit liebevoll ausgewählten Geschichten für Kinder im Kindergartenalter. Im Anschluss\, von 16 bis 16:45 Uhr\, tauchen Grundschulkinder in spannende und abenteuerliche Erzählungen ein. Und für alle größeren Zuhörerinnen und Zuhörer wird es von 17 bis 18 Uhr magisch\, wenn aus Harry Potter vorgelesen wird. Kommt vorbei\, macht es euch gemütlich und erlebt gemeinsam\, wie schön Vorlesen sein kann.
URL:https://koelner-stadtteilliebe.de/veranstaltungen-events/monatslesung-fuer-kinder-6/
ATTACH;FMTTYPE=image/png:https://koelner-stadtteilliebe.de/wp-content/uploads/2026/03/Hintergrund-Fruehling-2026.png
END:VEVENT
BEGIN:VEVENT
DTSTART;TZID=Europe/Berlin:20260406T163000
DTEND;TZID=Europe/Berlin:20260406T180000
DTSTAMP:20260424T191429
CREATED:20260303T192917Z
LAST-MODIFIED:20260303T192917Z
UID:118627-1775493000-1775498400@koelner-stadtteilliebe.de
SUMMARY:"Wer erklärt mir mein Handy?"
DESCRIPTION:Ein Gemeinschaftsprojekt der SeniorenNetzwerke Raderberg und Bayenthal\nSchülerinnen und Schüler helfen Seniorinnen und Senioren bei allen Fragen zum Handy\, Tablet und Smartphone. Mit Geduld\, Kompetenz und Spaß erklären Ihnen Jugendliche\, wie man den digitalen Impfpass nutzen kann\, Bilder per WhatsApp verschickt\, mit Videote-lefonie per Skype und Zoom umgeht oder einfach die ersten Schritte mit dem neuen Smartphone lernt. Wir treffen uns jeden ersten Montag im Monat von 16.30 – 18.00 Uhr in Raderberg\, Rheinsteinstraße 4. Dann steht nur für Sie eine halbe Stunde lang ein Jugend-licher bereit\, Ihre Fragen zu beantworten.\nWenn Sie Interesse an der Veranstaltung haben wenden Sie sich bitte an Frau Wagner\, Tel-0163 16 13 565. Die Teilnahme ist kostenlos\, eine Anmeldung ist notwendig und wenn ein Termin nicht reicht – dann kommen Sie eben noch einmal.
URL:https://koelner-stadtteilliebe.de/veranstaltungen-events/wer-erklaert-mir-mein-handy-2/
ATTACH;FMTTYPE=image/png:https://koelner-stadtteilliebe.de/wp-content/uploads/2026/03/Hintergrund-Fruehling-2026.png
END:VEVENT
END:VCALENDAR