BEGIN:VCALENDAR
VERSION:2.0
PRODID:-//koelner-stadtteilliebe - ECPv6.15.20//NONSGML v1.0//EN
CALSCALE:GREGORIAN
METHOD:PUBLISH
X-WR-CALNAME:koelner-stadtteilliebe
X-ORIGINAL-URL:https://koelner-stadtteilliebe.de
X-WR-CALDESC:Veranstaltungen für koelner-stadtteilliebe
REFRESH-INTERVAL;VALUE=DURATION:PT1H
X-Robots-Tag:noindex
X-PUBLISHED-TTL:PT1H
BEGIN:VTIMEZONE
TZID:Europe/Berlin
BEGIN:DAYLIGHT
TZOFFSETFROM:+0100
TZOFFSETTO:+0200
TZNAME:CEST
DTSTART:20250330T010000
END:DAYLIGHT
BEGIN:STANDARD
TZOFFSETFROM:+0200
TZOFFSETTO:+0100
TZNAME:CET
DTSTART:20251026T010000
END:STANDARD
BEGIN:DAYLIGHT
TZOFFSETFROM:+0100
TZOFFSETTO:+0200
TZNAME:CEST
DTSTART:20260329T010000
END:DAYLIGHT
BEGIN:STANDARD
TZOFFSETFROM:+0200
TZOFFSETTO:+0100
TZNAME:CET
DTSTART:20261025T010000
END:STANDARD
BEGIN:DAYLIGHT
TZOFFSETFROM:+0100
TZOFFSETTO:+0200
TZNAME:CEST
DTSTART:20270328T010000
END:DAYLIGHT
BEGIN:STANDARD
TZOFFSETFROM:+0200
TZOFFSETTO:+0100
TZNAME:CET
DTSTART:20271031T010000
END:STANDARD
END:VTIMEZONE
BEGIN:VEVENT
DTSTART;VALUE=DATE:20260411
DTEND;VALUE=DATE:20260427
DTSTAMP:20260421T120714
CREATED:20260407T100349Z
LAST-MODIFIED:20260407T100349Z
UID:120661-1775865600-1777247999@koelner-stadtteilliebe.de
SUMMARY:Zirkus Charles Monroe
DESCRIPTION:
URL:https://koelner-stadtteilliebe.de/veranstaltungen-events/zirkus-charles-monroe/
LOCATION:Mathiaskirchplatz\, Köln\, 50968
ATTACH;FMTTYPE=image/png:https://koelner-stadtteilliebe.de/wp-content/uploads/2026/03/Hintergrund-Fruehling-2026.png
END:VEVENT
BEGIN:VEVENT
DTSTART;TZID=Europe/Berlin:20260411T150000
DTEND;TZID=Europe/Berlin:20260421T180000
DTSTAMP:20260421T120714
CREATED:20260323T154018Z
LAST-MODIFIED:20260323T154018Z
UID:120095-1775919600-1776794400@koelner-stadtteilliebe.de
SUMMARY:Schwarzweiß 9 in der Galerie k49
DESCRIPTION:
URL:https://koelner-stadtteilliebe.de/veranstaltungen-events/schwarzweiss-9-in-der-galerie-k49/
LOCATION:K49 Raum für Kreative\, Goldsteinstraße 49\, Köln\, 50968
ATTACH;FMTTYPE=image/png:https://koelner-stadtteilliebe.de/wp-content/uploads/2026/03/Hintergrund-Fruehling-2026.png
END:VEVENT
BEGIN:VEVENT
DTSTART;TZID=Europe/Berlin:20260421T093000
DTEND;TZID=Europe/Berlin:20260421T110000
DTSTAMP:20260421T120714
CREATED:20251110T125219Z
LAST-MODIFIED:20251110T125219Z
UID:109551-1776763800-1776769200@koelner-stadtteilliebe.de
SUMMARY:Stadtteilfrühstück für Senioren und Seniorinnen in Sürth
DESCRIPTION:
URL:https://koelner-stadtteilliebe.de/veranstaltungen-events/stadtteilfruehstueck-fuer-senioren-und-seniorinnen-in-suerth-8/
LOCATION:Pfarrheim St. Remigius\, Sürther Hauptstr. 130a\, Köln-Sürth\, 50999
ATTACH;FMTTYPE=image/png:https://koelner-stadtteilliebe.de/wp-content/uploads/2026/03/Hintergrund-Fruehling-2026.png
END:VEVENT
BEGIN:VEVENT
DTSTART;TZID=Europe/Berlin:20260421T110000
DTEND;TZID=Europe/Berlin:20260421T123000
DTSTAMP:20260421T120714
CREATED:20260212T083404Z
LAST-MODIFIED:20260212T083404Z
UID:116720-1776769200-1776774600@koelner-stadtteilliebe.de
SUMMARY:Sturzprophylaxe in der Villa AWO
DESCRIPTION:
URL:https://koelner-stadtteilliebe.de/veranstaltungen-events/sturzprophylaxe-in-der-villa-awo-9/
LOCATION:Villa AWO\, Walter-Rathenau-Str. 9\, Köln-Rodenkirchen\, 50996
ATTACH;FMTTYPE=image/png:https://koelner-stadtteilliebe.de/wp-content/uploads/2026/03/Hintergrund-Fruehling-2026.png
END:VEVENT
BEGIN:VEVENT
DTSTART;TZID=Europe/Berlin:20260421T150000
DTEND;TZID=Europe/Berlin:20260421T170000
DTSTAMP:20260421T120714
CREATED:20260304T063334Z
LAST-MODIFIED:20260304T063334Z
UID:118817-1776783600-1776790800@koelner-stadtteilliebe.de
SUMMARY:Wo der König\, der Bauer und der Läufer am Zuge ist
DESCRIPTION:Wo der König\, der Bauer und der Läufer am Zuge ist \nDer Schachclub im Bürgerhaus Zollstock lädt alle Schachbegeisterten herzlich ein\, gemeinsam die Freude am königlichen Spiel zu teilen. Jeden Dienstag um 15 Uhr treffen sich Anfänger ebenso wie erfahrene Spieler\, um in entspannter Atmosphäre Schach zuspielen\, zu lernen und sich auszutauschen. Ob eine spannende Partie\, ein freundschaftliches Duell oder einfach das gemeinsame Nachdenken über kluge Züge – der Schachclub bietet Raum für Begegnung\, Konzentration und Spaß. Einfach vorbeikommen und mitspielen – alle sind willkommen! \n 
URL:https://koelner-stadtteilliebe.de/veranstaltungen-events/wo-der-koenig-der-bauer-und-der-laeufer-am-zuge-ist-7/
LOCATION:Zollstocker Bürgerhaus\, Rosezweigweg 1\, Köln\, 50969
ATTACH;FMTTYPE=image/png:https://koelner-stadtteilliebe.de/wp-content/uploads/2026/03/Hintergrund-Fruehling-2026.png
END:VEVENT
END:VCALENDAR