BEGIN:VCALENDAR
VERSION:2.0
PRODID:-//koelner-stadtteilliebe - ECPv6.15.20//NONSGML v1.0//EN
CALSCALE:GREGORIAN
METHOD:PUBLISH
X-WR-CALNAME:koelner-stadtteilliebe
X-ORIGINAL-URL:https://koelner-stadtteilliebe.de
X-WR-CALDESC:Veranstaltungen für koelner-stadtteilliebe
REFRESH-INTERVAL;VALUE=DURATION:PT1H
X-Robots-Tag:noindex
X-PUBLISHED-TTL:PT1H
BEGIN:VTIMEZONE
TZID:Europe/Berlin
BEGIN:DAYLIGHT
TZOFFSETFROM:+0100
TZOFFSETTO:+0200
TZNAME:CEST
DTSTART:20250330T010000
END:DAYLIGHT
BEGIN:STANDARD
TZOFFSETFROM:+0200
TZOFFSETTO:+0100
TZNAME:CET
DTSTART:20251026T010000
END:STANDARD
BEGIN:DAYLIGHT
TZOFFSETFROM:+0100
TZOFFSETTO:+0200
TZNAME:CEST
DTSTART:20260329T010000
END:DAYLIGHT
BEGIN:STANDARD
TZOFFSETFROM:+0200
TZOFFSETTO:+0100
TZNAME:CET
DTSTART:20261025T010000
END:STANDARD
BEGIN:DAYLIGHT
TZOFFSETFROM:+0100
TZOFFSETTO:+0200
TZNAME:CEST
DTSTART:20270328T010000
END:DAYLIGHT
BEGIN:STANDARD
TZOFFSETFROM:+0200
TZOFFSETTO:+0100
TZNAME:CET
DTSTART:20271031T010000
END:STANDARD
END:VTIMEZONE
BEGIN:VEVENT
DTSTART;VALUE=DATE:20260411
DTEND;VALUE=DATE:20260427
DTSTAMP:20260424T140455
CREATED:20260407T100349Z
LAST-MODIFIED:20260407T100349Z
UID:120661-1775865600-1777247999@koelner-stadtteilliebe.de
SUMMARY:Zirkus Charles Monroe
DESCRIPTION:
URL:https://koelner-stadtteilliebe.de/veranstaltungen-events/zirkus-charles-monroe/
LOCATION:Mathiaskirchplatz\, Köln\, 50968
ATTACH;FMTTYPE=image/png:https://koelner-stadtteilliebe.de/wp-content/uploads/2026/03/Hintergrund-Fruehling-2026.png
END:VEVENT
BEGIN:VEVENT
DTSTART;VALUE=DATE:20260424
DTEND;VALUE=DATE:20260510
DTSTAMP:20260424T140455
CREATED:20260405T135537Z
LAST-MODIFIED:20260406T135606Z
UID:120604-1776988800-1778371199@koelner-stadtteilliebe.de
SUMMARY:Kunstmeile 2026
DESCRIPTION:
URL:https://koelner-stadtteilliebe.de/veranstaltungen-events/kunstmeile-2026/
LOCATION:Maternusplatz Rodenkirchen
ATTACH;FMTTYPE=image/png:https://koelner-stadtteilliebe.de/wp-content/uploads/2026/03/Hintergrund-Fruehling-2026.png
END:VEVENT
BEGIN:VEVENT
DTSTART;TZID=Europe/Berlin:20260425T100000
DTEND;TZID=Europe/Berlin:20260425T120000
DTSTAMP:20260424T140455
CREATED:20260319T182721Z
LAST-MODIFIED:20260319T182721Z
UID:120038-1777111200-1777118400@koelner-stadtteilliebe.de
SUMMARY:Natur erleben am Weißen Rheinbogen – geführte Wanderung durch Kölns Auenwald
DESCRIPTION:Am Samstag\, den 25. April 2026\, lädt die städtische Forstverwaltung zu einer spannenden Wanderung durch die Auenlandschaft am Rhein ein. Start ist um 10 Uhr. Gemeinsam mit Dennis Remiger entdecken die Teilnehmenden eines der größten Auenwaldgebiete Kölns und erfahren dabei Wissenswertes über diesen besonderen Naturraum. \n\nAuenwälder erfüllen wichtige Aufgaben: Sie wirken als natürlicher Hochwasserschutz\, tragen zur Sicherung unseres Trinkwassers bei und bieten zahlreichen Tier- und Pflanzenarten einen wertvollen Lebensraum. \n\nDie Teilnahme an der Wanderung ist kostenfrei\, jedoch ist eine Anmeldung bis zum 24. April 2026 erforderlich. Diese kann per E-Mail oder telefonisch unter 0221 / 352575 erfolgen. Da die Teilnehmerzahl begrenzt ist\, empfiehlt sich eine frühzeitige Anmeldung. \n\nTreffpunkt ist der Parkplatz am Minigolfplatz an der Uferstraße in Köln-Rodenkirchen. Die Anreise ist auch bequem mit der Buslinie 135 bis zur Haltestelle Rodenkirchen Uferstraße möglich. \n\nAnmeldungen per E-Mail bitte an: forstrevier-rodenkirchen@stadt-koeln.de
URL:https://koelner-stadtteilliebe.de/veranstaltungen-events/natur-erleben-am-weissen-rheinbogen-gefuehrte-wanderung-durch-koelns-auenwald/
ATTACH;FMTTYPE=image/png:https://koelner-stadtteilliebe.de/wp-content/uploads/2026/03/Hintergrund-Fruehling-2026.png
END:VEVENT
BEGIN:VEVENT
DTSTART;TZID=Europe/Berlin:20260425T110000
DTEND;TZID=Europe/Berlin:20260425T160000
DTSTAMP:20260424T140455
CREATED:20260226T120651Z
LAST-MODIFIED:20260226T120651Z
UID:117229-1777114800-1777132800@koelner-stadtteilliebe.de
SUMMARY:Tag der offenen Tür in der Kita MorgenLand
DESCRIPTION:
URL:https://koelner-stadtteilliebe.de/veranstaltungen-events/tag-der-offenen-tuer-in-der-kita-morgenland/
LOCATION:Kita Morgenland e.V.\, Sürther Str. 200\, Köln\, 50996
ATTACH;FMTTYPE=image/png:https://koelner-stadtteilliebe.de/wp-content/uploads/2026/03/Hintergrund-Fruehling-2026.png
END:VEVENT
BEGIN:VEVENT
DTSTART;TZID=Europe/Berlin:20260425T120000
DTEND;TZID=Europe/Berlin:20260425T210000
DTSTAMP:20260424T140455
CREATED:20260421T123829Z
LAST-MODIFIED:20260421T124025Z
UID:121268-1777118400-1777150800@koelner-stadtteilliebe.de
SUMMARY:Familientag & pop Ups
DESCRIPTION:
URL:https://koelner-stadtteilliebe.de/veranstaltungen-events/familientag-pop-ups-2/
ATTACH;FMTTYPE=image/png:https://koelner-stadtteilliebe.de/wp-content/uploads/2026/03/Hintergrund-Fruehling-2026.png
END:VEVENT
BEGIN:VEVENT
DTSTART;TZID=Europe/Berlin:20260425T140000
DTEND;TZID=Europe/Berlin:20260425T153000
DTSTAMP:20260424T140455
CREATED:20260410T140851Z
LAST-MODIFIED:20260410T140851Z
UID:120716-1777125600-1777131000@koelner-stadtteilliebe.de
SUMMARY:Michaelshoven sein Runddorf\, der Park und die Kirche: Parkführung
DESCRIPTION:Im Jahr 1955 begann in Rodenkirchen der Aufbau des Diakoniedorfs Michaelshoven. Es war außergewöhnlich\, modern und anders\, denn die Anlage zeichnet sich durch ihre klar strukturierten Häuser aus\, die kreisförmig angeordnet sind und so den Charakter eines Runddorfs schaffen. Eingebettet ist das Wohnkonzept in einen weitläufigen\, idyllischen Park\, aus Bäumen\, Sträuchern und Blumen. Selbst eine Pferdekoppel gibt es. Das Vorbild war übrigens einmal ein englischer Landschaftsgarten\, was seiner natürlichen Gestaltung eine besondere Atmosphäre vermittelt. Die Erzengel-Michael-Kirche\, die ebenfalls dazugehört und 1964 eingeweiht wurde\, ist ein architektonisches außergewöhnliches Erscheinungsbild. Die skandinavische Stabkirche ist besonders markant und erinnert mit seinen Formen an ein großes Zelt. So bildet die Kirche das Herzstück der größtenteils denkmalgeschützten Anlage und ist ein eindrucksvolles Beispiel für die Verbindung von moderner und traditioneller Baukunst.Carlos Stemmerich hat dazu eine tolle und sehr interessante sowie informative Parkführung zusammengestellt. Am 25. April um 14 Uhr findet diese statt und es lohnt sich dabei zu sein. Zudem ist die Veranstaltung barrierearm gestaltet\, sodass möglichst viele Interessierte daran teilnehmen können.Der Treffpunkt ist die Zentrale der Diakonie in Michaelshoven in der Pfarrer-te-Reh-Straße 1\, wozu es ebenfalls viel zu sagen gibt. Die Teilnahme ist übrigens kostenfrei und eine Anmeldung ist nicht erforderlich.
URL:https://koelner-stadtteilliebe.de/veranstaltungen-events/michaelshoven-sein-runddorf-der-park-und-die-kirche-parkfuehrung/
LOCATION:Diakonie Michaelshoven\, Sürther Str. 169\, Köln-Michaelshoven\, 50999
ATTACH;FMTTYPE=image/png:https://koelner-stadtteilliebe.de/wp-content/uploads/2026/03/Hintergrund-Fruehling-2026.png
END:VEVENT
BEGIN:VEVENT
DTSTART;TZID=Europe/Berlin:20260425T160000
DTEND;TZID=Europe/Berlin:20260425T173000
DTSTAMP:20260424T140455
CREATED:20260417T060956Z
LAST-MODIFIED:20260417T060956Z
UID:120924-1777132800-1777138200@koelner-stadtteilliebe.de
SUMMARY:Konzert  Bernstein Trio
DESCRIPTION:Samstag\, 25. April 2025 – Konzert\n\nBernstein Trio\n\nKonzert | 25.04.2025 | 16 Uhr\n\nin der Kultur-Kirche Rondorf \n\n– Architekturbüro LINK – \n\nRondorfer Hauptstraße 45 \n\n50997 Köln-Rondorf \n\n\nDas Bernstein Trio gründete sich 2022 und besteht aus Roman Tulchynsky (Violine)\, Marei Schibilsky (Cello) und Julia Stephan (Klavier). Die MusikerInnen studieren an der Universität der Künste Berlin beziehungsweise der Hochschule für Musik Hanns Eisler Berlin. Als Ensemble erhalten sie Unterricht bei Prof. Jonathan Aner.\n\n\n\nPreise (Auswahl): 1. Preis beim Felix Mendelssohn Bartholdy Hochschulwettbewerb 2025\, Sonderpreis für die Auftragskomposition und den Sonderpreis der Freunde junger Musiker // 1. Platz Schumann-Kammermusikpreis 2025 in Frankfurt und Sonderpreis der Robert-Schumann-Gesellschaft // 3. Preis im Februar 2025 beim internationalen Kammermusikwettbewerb „Schubert und die Musik der Moderne“ 2025.\n\n\n\nBeim Deutschen Musikwettbewerb 2024 wurde das Trio gepaart mit einem Stipendium in die Konzertförderung Deutscher Musikwettbewerb aufgenommen und mit einem Sonderpreis der Freunde junger Musiker Meerbusch Düsseldorf e.V. ausgezeichnet.\n\n\n\nMehr über das Bernstein Trio und ihr Programm im Flyer\n\n\n\nEINTRITT: FREI. (SPENDE ERBETEN FÜR DIE KONZERTIERENDEN).
URL:https://koelner-stadtteilliebe.de/veranstaltungen-events/konzert-bernstein-trio/
LOCATION:Link Architekten\, Rondorfer Hauptstr. 45\, Köln\, 50997
ATTACH;FMTTYPE=image/png:https://koelner-stadtteilliebe.de/wp-content/uploads/2026/03/Hintergrund-Fruehling-2026.png
END:VEVENT
BEGIN:VEVENT
DTSTART;TZID=Europe/Berlin:20260425T170000
DTEND;TZID=Europe/Berlin:20260425T210000
DTSTAMP:20260424T140455
CREATED:20260403T064239Z
LAST-MODIFIED:20260403T064239Z
UID:120524-1777136400-1777150800@koelner-stadtteilliebe.de
SUMMARY:Maibaum-Aktion auf dem Maternusplatz in Rodenkirchen
DESCRIPTION:Maibaum-Aktion auf dem Maternusplatz in Rodenkirchen\nAuch in diesem Jahr organisiert der Zusammenschluss #NurZesamme\, wieder mit 25 Vereinen aus dem Kölner Süden\, die traditionelle Maibaum-Aktion auf dem Maternusplatz in Rodenkirchen.\n\n\n\nWann? Samstag\, 25. April\nUhrzeit? Ab 17 Uhr\n\n\n\nAlle Besucherinnen und Besucher sind herzlich willkommen. Kommt vorbei und erlebt einen schönen Abend voller Gemeinschaft und Tradition.\n\n\n\nWichtig: Bitte folgt bei der Aufstellung des Maibaums unbedingt den Sicherheitsanweisungen.\n\n 
URL:https://koelner-stadtteilliebe.de/veranstaltungen-events/maibaum-aktion-auf-dem-maternusplatz-in-rodenkirchen/
LOCATION:Maternusplatz Rodenkirchen
ATTACH;FMTTYPE=image/png:https://koelner-stadtteilliebe.de/wp-content/uploads/2026/03/Hintergrund-Fruehling-2026.png
END:VEVENT
BEGIN:VEVENT
DTSTART;TZID=Europe/Berlin:20260425T200000
DTEND;TZID=Europe/Berlin:20260425T220000
DTSTAMP:20260424T140455
CREATED:20260311T085832Z
LAST-MODIFIED:20260311T100358Z
UID:119619-1777147200-1777154400@koelner-stadtteilliebe.de
SUMMARY:Melvin Haack – Das letzte Einhirn Kabarett
DESCRIPTION:THEATER 509 – BÜRGERHAUS STOLLWERCK und die Veranstaltungen für April 2026 \nBürgerhaus Stollwerck\nDreikönigenstr. 23\n50678 Köln \nAlle hier Veranstaltungen für April 2026 \nKarten sind über die Internetseite des Theaters zu bekommen- Siehe Zur Theaterkasse  \nSa\, 25.04.2026 – 20.00 Uhr\nMelvin Haack – Das letzte Einhirn\nKabarett\nHits * Emotionen * Verbalgalopp\nMelvin ist ein Feinschmecker der gesungenen Buchstabensuppe. Nimmt die Klampfe und haut rein: Ein verbrannter Toast genügt\, um die Weltformel zu servieren.\nSalto Wortale\, Ablachen & Gefühle zur Gitarre. Ein rasanter Galopp durch die Wortfelder zwischen Amrum und Australien\, ein bisschen Glitzer in einer Wolke aus Kohlenstoff. Dieses\nProgramm ist für ein junges\, smartes Publikum geeignet; pensionierte Lehrer*Innen sind willkommen.\nMelvin ist Teil des Berliner Kulttrios „Schnaps im Silbersee”\, Mitglied der Berliner Liederbühne „Lied & Greet” und Nichtgewinner des Bielefelder Kabarettpreises.\n„Eine Pointenmaschine in einer Sahnetorte!”\n– Edith Jeske\n„Weltgrößter Spezialist für Euphorie und Wahnsinn”\n– Alex Huth (MDR)\n„Er sieht gut aus\, aber man darf ihm kein Wort glauben!“\n– Peggy Luck\n„Wir haben soooo gelacht\, wie gut das tat\, können Sie sich nicht von der Krankenkasse verschreiben lassen?”\n– eine Omi\nhttp://www.melvinhaack.de/ \n 
URL:https://koelner-stadtteilliebe.de/veranstaltungen-events/melvin-haack-das-letzte-einhirn-kabarett/
LOCATION:Bürgerhaus Stollwerck\, Dreikönigenstr. 23\, Köln\, 50678
ATTACH;FMTTYPE=image/png:https://koelner-stadtteilliebe.de/wp-content/uploads/2026/03/Hintergrund-Fruehling-2026.png
END:VEVENT
END:VCALENDAR