BEGIN:VCALENDAR
VERSION:2.0
PRODID:-//koelner-stadtteilliebe - ECPv6.15.20//NONSGML v1.0//EN
CALSCALE:GREGORIAN
METHOD:PUBLISH
X-WR-CALNAME:koelner-stadtteilliebe
X-ORIGINAL-URL:https://koelner-stadtteilliebe.de
X-WR-CALDESC:Veranstaltungen für koelner-stadtteilliebe
REFRESH-INTERVAL;VALUE=DURATION:PT1H
X-Robots-Tag:noindex
X-PUBLISHED-TTL:PT1H
BEGIN:VTIMEZONE
TZID:Europe/Berlin
BEGIN:DAYLIGHT
TZOFFSETFROM:+0100
TZOFFSETTO:+0200
TZNAME:CEST
DTSTART:20250330T010000
END:DAYLIGHT
BEGIN:STANDARD
TZOFFSETFROM:+0200
TZOFFSETTO:+0100
TZNAME:CET
DTSTART:20251026T010000
END:STANDARD
BEGIN:DAYLIGHT
TZOFFSETFROM:+0100
TZOFFSETTO:+0200
TZNAME:CEST
DTSTART:20260329T010000
END:DAYLIGHT
BEGIN:STANDARD
TZOFFSETFROM:+0200
TZOFFSETTO:+0100
TZNAME:CET
DTSTART:20261025T010000
END:STANDARD
BEGIN:DAYLIGHT
TZOFFSETFROM:+0100
TZOFFSETTO:+0200
TZNAME:CEST
DTSTART:20270328T010000
END:DAYLIGHT
BEGIN:STANDARD
TZOFFSETFROM:+0200
TZOFFSETTO:+0100
TZNAME:CET
DTSTART:20271031T010000
END:STANDARD
END:VTIMEZONE
BEGIN:VEVENT
DTSTART;VALUE=DATE:20260411
DTEND;VALUE=DATE:20260427
DTSTAMP:20260422T110714
CREATED:20260407T100349Z
LAST-MODIFIED:20260407T100349Z
UID:120661-1775865600-1777247999@koelner-stadtteilliebe.de
SUMMARY:Zirkus Charles Monroe
DESCRIPTION:
URL:https://koelner-stadtteilliebe.de/veranstaltungen-events/zirkus-charles-monroe/
LOCATION:Mathiaskirchplatz\, Köln\, 50968
ATTACH;FMTTYPE=image/png:https://koelner-stadtteilliebe.de/wp-content/uploads/2026/03/Hintergrund-Fruehling-2026.png
END:VEVENT
BEGIN:VEVENT
DTSTART;VALUE=DATE:20260424
DTEND;VALUE=DATE:20260510
DTSTAMP:20260422T110715
CREATED:20260405T135537Z
LAST-MODIFIED:20260406T135606Z
UID:120604-1776988800-1778371199@koelner-stadtteilliebe.de
SUMMARY:Kunstmeile 2026
DESCRIPTION:
URL:https://koelner-stadtteilliebe.de/veranstaltungen-events/kunstmeile-2026/
LOCATION:Maternusplatz Rodenkirchen
ATTACH;FMTTYPE=image/png:https://koelner-stadtteilliebe.de/wp-content/uploads/2026/03/Hintergrund-Fruehling-2026.png
END:VEVENT
BEGIN:VEVENT
DTSTART;TZID=Europe/Berlin:20260426T100000
DTEND;TZID=Europe/Berlin:20260426T140000
DTSTAMP:20260422T110715
CREATED:20260308T070805Z
LAST-MODIFIED:20260308T070805Z
UID:119400-1777197600-1777212000@koelner-stadtteilliebe.de
SUMMARY:Flohmarkt in der EMAnuel Schule
DESCRIPTION:
URL:https://koelner-stadtteilliebe.de/veranstaltungen-events/flohmarkt-in-der-emanuel-schule/
LOCATION:EMAnuel-Schule\, Sürther Str. 201\, Köln\, 50999
ATTACH;FMTTYPE=image/png:https://koelner-stadtteilliebe.de/wp-content/uploads/2026/03/Hintergrund-Fruehling-2026.png
END:VEVENT
BEGIN:VEVENT
DTSTART;TZID=Europe/Berlin:20260426T100000
DTEND;TZID=Europe/Berlin:20260426T140000
DTSTAMP:20260422T110715
CREATED:20260331T052718Z
LAST-MODIFIED:20260331T052718Z
UID:120366-1777197600-1777212000@koelner-stadtteilliebe.de
SUMMARY:Familien Flohmarkrt Kita Feldhamsterstraße
DESCRIPTION:
URL:https://koelner-stadtteilliebe.de/veranstaltungen-events/familien-flohmarkrt-kita-feldhamsterstrasse/
LOCATION:Kita Feldhamsterstraße\, Feldhamsterstr. 65\, Köln- Sürtherfeld\, 50999
ATTACH;FMTTYPE=image/png:https://koelner-stadtteilliebe.de/wp-content/uploads/2026/03/Hintergrund-Fruehling-2026.png
END:VEVENT
BEGIN:VEVENT
DTSTART;TZID=Europe/Berlin:20260426T100000
DTEND;TZID=Europe/Berlin:20260426T140000
DTSTAMP:20260422T110715
CREATED:20260403T064014Z
LAST-MODIFIED:20260403T064014Z
UID:120518-1777197600-1777212000@koelner-stadtteilliebe.de
SUMMARY:Familienflohmarkt in der Kita Feldhamsterstraße in Sürth
DESCRIPTION:F
URL:https://koelner-stadtteilliebe.de/veranstaltungen-events/familienflohmarkt-in-der-kita-feldhamsterstrasse-in-suerth/
ATTACH;FMTTYPE=image/png:https://koelner-stadtteilliebe.de/wp-content/uploads/2026/03/Hintergrund-Fruehling-2026.png
END:VEVENT
BEGIN:VEVENT
DTSTART;TZID=Europe/Berlin:20260426T130000
DTEND;TZID=Europe/Berlin:20260426T180000
DTSTAMP:20260422T110715
CREATED:20260417T060704Z
LAST-MODIFIED:20260417T060704Z
UID:120918-1777208400-1777226400@koelner-stadtteilliebe.de
SUMMARY:Ausstellung  Ursula von Rheinbaben
DESCRIPTION:Sonntag\, 26. April 2026 – Ausstellung\n\nUrsula von Rheinbaben\n\nVernissage | 26.04.2026 | 13:00 Uhr – 18:00 Uhr\n\nin der Kultur-Kirche Rondorf \n\n– Architekturbüro LINK – \n\nRondorfer Hauptstraße 45 \n\n50997 Köln-Rondorf \n\n\nVita: In Luxembourg geboren\, Schulzeit und Abitur in Köln. Künstlerische Grundausbildung bei Alfred Darda\, München. Fotografiestudium an der University of Pennsylvania\, USA. Studium der Kunsterziehung und Kunstgeschichte an der Ludwig-Maximilians-Universität München\, Staatsexamen. Estudio der Arte\, Madrid. Meisterklasse Antonio López\, Real Academia de Bellas Artes\, Madrid. Seit 1993 regelmäßige Einzelausstellungen\, malt seit 2000 in Tutzing am Starnberger See.\n\n\n\nUrsula von Rheinbaben zu ihren Bildern:\n„Für mich besteht die Welt aus einer unerschöpflichen Anzahl an Bildern. Diese vielfältigen Eindrücke an Farben\, Formen\, Bewegung\, Licht und Schatten setze ich in ganz neue gegenständliche oder abstrakte Bilder um. Im Vordergrund steht das Schaffen von etwas ganz Neuem und nicht das Abbilden von etwas schon Vorhandenem. Am wichtigsten sind mir die Farben\, die stark und positiv leuchten sollen\, weshalb ich sie zum großen Teil aus puren Pigmenten selbst herstelle.“\n\n\n\nEINTRITT FREI
URL:https://koelner-stadtteilliebe.de/veranstaltungen-events/ausstellung-ursula-von-rheinbaben/
LOCATION:Link Architekten\, Rondorfer Hauptstr. 45\, Köln\, 50997
ATTACH;FMTTYPE=image/png:https://koelner-stadtteilliebe.de/wp-content/uploads/2026/03/Hintergrund-Fruehling-2026.png
END:VEVENT
BEGIN:VEVENT
DTSTART;TZID=Europe/Berlin:20260426T130000
DTEND;TZID=Europe/Berlin:20260426T180000
DTSTAMP:20260422T110715
CREATED:20260421T130115Z
LAST-MODIFIED:20260421T130152Z
UID:121286-1777208400-1777226400@koelner-stadtteilliebe.de
SUMMARY:Ursula von Rheinbaben in der Kulturkirche in Rondorf
DESCRIPTION:
URL:https://koelner-stadtteilliebe.de/veranstaltungen-events/ursula-rheinbach-in-der-kulturkirche-in-rondorf/
LOCATION:Link Architekten\, Rondorfer Hauptstr. 45\, Köln\, 50997
ATTACH;FMTTYPE=image/png:https://koelner-stadtteilliebe.de/wp-content/uploads/2026/03/Hintergrund-Fruehling-2026.png
END:VEVENT
BEGIN:VEVENT
DTSTART;TZID=Europe/Berlin:20260426T150000
DTEND;TZID=Europe/Berlin:20260426T170000
DTSTAMP:20260422T110715
CREATED:20260405T134724Z
LAST-MODIFIED:20260406T134921Z
UID:120593-1777215600-1777222800@koelner-stadtteilliebe.de
SUMMARY:Susanne Bohne liest aus dem Kinderbuch "Stella ist still" 26.4.2026
DESCRIPTION:Ein aufregendes Erlebnis für die kleinen Bewohnerinnen und Bewohner unseres Veedels findet am 1. Sonntag der Kunst- und Kulturmeile in der Eventlocation von @about_events_official statt. Die erfolgreiche Kinderbuchautorin Susanne Bohne @halloliebewolke liest aus ihrem Kinderbuch „Stella ist still“: Eine berührende Geschichte über Mut und Selbstvertrauen. Die Lesung wird durch ein altersgerechtes Mitmachangebot ergänzt – so können die Kinder die Geschichte auf spielerische Weise erleben. Eine große Bereicherung für unsere diesjährige Kunstmeile!\n\n \n\nEmpfohlen für Kinder ab 4 Jahren\nEin Ticket gilt für ein Kind + eine Begleitperson\n26.04.2026\n15:00 Uhr\, Einlass ab 14:30 Uhr\nabout:events\, Barbarastraße 15-17\, 50996 Köln\, Rodenkirchen\nTickets:\nwww.eventim-light.com/de/a/68321f3f7664391d2f98c3aa/\noder www.aboutcommunication.de/events\n\n\n\n\n\n 
URL:https://koelner-stadtteilliebe.de/veranstaltungen-events/susanne-bohne-liest-aus-dem-kinderbuch-stella-ist-still-26-4-2026/
LOCATION:about:events\, Barbara Str. 15-17\, Köln-Rodenkirchen\, 50996
ATTACH;FMTTYPE=image/png:https://koelner-stadtteilliebe.de/wp-content/uploads/2026/03/Hintergrund-Fruehling-2026.png
END:VEVENT
BEGIN:VEVENT
DTSTART;TZID=Europe/Berlin:20260426T150000
DTEND;TZID=Europe/Berlin:20260426T200000
DTSTAMP:20260422T110715
CREATED:20260421T124126Z
LAST-MODIFIED:20260421T125125Z
UID:121272-1777215600-1777233600@koelner-stadtteilliebe.de
SUMMARY:Kinderlesung am Nachmittag und zum Abend eine Lesung für Erwachsene
DESCRIPTION:
URL:https://koelner-stadtteilliebe.de/veranstaltungen-events/familientag-pop-ups-3/
ATTACH;FMTTYPE=image/png:https://koelner-stadtteilliebe.de/wp-content/uploads/2026/03/Hintergrund-Fruehling-2026.png
END:VEVENT
BEGIN:VEVENT
DTSTART;TZID=Europe/Berlin:20260426T180000
DTEND;TZID=Europe/Berlin:20260426T193000
DTSTAMP:20260422T110715
CREATED:20260313T183559Z
LAST-MODIFIED:20260313T183559Z
UID:119808-1777226400-1777231800@koelner-stadtteilliebe.de
SUMMARY:Kölner Ukulele-Mitmach-Gottesdienst Saiten\, Segen und Gemeinschaft in der Melanchthonkirche
DESCRIPTION:Kölner Ukulele-Mitmach-Gottesdienst\nSaiten\, Segen und Gemeinschaft in der Melanchthonkirche\nVier Saiten\, gute Gedanken und ein Gottesdienst zum Mitmachen: Die Evangelische Kirchengemeinde Köln-Zollstock feiert am Sonntag\, 26. April\, 18 Uhr\, einen Ukulele-Abendgottesdienst in der Melanchthonkirche\, Breniger Straße 20. Achim Wenzel\, Ukulele-Spieler und Prädikant\, gestaltet einen Abend\, der unkompliziert\, lebendig und offen für alle ist – ob mit oder ohne Instrument. Wer Ukulele spielt\, bringt sie einfach mit; wer (noch) nicht spielt\, ist mit Stimme und Rhythmus willkommen. Leih-Shaker stehen bereit. Vorab wird ein Vorbereitungsvideo mit den Liedern des Abends zur Verfügung gestellt. Die Teilnahme ist kostenlos. Wer das Mitmach-Materialpaket erhalten möchte\, meldet sich per E-Mail an achim.wenzel@ekir.de mit dem Stichwort „Ich bin dabei!“.\nwww.melanchthonkirche.de
URL:https://koelner-stadtteilliebe.de/veranstaltungen-events/koelner-ukulele-mitmach-gottesdienst-saiten-segen-und-gemeinschaft-in-der-melanchthonkirche/
ATTACH;FMTTYPE=image/png:https://koelner-stadtteilliebe.de/wp-content/uploads/2026/03/Hintergrund-Fruehling-2026.png
END:VEVENT
BEGIN:VEVENT
DTSTART;TZID=Europe/Berlin:20260426T180000
DTEND;TZID=Europe/Berlin:20260426T200000
DTSTAMP:20260422T110715
CREATED:20260227T124641Z
LAST-MODIFIED:20260227T124641Z
UID:117267-1777226400-1777233600@koelner-stadtteilliebe.de
SUMMARY:Kölner Ukulee-Mitmach-Gottesdienst
DESCRIPTION:
URL:https://koelner-stadtteilliebe.de/veranstaltungen-events/koelner-ukulee-mitmach-gottesdienst/
LOCATION:Evangelische Kirchengemeinde Köln-Zollstock Melanchthonkirche\,\, Evangelische Kirchengemeinde Köln-Zollstock Melanchthonkirche\, Breniger Straße 18\, Köln\, 50969
ATTACH;FMTTYPE=image/png:https://koelner-stadtteilliebe.de/wp-content/uploads/2026/03/Hintergrund-Fruehling-2026.png
END:VEVENT
END:VCALENDAR