BEGIN:VCALENDAR
VERSION:2.0
PRODID:-//koelner-stadtteilliebe - ECPv6.15.20//NONSGML v1.0//EN
CALSCALE:GREGORIAN
METHOD:PUBLISH
X-ORIGINAL-URL:https://koelner-stadtteilliebe.de
X-WR-CALDESC:Veranstaltungen für koelner-stadtteilliebe
REFRESH-INTERVAL;VALUE=DURATION:PT1H
X-Robots-Tag:noindex
X-PUBLISHED-TTL:PT1H
BEGIN:VTIMEZONE
TZID:Europe/Berlin
BEGIN:DAYLIGHT
TZOFFSETFROM:+0100
TZOFFSETTO:+0200
TZNAME:CEST
DTSTART:20250330T010000
END:DAYLIGHT
BEGIN:STANDARD
TZOFFSETFROM:+0200
TZOFFSETTO:+0100
TZNAME:CET
DTSTART:20251026T010000
END:STANDARD
BEGIN:DAYLIGHT
TZOFFSETFROM:+0100
TZOFFSETTO:+0200
TZNAME:CEST
DTSTART:20260329T010000
END:DAYLIGHT
BEGIN:STANDARD
TZOFFSETFROM:+0200
TZOFFSETTO:+0100
TZNAME:CET
DTSTART:20261025T010000
END:STANDARD
BEGIN:DAYLIGHT
TZOFFSETFROM:+0100
TZOFFSETTO:+0200
TZNAME:CEST
DTSTART:20270328T010000
END:DAYLIGHT
BEGIN:STANDARD
TZOFFSETFROM:+0200
TZOFFSETTO:+0100
TZNAME:CET
DTSTART:20271031T010000
END:STANDARD
END:VTIMEZONE
BEGIN:VEVENT
DTSTART;VALUE=DATE:20260424
DTEND;VALUE=DATE:20260510
DTSTAMP:20260422T110250
CREATED:20260405T135537Z
LAST-MODIFIED:20260406T135606Z
UID:120604-1776988800-1778371199@koelner-stadtteilliebe.de
SUMMARY:Kunstmeile 2026
DESCRIPTION:
URL:https://koelner-stadtteilliebe.de/veranstaltungen-events/kunstmeile-2026/
LOCATION:Maternusplatz Rodenkirchen
ATTACH;FMTTYPE=image/png:https://koelner-stadtteilliebe.de/wp-content/uploads/2026/03/Hintergrund-Fruehling-2026.png
END:VEVENT
BEGIN:VEVENT
DTSTART;TZID=Europe/Berlin:20260430T140000
DTEND;TZID=Europe/Berlin:20260430T163000
DTSTAMP:20260422T110250
CREATED:20260301T193530Z
LAST-MODIFIED:20260301T193530Z
UID:117865-1777557600-1777566600@koelner-stadtteilliebe.de
SUMMARY:Spieltreff für Erwachsene
DESCRIPTION:Spieltreff für Erwachsene \nWas für eine nette gemischte Gruppe\, die sich donnerstags um 14 Uhr zum gemeinsamen Spielen im Jugendheim St. Blasius in Meschenich\, Brühler Landstraße 425\, trifft. Denn Gemeinschaft ist das beste Mittel gegen Einsamkeit. Am 26.3. und am 16.4. können gerne neue Mitspieler dazukommen und ihr eigenes Lieblingsspiel mitbringen! Kostenlos und ohne Anmeldung kann man dort einfach vorbeikommen\, wenn man gut gelaunt und offen für andere ist. Falls Du dazu Fragen hast\, ist Johanna Ferstl unter Tel. 01520 4895910 oder per E-Mail: Seniorennetzwerk-Meschenich@caritas.koeln.de zu erreichen und hilft gerne weiter. Überhaupt gibt es in Meschenich ein tolles Angebot für gemeinsame Zeit – die Thomas Begegnungsstätte\, das Jugendzentrum und der Seniorentreff sind großartige Orte.
URL:https://koelner-stadtteilliebe.de/veranstaltungen-events/spieltreff-fuer-erwachsene-9/
LOCATION:Jugendhaus St Blasius\, Brühler Landstraße 425\, Köln\, 50997
ATTACH;FMTTYPE=image/png:https://koelner-stadtteilliebe.de/wp-content/uploads/2026/03/Hintergrund-Fruehling-2026.png
END:VEVENT
BEGIN:VEVENT
DTSTART;TZID=Europe/Berlin:20260430T160000
DTEND;TZID=Europe/Berlin:20260430T193000
DTSTAMP:20260422T110250
CREATED:20260302T113639Z
LAST-MODIFIED:20260421T072504Z
UID:118421-1777564800-1777577400@koelner-stadtteilliebe.de
SUMMARY:Das Brunnenfest in Rondorf – – Ein traditioneller Frühjahrsauftakt
DESCRIPTION:Am 30. April ist es wieder so weit: Das Brunnenfest in Rondorf lädt alle ein\, den Frühling zu begrüßen und gemeinsam ein schönes Fest vor dem 1. Mai zu feiern. Die Veranstaltung findet in bewährter Manier am alten Dorfbrunnen an der Rondorfer Hauptstraße/Ecke Pastorastraße statt und das in einem ganz besonderen Ambiente.  Die vielen Biertischgarnituren sind stets bis auf den letzten Platz gefüllt und das bunte Treiben rund um den Brunnen schafft eine Atmosphäre\, die es in Rondorf jedes Jahr zu einem unvergesslichen Ereignis macht. Unzählige Rondorfer aus allen Altersgruppen kommen nämlich an diesem Tag zusammen und genießen die erste Veranstaltung unter freiem Himmel. Die Tische werden dann wie immer liebevoll mit kleinen Maibäumchen geschmückt sein und die Kinder können sich am Brunnen und auf einer Hüpfburg austoben\, während die Erwachsenen bei einem Kölsch und einer herzhaften Bratwurst in geselliger Runde zusammensitzen. Für die Großeltern gibt es natürlich wie immer Waffeln und Kaffee\, die bei generationsübergreifenden Gesprächen sehr beliebt sind. Es ist ein Fest für die ganze Familie – vom jüngsten Nachwuchs bis zu den Senioren\, die hier die Gemeinschaft genießen. Ratsam ist nur\, zu Fuß oder mit dem Rad zu kommen\, da die Parkplätze sehr begrenzt sind.
URL:https://koelner-stadtteilliebe.de/veranstaltungen-events/das-brunnenfest-in-rondorf-ein-traditioneller-fruehjahrsauftakt/
ATTACH;FMTTYPE=image/png:https://koelner-stadtteilliebe.de/wp-content/uploads/2026/03/Hintergrund-Fruehling-2026.png
END:VEVENT
BEGIN:VEVENT
DTSTART;TZID=Europe/Berlin:20260430T180000
DTEND;TZID=Europe/Berlin:20260430T220000
DTSTAMP:20260422T110250
CREATED:20260313T170247Z
LAST-MODIFIED:20260313T170247Z
UID:119765-1777572000-1777586400@koelner-stadtteilliebe.de
SUMMARY:Der Mallorca-Laden Tasting-Termine
DESCRIPTION:
URL:https://koelner-stadtteilliebe.de/veranstaltungen-events/der-mallorca-laden-tasting-termine-3/
LOCATION:Mallorca Laden\, Weißer Str. 25\, Köln-Rodenkirchen\, 50996
ATTACH;FMTTYPE=image/png:https://koelner-stadtteilliebe.de/wp-content/uploads/2026/03/Hintergrund-Fruehling-2026.png
END:VEVENT
BEGIN:VEVENT
DTSTART;TZID=Europe/Berlin:20260430T180000
DTEND;TZID=Europe/Berlin:20260430T223000
DTSTAMP:20260422T110250
CREATED:20260401T070406Z
LAST-MODIFIED:20260111T080538Z
UID:115113-1777572000-1777588200@koelner-stadtteilliebe.de
SUMMARY:Zwischen Kinderwagen und Rock ˋnˋ Rollator
DESCRIPTION:Es ist eine energiegeladene Revue mit Texten\, Gedichten und viel Musik von und mit Ruth Forschbach und Peter Worms\, die am 30.4 ins Bistro Verde kommt. \nDie Jahre zwischen Kinderwagen und Rock ´nˋ Rollator – ja\, wie war unsere Lebensreise eigentlich bislang und was wird noch kommen? Ein unbeschwerter oder schwerer Trip? Liegen zwischen den Jahren die Sinnfindung\, Weisheit und das Glück? Ist es das Leben\, in dem wir uns zuhause fühlen? Oder haben wir bereits über einiges den Mantel des Schweigens gelegt und nichts Genaues weiß man nicht? Fragen über Fragen! Die Schriftstellerin und Lyrikerin Ruth Forschbach und der Musiker\, Liedermacher und Sänger Peter Worms haben sich auf Spurensuche begeben und sind fündig geworden. Mal heiter\, mal nachdenklich und mit einer Prise Ironie setzt sich das Duo mit der fortschreitenden Lebensspanne auseinander. So werfen an diesem Abend die eindrücklichen Texte von Ruth Forschbach und die kraftvolle\, ausdrucksstarke Musik von Peter Worms ein Licht auf die Jahreszeiten in unserem menschlichen Dasein.\nSeien Sie gespannt auf einen vielseitigen\, unterhaltsamen Hörgenuss der besonderen Art.\nEintritt: 20.- € Karten gibt es an der Theke des Lokals.  \n 
URL:https://koelner-stadtteilliebe.de/veranstaltungen-events/zwischen-kinderwagen-und-rock-%cb%8bn%cb%8b-rollator/
LOCATION:Walterscheidt’s Bistro Verde\, Maternusstr. 6\, Köln-Rodenkirchen\, 50996
ATTACH;FMTTYPE=image/png:https://koelner-stadtteilliebe.de/wp-content/uploads/2026/03/Hintergrund-Fruehling-2026.png
END:VEVENT
BEGIN:VEVENT
DTSTART;TZID=Europe/Berlin:20260430T180000
DTEND;TZID=Europe/Berlin:20260430T233000
DTSTAMP:20260422T110250
CREATED:20260407T095234Z
LAST-MODIFIED:20260421T065340Z
UID:120638-1777572000-1777591800@koelner-stadtteilliebe.de
SUMMARY:Tanz in den Mai der Kobelbrüder von 1967 e.V.
DESCRIPTION:
URL:https://koelner-stadtteilliebe.de/veranstaltungen-events/tanz-in-den-mai-der-kobelbrueder-von-1967-e-v/
LOCATION:Ev. Kirche Rodenkirchen\, Sürther Str. 34\, Köln\, 50996
ATTACH;FMTTYPE=image/png:https://koelner-stadtteilliebe.de/wp-content/uploads/2026/03/Hintergrund-Fruehling-2026.png
END:VEVENT
BEGIN:VEVENT
DTSTART;TZID=Europe/Berlin:20260430T190000
DTEND;TZID=Europe/Berlin:20260430T210000
DTSTAMP:20260422T110250
CREATED:20260302T092856Z
LAST-MODIFIED:20260302T092856Z
UID:118345-1777575600-1777582800@koelner-stadtteilliebe.de
SUMMARY:Maibaumsetzen
DESCRIPTION:Maibaumsetzen \nAm 30.4. um 19:15 Uhr wird an St. Pius\, Gottesweg\, der Zollstocker Maibaum aufgestellt und ein kleines Rahmenprogramm verspricht Unterhaltung. Denn der Baum mit bunten Bändern geschmückt steht als Zeichen für Gemeinschaft und Frühlingsfreude im Veedel. Der Bürgerverein lädt herzlich dazu ein\, gemeinsam den Beginn des Wonnemonats Mai zu feiern.
URL:https://koelner-stadtteilliebe.de/veranstaltungen-events/maibaumsetzen/
LOCATION:St Pius
ATTACH;FMTTYPE=image/png:https://koelner-stadtteilliebe.de/wp-content/uploads/2026/03/Hintergrund-Fruehling-2026.png
END:VEVENT
BEGIN:VEVENT
DTSTART;TZID=Europe/Berlin:20260430T191500
DTEND;TZID=Europe/Berlin:20260430T220000
DTSTAMP:20260422T110250
CREATED:20251229T150806Z
LAST-MODIFIED:20251229T150806Z
UID:114176-1777576500-1777586400@koelner-stadtteilliebe.de
SUMMARY:Maibaumsetzen In Zollstock
DESCRIPTION:Donnerstag\, 30. April 2026 \n\nMaibaumsetzen \n\nOrt: Kirchplatz vor St. Pius \n\nBeginn: 19:15 Uhr \n\nAuch dieses Jahr wird vor St. Pius traditionell der Zollstocker Maibaum gesetzt. Mit bunten Bändern geschmückt steht er als Zeichen für Gemeinschaft und Frühlingsfreude im Veedel. Der Bürgerverein lädt herzlich dazu ein\, gemeinsam den Beginn des Wonnemonats Mai zu feiern. Für Getränke und ein kleines Rahmenprogramm wird gesorgt \n\n\n 
URL:https://koelner-stadtteilliebe.de/veranstaltungen-events/maibaumsetzen-in-zollstock/
LOCATION:Kirche St. Pius\, Irmgardstrasse 13\, Köln-Zollstock\, 50969
ATTACH;FMTTYPE=image/png:https://koelner-stadtteilliebe.de/wp-content/uploads/2026/03/Hintergrund-Fruehling-2026.png
END:VEVENT
BEGIN:VEVENT
DTSTART;TZID=Europe/Berlin:20260430T191500
DTEND;TZID=Europe/Berlin:20260430T233000
DTSTAMP:20260422T110250
CREATED:20260330T080754Z
LAST-MODIFIED:20260330T080754Z
UID:120307-1777576500-1777591800@koelner-stadtteilliebe.de
SUMMARY:Maibaumfest Kirch St. Pius
DESCRIPTION:
URL:https://koelner-stadtteilliebe.de/veranstaltungen-events/maibaumfest-kirch-st-pius/
LOCATION:Kirche St. Pius\, Irmgardstrasse 13\, Köln-Zollstock\, 50969
ATTACH;FMTTYPE=image/png:https://koelner-stadtteilliebe.de/wp-content/uploads/2026/03/Hintergrund-Fruehling-2026.png
END:VEVENT
BEGIN:VEVENT
DTSTART;TZID=Europe/Berlin:20260430T200000
DTEND;TZID=Europe/Berlin:20260430T220000
DTSTAMP:20260422T110250
CREATED:20260421T131752Z
LAST-MODIFIED:20260421T131752Z
UID:121318-1777579200-1777586400@koelner-stadtteilliebe.de
SUMMARY:Zwischen Kinderwagen und Rock´n Rollator im Bistro Verde
DESCRIPTION:
URL:https://koelner-stadtteilliebe.de/veranstaltungen-events/zwischen-kinderwagen-und-rockn-rollator-im-bistro-verde/
LOCATION:Bistro Verde\, Maternusstraße 6\, Köln\, 50996
ATTACH;FMTTYPE=image/png:https://koelner-stadtteilliebe.de/wp-content/uploads/2026/03/Hintergrund-Fruehling-2026.png
END:VEVENT
END:VCALENDAR