BEGIN:VCALENDAR
VERSION:2.0
PRODID:-//koelner-stadtteilliebe - ECPv6.15.20//NONSGML v1.0//EN
CALSCALE:GREGORIAN
METHOD:PUBLISH
X-ORIGINAL-URL:https://koelner-stadtteilliebe.de
X-WR-CALDESC:Veranstaltungen für koelner-stadtteilliebe
REFRESH-INTERVAL;VALUE=DURATION:PT1H
X-Robots-Tag:noindex
X-PUBLISHED-TTL:PT1H
BEGIN:VTIMEZONE
TZID:Europe/Berlin
BEGIN:DAYLIGHT
TZOFFSETFROM:+0100
TZOFFSETTO:+0200
TZNAME:CEST
DTSTART:20250330T010000
END:DAYLIGHT
BEGIN:STANDARD
TZOFFSETFROM:+0200
TZOFFSETTO:+0100
TZNAME:CET
DTSTART:20251026T010000
END:STANDARD
BEGIN:DAYLIGHT
TZOFFSETFROM:+0100
TZOFFSETTO:+0200
TZNAME:CEST
DTSTART:20260329T010000
END:DAYLIGHT
BEGIN:STANDARD
TZOFFSETFROM:+0200
TZOFFSETTO:+0100
TZNAME:CET
DTSTART:20261025T010000
END:STANDARD
BEGIN:DAYLIGHT
TZOFFSETFROM:+0100
TZOFFSETTO:+0200
TZNAME:CEST
DTSTART:20270328T010000
END:DAYLIGHT
BEGIN:STANDARD
TZOFFSETFROM:+0200
TZOFFSETTO:+0100
TZNAME:CET
DTSTART:20271031T010000
END:STANDARD
END:VTIMEZONE
BEGIN:VEVENT
DTSTART;VALUE=DATE:20260510
DTEND;VALUE=DATE:20260518
DTSTAMP:20260424T185959
CREATED:20260304T062057Z
LAST-MODIFIED:20260304T062057Z
UID:118755-1778371200-1779062399@koelner-stadtteilliebe.de
SUMMARY:Pilgern: Wallfahrt der St. Matthiasbruderschaft nach Trier
DESCRIPTION:Pilgern: Wallfahrt der St. Matthiasbruderschaft nach Trier \nIn der Woche um Christi Himmelfahrt findet die Wallfahrt zum Apostelgrab in der Benediktinerabtei St. Matthias in Trier statt. Die Pilgerinnen und Pilger machen sich dann zu Fuß auf den Weg von St. Matthias in Bayenthal nach St. Matthias in Trier. Das genaue Datum ist 10. bis 17. Mai 2026 und dazu anmelden kann man sich bei Kirche.
URL:https://koelner-stadtteilliebe.de/veranstaltungen-events/pilgern-wallfahrt-der-st-matthiasbruderschaft-nach-trier/
ATTACH;FMTTYPE=image/png:https://koelner-stadtteilliebe.de/wp-content/uploads/2026/03/Hintergrund-Fruehling-2026.png
END:VEVENT
BEGIN:VEVENT
DTSTART;VALUE=DATE:20260514
DTEND;VALUE=DATE:20260518
DTSTAMP:20260424T185959
CREATED:20260303T191215Z
LAST-MODIFIED:20260303T191215Z
UID:118600-1778716800-1779062399@koelner-stadtteilliebe.de
SUMMARY:Himmelfahrtswochenende ist Winetime in Rodenkirchen
DESCRIPTION:Himmelfahrtswochenende ist Winetime in Rodenkirchen \nWenn die Tage länger werden und der Frühling in Rodenkirchen alles in warmes Licht taucht\, ist es Zeit für die Wine Time im Ort. Vom 14. bis 17. Mai lädt der Treffpunkt Rodenkirchen dazu ein\, den Alltag hinter sich zu lassen\, gemeinsam anzustoßen und genussvolle Stunden zu erleben. Freuen Sie sich auf ausgewählte Weine\, entspannte Atmosphäre und gute Gespräche mitten im Veedel. Ob mit Freundinnen und Freunden\, der Familie oder einfach spontan auf ein Glas –die Wine Time ist der perfekte Moment\, um zusammenzukommen\, zu genießen und das Leben zu feiern. Zwischen Rheinluft\, Lachen und klirrenden Gläsern auf Maternusplatz entsteht genau das\, was Rodenkirchen ausmacht: Lebensfreude\, Begegnung und ein Gefühl. Komm vorbei\, probier dich durch\, bleib ein bisschen länger und genieße den Frühling von seiner schönsten Seite.
URL:https://koelner-stadtteilliebe.de/veranstaltungen-events/himmelfahrtswochenende-ist-winetime-in-rodenkirchen/
LOCATION:Maternusplatz
ATTACH;FMTTYPE=image/png:https://koelner-stadtteilliebe.de/wp-content/uploads/2026/03/Hintergrund-Fruehling-2026.png
END:VEVENT
BEGIN:VEVENT
DTSTART;TZID=Europe/Berlin:20260514T140000
DTEND;TZID=Europe/Berlin:20260514T163000
DTSTAMP:20260424T185959
CREATED:20260301T193643Z
LAST-MODIFIED:20260301T193643Z
UID:117871-1778767200-1778776200@koelner-stadtteilliebe.de
SUMMARY:Spieltreff für Erwachsene
DESCRIPTION:Spieltreff für Erwachsene \nWas für eine nette gemischte Gruppe\, die sich donnerstags um 14 Uhr zum gemeinsamen Spielen im Jugendheim St. Blasius in Meschenich\, Brühler Landstraße 425\, trifft. Denn Gemeinschaft ist das beste Mittel gegen Einsamkeit. Am 26.3. und am 16.4. können gerne neue Mitspieler dazukommen und ihr eigenes Lieblingsspiel mitbringen! Kostenlos und ohne Anmeldung kann man dort einfach vorbeikommen\, wenn man gut gelaunt und offen für andere ist. Falls Du dazu Fragen hast\, ist Johanna Ferstl unter Tel. 01520 4895910 oder per E-Mail: Seniorennetzwerk-Meschenich@caritas.koeln.de zu erreichen und hilft gerne weiter. Überhaupt gibt es in Meschenich ein tolles Angebot für gemeinsame Zeit – die Thomas Begegnungsstätte\, das Jugendzentrum und der Seniorentreff sind großartige Orte.
URL:https://koelner-stadtteilliebe.de/veranstaltungen-events/spieltreff-fuer-erwachsene-11/
LOCATION:Jugendhaus St Blasius\, Brühler Landstraße 425\, Köln\, 50997
ATTACH;FMTTYPE=image/png:https://koelner-stadtteilliebe.de/wp-content/uploads/2026/03/Hintergrund-Fruehling-2026.png
END:VEVENT
BEGIN:VEVENT
DTSTART;TZID=Europe/Berlin:20260514T200000
DTEND;TZID=Europe/Berlin:20260514T220000
DTSTAMP:20260424T185959
CREATED:20260304T065926Z
LAST-MODIFIED:20260327T113652Z
UID:118945-1778788800-1778796000@koelner-stadtteilliebe.de
SUMMARY:Problem Alkohol!
DESCRIPTION:Jeden Donnerstag von 20 bis 22 Uhr treffen sich die Anonymen Alkoholiker im Gemeindesaal der Melanchthonkirche in Zollstock. Sucht betrifft nämlich mehr Menschen\, als man denkt. Aus diesem Grund gibt es einmal im Monat ein vertrauliches Selbsthilfeangebot speziell für suchtkranke Menschen und ihre Angehörigen. In dieser geschützten Gruppe können Betroffene offen sprechen\, Unterstützung finden und erleben\, dass sie mit ihren Sorgen nicht allein sind. Die Treffen finden in einem sicheren Rahmen und natürlich unter psychotherapeutischer Begleitung statt. \nIn der AWO-Villa in Rodenkirchen werden solche Abende auch angeboten. Diese Gruppe ist allerdings nur für Angehörige von suchterkrankten Menschen gedacht. Dazu ist die Anmeldung erforderlich unter der genannten Mailadresse: therapie.marieporras@gmail.com. Die Termine finden am 23.03.\, 20.04. und 27.05 um 18 Uhr statt. 
URL:https://koelner-stadtteilliebe.de/veranstaltungen-events/problem-alkohol-11/
LOCATION:Melchatonkirchen\, Bornheimer Str. 1a\, Köln\, 50969
ATTACH;FMTTYPE=image/png:https://koelner-stadtteilliebe.de/wp-content/uploads/2026/03/Hintergrund-Fruehling-2026.png
END:VEVENT
END:VCALENDAR