BEGIN:VCALENDAR
VERSION:2.0
PRODID:-//koelner-stadtteilliebe - ECPv6.15.20//NONSGML v1.0//EN
CALSCALE:GREGORIAN
METHOD:PUBLISH
X-ORIGINAL-URL:https://koelner-stadtteilliebe.de
X-WR-CALDESC:Veranstaltungen für koelner-stadtteilliebe
REFRESH-INTERVAL;VALUE=DURATION:PT1H
X-Robots-Tag:noindex
X-PUBLISHED-TTL:PT1H
BEGIN:VTIMEZONE
TZID:Europe/Berlin
BEGIN:DAYLIGHT
TZOFFSETFROM:+0100
TZOFFSETTO:+0200
TZNAME:CEST
DTSTART:20250330T010000
END:DAYLIGHT
BEGIN:STANDARD
TZOFFSETFROM:+0200
TZOFFSETTO:+0100
TZNAME:CET
DTSTART:20251026T010000
END:STANDARD
BEGIN:DAYLIGHT
TZOFFSETFROM:+0100
TZOFFSETTO:+0200
TZNAME:CEST
DTSTART:20260329T010000
END:DAYLIGHT
BEGIN:STANDARD
TZOFFSETFROM:+0200
TZOFFSETTO:+0100
TZNAME:CET
DTSTART:20261025T010000
END:STANDARD
BEGIN:DAYLIGHT
TZOFFSETFROM:+0100
TZOFFSETTO:+0200
TZNAME:CEST
DTSTART:20270328T010000
END:DAYLIGHT
BEGIN:STANDARD
TZOFFSETFROM:+0200
TZOFFSETTO:+0100
TZNAME:CET
DTSTART:20271031T010000
END:STANDARD
END:VTIMEZONE
BEGIN:VEVENT
DTSTART;TZID=Europe/Berlin:20260619T143000
DTEND;TZID=Europe/Berlin:20260619T154500
DTSTAMP:20260424T173545
CREATED:20260421T134120Z
LAST-MODIFIED:20260421T134120Z
UID:121351-1781879400-1781883900@koelner-stadtteilliebe.de
SUMMARY:Tanz mit! In Kooperation mit dem Bürgerverein RADERBERG und -THAL e.V
DESCRIPTION:Wir freuen uns alle Tanzbegeisterten\, ob alt oder jung\, ob als Paar oder allein\, zum Tanz begrüßen zu dürfen. Lasst uns zu Musik von gestern und heute gemeinsam tanzen und von einem professionellen Tanzlehrer Neues lernen. Tanzt mit!\nWann: freitags von 14:30 bis 15:45 Uhr\n24.04. | 22.05. | 19.06.\nWo: Gemeindesaal Philippus-Kirchengemeinde\nAlbert-Schweitzer-Straße 3\, 50968 Köln\nKosten: Die Veranstaltung ist kostenfrei\, über Spenden freuen wir uns sehr.\nInfo: Inna Achmatow T. 01520 9092612\nE-Mail: seniorennetzwerk.raderthal@gmx.de\noder Jan Gudorf\, T. 0163 4446669\nE-Mail: jan.gudorf@raderbergundthal.de
URL:https://koelner-stadtteilliebe.de/veranstaltungen-events/tanz-mit-in-kooperation-mit-dem-buergerverein-raderberg-und-thal-e-v-3/
LOCATION:Ev. Philippus-Kirchengemeinde Köln- Raderthal\, Albert-Schweitzer-Straße 3-5\, Köln
ATTACH;FMTTYPE=image/png:https://koelner-stadtteilliebe.de/wp-content/uploads/2026/03/Hintergrund-Fruehling-2026.png
END:VEVENT
BEGIN:VEVENT
DTSTART;TZID=Europe/Berlin:20260619T143000
DTEND;TZID=Europe/Berlin:20260619T160000
DTSTAMP:20260424T173545
CREATED:20260115T104430Z
LAST-MODIFIED:20260115T104430Z
UID:115273-1781879400-1781884800@koelner-stadtteilliebe.de
SUMMARY:Tanz mit!
DESCRIPTION:Tanz mit!\nEine Kooperationsveranstaltung des SeniorenNetzwerks Raderthal und dem Bürgerverein RADERBERG und -THAL e.V.\nWir freuen uns alle Tanzbegeisterten\, ob alt oder jung\, ob als Paar oder allein\, zum Tanz begrüßen zu dürfen! Lasst uns zu Musik von gestern und heute gemeinsam tanzen und von professionellen Tanzlehrern Neues lernen. Tanzt einfach mit!\nWann: freitags ab14:30 bis 15:45 Uhr am 16.01.\, 27.2.\, 20.3.\, 24.4.\, 22.5.\, 19.6.\, 10.7.\nWo: Gemeindesaal Philippus-Kirchengemeinde\, Albert-Schweitzer-Straße 3\, 50968 Köln\nKosten: Die Veranstaltung ist kostenfrei\, über Spenden freuen wir uns sehr!\nInfo: Inna Achmatow: 01520 9092612\, seniorennetzwerk.raderthal@gmx.de oder Jan Gudorf\, T. 0163 4446669\, jan.gudorf@raderbergundthal.de
URL:https://koelner-stadtteilliebe.de/veranstaltungen-events/tanz-mit-6/
ATTACH;FMTTYPE=image/png:https://koelner-stadtteilliebe.de/wp-content/uploads/2026/03/Hintergrund-Fruehling-2026.png
END:VEVENT
END:VCALENDAR