BEGIN:VCALENDAR
VERSION:2.0
PRODID:-//koelner-stadtteilliebe - ECPv6.15.20//NONSGML v1.0//EN
CALSCALE:GREGORIAN
METHOD:PUBLISH
X-ORIGINAL-URL:https://koelner-stadtteilliebe.de
X-WR-CALDESC:Veranstaltungen für koelner-stadtteilliebe
REFRESH-INTERVAL;VALUE=DURATION:PT1H
X-Robots-Tag:noindex
X-PUBLISHED-TTL:PT1H
BEGIN:VTIMEZONE
TZID:Europe/Berlin
BEGIN:DAYLIGHT
TZOFFSETFROM:+0100
TZOFFSETTO:+0200
TZNAME:CEST
DTSTART:20250330T010000
END:DAYLIGHT
BEGIN:STANDARD
TZOFFSETFROM:+0200
TZOFFSETTO:+0100
TZNAME:CET
DTSTART:20251026T010000
END:STANDARD
BEGIN:DAYLIGHT
TZOFFSETFROM:+0100
TZOFFSETTO:+0200
TZNAME:CEST
DTSTART:20260329T010000
END:DAYLIGHT
BEGIN:STANDARD
TZOFFSETFROM:+0200
TZOFFSETTO:+0100
TZNAME:CET
DTSTART:20261025T010000
END:STANDARD
BEGIN:DAYLIGHT
TZOFFSETFROM:+0100
TZOFFSETTO:+0200
TZNAME:CEST
DTSTART:20270328T010000
END:DAYLIGHT
BEGIN:STANDARD
TZOFFSETFROM:+0200
TZOFFSETTO:+0100
TZNAME:CET
DTSTART:20271031T010000
END:STANDARD
END:VTIMEZONE
BEGIN:VEVENT
DTSTART;TZID=Europe/Berlin:20260625T190000
DTEND;TZID=Europe/Berlin:20260625T230000
DTSTAMP:20260424T155025
CREATED:20260410T141105Z
LAST-MODIFIED:20260410T141105Z
UID:120720-1782414000-1782428400@koelner-stadtteilliebe.de
SUMMARY:Lou’s THE COOL CATS – LIVE
DESCRIPTION:Lou’s The Cool Cats sind eine fantastische Swing-Band\, die mit ihrer selbstbewussten und stilvollen Präsenz beweist\, dass Swing-Musik auch in der heutigen Zeit noch voll im Trend liegt. Die Fähigkeit\, die Vergangenheit und die Gegenwart zu verbinden\, ist eine wunderbare Kunst\, die genau den Cool Cats aus Köln zuzuschreiben ist.\nDie Band setzt sich aus den Sängerinnen Lou Goldstein\, Julie van Hoeven und Peggy Sugarhill zusammen und wird von vier streunenden Katern an Kontrabass\, Klavier\, Gitarre und Schlagzeug sowie der faszinierenden Swing-Tänzerin Lucy Flournoy begleitet. \nAls Jazzband zeichnet sich Lou’s The Cool Cats durch ihre Fähigkeit aus\, klassisches Vintage-Flair mit moderner Eleganz zu vereinen und einen einzigartigen Retro-Pop-Sound zu kreieren\, der die goldenen Epochen vergangener Tage mit frischem Wind durchweht\, ohne dabei auch nur einen Hauch ihres ursprünglichen Glanzes einzubüßen. \nSie begeistern dabei nicht nur mit hinreißenden Interpretationen von Klassikern wie „Puttin on the Ritz“ und „Mr. Sandman“\, sondern auch mit neuartig gekonnt verpackten Retro-Pop-Versionen von Songs wie „Nothing Breaks Like a Heart“ von Miley Cyrus\, „Aeroplane“ von den Red Hot Chili Peppers oder „Don’t Cha“ von den Pussycat Dolls. \nMit ihrer wunderbaren Kombination aus dreistimmigem Gesang\, kleinen Tanz-Einlagen und einer großen Portion Schlagfertigkeit und Selbstironie stellen die Cool Cats und ihre Band einen wahren Augen- und Ohrenschmaus dar und garantieren ihren Zuhörer- und Zuschauer/-innen eine unvergessliche Erfahrung. \nEintritt 15 Euro zzgl. VVK (freie Sitzplatzwahl) \nGerne können Sie sich auch bei Ticketwünschen oder Rückfragen an stiftung@diakonie-michaelshoven.de wenden.  \nEinlass ab 18 Uhr\, Beginn 19 Uhr\n2x 40 Minuten zzgl. Pause \nErzengel-Michael-Kirche\, Pfarrer-te-Reh-Str. 5\, 50999 Köln \nHinweis zur Anfahrt:\nBitte nutzen Sie die Mitarbeiterparkplätze zu Beginn der Pfarrer-te-Reh Straße. Vor der Kirche stehen keine Parkplätze zur Verfügung. \nInformationen zur Veranstaltung \nBeginn:\n25.06.2026 19:00 Uhr \nEnde:\n25.06.2026 22:00 Uhr \nKosten:\n15 Euro zzgl. VVK \nVeranstaltungsort:\nErzengel-Michael-Kirche Pfarrer-te-Reh-Str. 5 50999 Köln \n(Text:Frieda Freidlich) 
URL:https://koelner-stadtteilliebe.de/veranstaltungen-events/lous-the-cool-cats-live/
LOCATION:Erzengel-Michael-Kirche\, Pfarrer-Te-Reh-Straße 7\, Köln\, 50999
ATTACH;FMTTYPE=image/png:https://koelner-stadtteilliebe.de/wp-content/uploads/2026/03/Hintergrund-Fruehling-2026.png
END:VEVENT
END:VCALENDAR