BEGIN:VCALENDAR
VERSION:2.0
PRODID:-//koelner-stadtteilliebe - ECPv6.15.20//NONSGML v1.0//EN
CALSCALE:GREGORIAN
METHOD:PUBLISH
X-ORIGINAL-URL:https://koelner-stadtteilliebe.de
X-WR-CALDESC:Veranstaltungen für koelner-stadtteilliebe
REFRESH-INTERVAL;VALUE=DURATION:PT1H
X-Robots-Tag:noindex
X-PUBLISHED-TTL:PT1H
BEGIN:VTIMEZONE
TZID:Europe/Berlin
BEGIN:DAYLIGHT
TZOFFSETFROM:+0100
TZOFFSETTO:+0200
TZNAME:CEST
DTSTART:20250330T010000
END:DAYLIGHT
BEGIN:STANDARD
TZOFFSETFROM:+0200
TZOFFSETTO:+0100
TZNAME:CET
DTSTART:20251026T010000
END:STANDARD
BEGIN:DAYLIGHT
TZOFFSETFROM:+0100
TZOFFSETTO:+0200
TZNAME:CEST
DTSTART:20260329T010000
END:DAYLIGHT
BEGIN:STANDARD
TZOFFSETFROM:+0200
TZOFFSETTO:+0100
TZNAME:CET
DTSTART:20261025T010000
END:STANDARD
BEGIN:DAYLIGHT
TZOFFSETFROM:+0100
TZOFFSETTO:+0200
TZNAME:CEST
DTSTART:20270328T010000
END:DAYLIGHT
BEGIN:STANDARD
TZOFFSETFROM:+0200
TZOFFSETTO:+0100
TZNAME:CET
DTSTART:20271031T010000
END:STANDARD
END:VTIMEZONE
BEGIN:VEVENT
DTSTART;TZID=Europe/Berlin:20260626T150000
DTEND;TZID=Europe/Berlin:20260626T220000
DTSTAMP:20260424T143508
CREATED:20260303T190246Z
LAST-MODIFIED:20260303T190246Z
UID:118559-1782486000-1782511200@koelner-stadtteilliebe.de
SUMMARY:Feierabendmarkt auf dem Chlodi
DESCRIPTION:Feierabendmarkt auf dem Chlodi\nDer Feierabendmarkt auf dem Chlodwigplatz ist mehr als nur ein Markt – er ist ein Gefühl. Ursprüngliches Südstadtfeeling und kölsche Straßenkultur\, in alle Generation machen diesen Markt nämlich sehr besonders. Denn jeden letzten Freitag im Monat verwandelt sich der Chlodwigplatz in der Kölner Südstadt in einen lebendigen Treffpunkt voller Genuss\, Begegnungen und echter Lebensfreude. Bei Kölsch\, Wein\, leckeren Cocktails und guten Rievkooche sowie abwechslungsreichem Streetfood trifft man tolle Menschen und das von 15-22 Uhr im Schatten der Severinstorburg. Was übrigens besonders praktisch ist: Der Feierabendmarkt auf dem Chlodwigplatz ist perfekt mit Bus und Bahn zu erreichen. Die Linien 15\, 16\, 17\, 106\, 132\, 133 und 142 fahren nämlich ganz unkompliziert direkt zum Marktgeschehen. Einfach aussteigen und mitten im Leben ankommen- denn Parkplätze gibt es in der Südstadt quasi keine.
URL:https://koelner-stadtteilliebe.de/veranstaltungen-events/feierabendmarkt-auf-dem-chlodi-3/
LOCATION:Chlodwigplatz\, Köln\, 50678
ATTACH;FMTTYPE=image/png:https://koelner-stadtteilliebe.de/wp-content/uploads/2026/03/Hintergrund-Fruehling-2026.png
END:VEVENT
END:VCALENDAR