BEGIN:VCALENDAR
VERSION:2.0
PRODID:-//koelner-stadtteilliebe - ECPv6.15.20//NONSGML v1.0//EN
CALSCALE:GREGORIAN
METHOD:PUBLISH
X-ORIGINAL-URL:https://koelner-stadtteilliebe.de
X-WR-CALDESC:Veranstaltungen für koelner-stadtteilliebe
REFRESH-INTERVAL;VALUE=DURATION:PT1H
X-Robots-Tag:noindex
X-PUBLISHED-TTL:PT1H
BEGIN:VTIMEZONE
TZID:Europe/Berlin
BEGIN:DAYLIGHT
TZOFFSETFROM:+0100
TZOFFSETTO:+0200
TZNAME:CEST
DTSTART:20250330T010000
END:DAYLIGHT
BEGIN:STANDARD
TZOFFSETFROM:+0200
TZOFFSETTO:+0100
TZNAME:CET
DTSTART:20251026T010000
END:STANDARD
BEGIN:DAYLIGHT
TZOFFSETFROM:+0100
TZOFFSETTO:+0200
TZNAME:CEST
DTSTART:20260329T010000
END:DAYLIGHT
BEGIN:STANDARD
TZOFFSETFROM:+0200
TZOFFSETTO:+0100
TZNAME:CET
DTSTART:20261025T010000
END:STANDARD
BEGIN:DAYLIGHT
TZOFFSETFROM:+0100
TZOFFSETTO:+0200
TZNAME:CEST
DTSTART:20270328T010000
END:DAYLIGHT
BEGIN:STANDARD
TZOFFSETFROM:+0200
TZOFFSETTO:+0100
TZNAME:CET
DTSTART:20271031T010000
END:STANDARD
END:VTIMEZONE
BEGIN:VEVENT
DTSTART;TZID=Europe/Berlin:20260801T080000
DTEND;TZID=Europe/Berlin:20260831T170000
DTSTAMP:20260424T161154
CREATED:20260120T103552Z
LAST-MODIFIED:20260120T103552Z
UID:115489-1785571200-1788195600@koelner-stadtteilliebe.de
SUMMARY:Ferienbetreuung Sommer 2026
DESCRIPTION:
URL:https://koelner-stadtteilliebe.de/veranstaltungen-events/ferienbetreuung-sommer-2026/
ATTACH;FMTTYPE=image/png:https://koelner-stadtteilliebe.de/wp-content/uploads/2026/03/Hintergrund-Fruehling-2026.png
END:VEVENT
BEGIN:VEVENT
DTSTART;TZID=Europe/Berlin:20260802T080000
DTEND;TZID=Europe/Berlin:20260802T180000
DTSTAMP:20260424T161154
CREATED:20260304T063921Z
LAST-MODIFIED:20260304T063921Z
UID:118851-1785657600-1785693600@koelner-stadtteilliebe.de
SUMMARY:Trödelmarkt am Rhein
DESCRIPTION:Direkt am Rhein\, unter der Südbrücke in Köln-Bayenthal\, lädt einmal im Monat ein ganz besonderer Trödel- und Sammlermarkt zum Stöbern\, Entdecken und Verweilen ein. Mehr als 150 Händler verwandeln das Rheinufer in eine lebendige Marktmeile mit ganz eigener Atmosphäre. Ob Antiquitäten\, Kleidung\, Spielsachen\, Sammlerstücke oder liebevoller Trödel – hier gibt es für jeden Geschmack etwas zu finden. Das Zusammenspiel aus Rheinblick\, Brückenkulisse und Markttreiben macht jeden Besuch zu einem kleinen Ausflug mit Urlaubsgefühl. Die sonntags Termine 2026 sind der 8.3.\, 12.4.\, 3.5.\, 7.6.\, 5.7.\, 2.8.\, 6.9. und 3.10.
URL:https://koelner-stadtteilliebe.de/veranstaltungen-events/troedelmarkt-am-rhein-6/
ATTACH;FMTTYPE=image/png:https://koelner-stadtteilliebe.de/wp-content/uploads/2026/03/Hintergrund-Fruehling-2026.png
END:VEVENT
BEGIN:VEVENT
DTSTART;VALUE=DATE:20260812
DTEND;VALUE=DATE:20260813
DTSTAMP:20260424T161154
CREATED:20260212T081540Z
LAST-MODIFIED:20260212T081540Z
UID:116670-1786492800-1786579199@koelner-stadtteilliebe.de
SUMMARY:Seniorenfahrten 2026 – Kreis Köln-Weiß
DESCRIPTION:Gemeinsam unterwegs – gemütlich\, gesellig und voller schöner Eindrücke \n\n\n\nAuch im Jahr 2026 lädt die Seniorengruppe St Georg die Seniorinnen und Senioren aus dem Kölner-Süden herzlich zu den beliebten Seniorenfahrten ein. Freuen Sie sich auf entspannte Ausflüge zu schönen Zielen\, gesellige Stunden bei Kaffee und Kuchen sowie angenehme Gespräche in vertrauter Runde. Lehnen Sie sich zurück\, genießen Sie die Fahrt und lassen Sie den Alltag hinter sich! \n\n\n\nTermine und Ausflugsziele 2026 \n\n\n\n1. Fahrt – Mittwoch\, 15.04.2026 \n\n\n\nCafé Flink\, Seestr. 17\, 52372 Kreuzau \n\n\n\nAnsprechpartnerin: Frau Witzel\, Tel. 02236 67769 \n\n\n\n2. Fahrt – Mittwoch\, 13.05.2026 \n\n\n\nHaus Rheinblick\, Rheinuferstr. 8\, 40789 Monheim \n\n\n\nAnsprechpartner: Frau Witzel\, Tel. 02236 67769 \n\n\n\nHerr Boese \n\n\n\n3. Fahrt – Mittwoch\, 17.06.2026 \n\n\n\nCafé Seeterrassen\, Strandweg 1\, 57462 Olpe-Sondern \n\n\n\nTel. 02236 896487 Herr Boese \n\n\n\n4. Fahrt – Mittwoch\, 22.07.2026 \n\n\n\nBirkenhof\, Mulartshütter Str. 20\, 52224 Stolberg \n\n\n\nAnsprechpartner: Herr Lambert\, Tel. 0178 8910037 \n\n\n\n5. Fahrt – Mittwoch\, 12.08.2026 \n\n\n\nRestaurant Culinarium\, Ahrweg 7\, 53507 Dernau \n\n\n\nAnsprechpartner: Herr Boese\, Tel. 02236 896487 \n\n\n\nHerr Mais\, Tel. 0163 6343623 \n\n\n\n6. Fahrt – Mittwoch\, 23.09.2026 \n\n\n\nHotel Moselblick\, 56333 Winningen Ansprechpartner Herr Mais 0163-6343623 \n\n\n\n7. Fahrt – Mittwoch\, 14.10.2026 \n\n\n\nHotel Anker\, Rheinufer 13\, 53498 Bad Breisig \n\n\n\nAnsprechpartner: Herr Lambert\, Tel. 0178 8910037 \n\n\n\nDer Fahrpreis beträgt 27\,00 € pro Person \n\n\n\n(inklusive Kaffee und Kuchen) \n\n\n\nDer Betrag ist bei der Anmeldung zu zahlen. \n\n\n\nAbfahrts- und Rückfahrzeiten \n\n\n\nAbfahrt: 12.30 Uhr \n\n\n\nHeinrichstraße 8 (bei Altenhoven\, weitere Stopps wie gehabt) \n\n\n\nRückfahrt: ca. 18.30 Uhr \n\n\n\nBei Fragen oder zur Anmeldung wenden Sie sich bitte an die genannten Ansprechpartner.
URL:https://koelner-stadtteilliebe.de/veranstaltungen-events/seniorenfahrten-2026-kreis-koeln-weiss-5/
ATTACH;FMTTYPE=image/png:https://koelner-stadtteilliebe.de/wp-content/uploads/2026/03/Hintergrund-Fruehling-2026.png
END:VEVENT
BEGIN:VEVENT
DTSTART;TZID=Europe/Berlin:20260828T150000
DTEND;TZID=Europe/Berlin:20260828T220000
DTSTAMP:20260424T161154
CREATED:20260303T190346Z
LAST-MODIFIED:20260303T190346Z
UID:118565-1787929200-1787954400@koelner-stadtteilliebe.de
SUMMARY:Feierabendmarkt auf dem Chlodi
DESCRIPTION:Feierabendmarkt auf dem Chlodi\nDer Feierabendmarkt auf dem Chlodwigplatz ist mehr als nur ein Markt – er ist ein Gefühl. Ursprüngliches Südstadtfeeling und kölsche Straßenkultur\, in alle Generation machen diesen Markt nämlich sehr besonders. Denn jeden letzten Freitag im Monat verwandelt sich der Chlodwigplatz in der Kölner Südstadt in einen lebendigen Treffpunkt voller Genuss\, Begegnungen und echter Lebensfreude. Bei Kölsch\, Wein\, leckeren Cocktails und guten Rievkooche sowie abwechslungsreichem Streetfood trifft man tolle Menschen und das von 15-22 Uhr im Schatten der Severinstorburg. Was übrigens besonders praktisch ist: Der Feierabendmarkt auf dem Chlodwigplatz ist perfekt mit Bus und Bahn zu erreichen. Die Linien 15\, 16\, 17\, 106\, 132\, 133 und 142 fahren nämlich ganz unkompliziert direkt zum Marktgeschehen. Einfach aussteigen und mitten im Leben ankommen- denn Parkplätze gibt es in der Südstadt quasi keine.
URL:https://koelner-stadtteilliebe.de/veranstaltungen-events/feierabendmarkt-auf-dem-chlodi-5/
LOCATION:Chlodwigplatz\, Köln\, 50678
ATTACH;FMTTYPE=image/png:https://koelner-stadtteilliebe.de/wp-content/uploads/2026/03/Hintergrund-Fruehling-2026.png
END:VEVENT
END:VCALENDAR